BEGIN:VCALENDAR
VERSION:2.0
PRODID:-//Southgate Progressive Synagogue - ECPv6.15.20//NONSGML v1.0//EN
CALSCALE:GREGORIAN
METHOD:PUBLISH
X-ORIGINAL-URL:https://sps.uk.com
X-WR-CALDESC:Events for Southgate Progressive Synagogue
REFRESH-INTERVAL;VALUE=DURATION:PT1H
X-Robots-Tag:noindex
X-PUBLISHED-TTL:PT1H
BEGIN:VTIMEZONE
TZID:Europe/London
BEGIN:DAYLIGHT
TZOFFSETFROM:+0000
TZOFFSETTO:+0100
TZNAME:BST
DTSTART:20220327T010000
END:DAYLIGHT
BEGIN:STANDARD
TZOFFSETFROM:+0100
TZOFFSETTO:+0000
TZNAME:GMT
DTSTART:20221030T010000
END:STANDARD
BEGIN:DAYLIGHT
TZOFFSETFROM:+0000
TZOFFSETTO:+0100
TZNAME:BST
DTSTART:20230326T010000
END:DAYLIGHT
BEGIN:STANDARD
TZOFFSETFROM:+0100
TZOFFSETTO:+0000
TZNAME:GMT
DTSTART:20231029T010000
END:STANDARD
BEGIN:DAYLIGHT
TZOFFSETFROM:+0000
TZOFFSETTO:+0100
TZNAME:BST
DTSTART:20240331T010000
END:DAYLIGHT
BEGIN:STANDARD
TZOFFSETFROM:+0100
TZOFFSETTO:+0000
TZNAME:GMT
DTSTART:20241027T010000
END:STANDARD
BEGIN:DAYLIGHT
TZOFFSETFROM:+0000
TZOFFSETTO:+0100
TZNAME:BST
DTSTART:20250330T010000
END:DAYLIGHT
BEGIN:STANDARD
TZOFFSETFROM:+0100
TZOFFSETTO:+0000
TZNAME:GMT
DTSTART:20251026T010000
END:STANDARD
END:VTIMEZONE
BEGIN:VEVENT
DTSTART;TZID=Europe/London:20231111T110000
DTEND;TZID=Europe/London:20231111T110000
DTSTAMP:20260423T111208
CREATED:20231102T154113Z
LAST-MODIFIED:20231102T154113Z
UID:7414-1699700400-1699700400@sps.uk.com
SUMMARY:Shabbat Service 2
DESCRIPTION:Click here for Service 2 page 112 \nClick here for this week's readings \n  \n  \nIf you have a Yahrzeit and would like to have a mitzvah either on Zoom or at the Synagogue\, please email the office and we will allocate the reading of your choice\, if available. If attending in person\, you will be given priority when booking your place. \nOur prayer for those who are sick is recited at the Shabbat morning service so please let the office know if there is anyone you would like added to that list.
URL:https://sps.uk.com/event/shabbat-service-2-22/
CATEGORIES:Shabbat Services
END:VEVENT
BEGIN:VEVENT
DTSTART;TZID=Europe/London:20231117T183000
DTEND;TZID=Europe/London:20231117T183000
DTSTAMP:20260423T111208
CREATED:20231102T153302Z
LAST-MODIFIED:20231116T115342Z
UID:7406-1700245800-1700245800@sps.uk.com
SUMMARY:Erev Shabbat Service 3
DESCRIPTION:Early Friday Shabbat Service and Chavurah Supper 6.30 pm \nThis Erev Shabbat is an early informal service and Chavurah bring and share supper starting at 6.30pm. \n Please contact Barbara Martin by email - house@sps.uk.com or call on 0208 360 1319 for catering purposes. \n 
URL:https://sps.uk.com/event/erev-shabbat-service-3-19/
CATEGORIES:Shabbat Services
END:VEVENT
BEGIN:VEVENT
DTSTART;TZID=Europe/London:20231118T110000
DTEND;TZID=Europe/London:20231118T110000
DTSTAMP:20260423T111208
CREATED:20231102T154144Z
LAST-MODIFIED:20231102T154144Z
UID:7416-1700305200-1700305200@sps.uk.com
SUMMARY:Shabbat Service 3
DESCRIPTION:Click here for Service 3 page 117 \nClick here for this week's readings \n  \n  \nIf you have a Yahrzeit and would like to have a mitzvah either on Zoom or at the Synagogue\, please email the office and we will allocate the reading of your choice\, if available. If attending in person\, you will be given priority when booking your place. \nOur prayer for those who are sick is recited at the Shabbat morning service so please let the office know if there is anyone you would like added to that list. \n 
URL:https://sps.uk.com/event/shabbat-service-3-19/
CATEGORIES:Shabbat Services
END:VEVENT
BEGIN:VEVENT
DTSTART;TZID=Europe/London:20231124T200000
DTEND;TZID=Europe/London:20231124T200000
DTSTAMP:20260423T111208
CREATED:20231102T153329Z
LAST-MODIFIED:20231102T153329Z
UID:7408-1700856000-1700856000@sps.uk.com
SUMMARY:Erev Shabbat Service 4
DESCRIPTION:Click here for Service 4 page 84 \nClick here for this week's reading \n  \n  \n 
URL:https://sps.uk.com/event/erev-shabbat-service-4-21/
CATEGORIES:Shabbat Services
END:VEVENT
BEGIN:VEVENT
DTSTART;TZID=Europe/London:20231125T110000
DTEND;TZID=Europe/London:20231125T110000
DTSTAMP:20260423T111208
CREATED:20231102T154210Z
LAST-MODIFIED:20231102T154210Z
UID:7418-1700910000-1700910000@sps.uk.com
SUMMARY:Shabbat Service 4
DESCRIPTION:Click here for Service 4 page 122 \nClick here for this week's readings \n  \n  \nIf you have a Yahrzeit and would like to have a mitzvah either on Zoom or at the Synagogue\, please email the office and we will allocate the reading of your choice\, if available. If attending in person\, you will be given priority when booking your place. \nOur prayer for those who are sick is recited at the Shabbat morning service so please let the office know if there is anyone you would like added to that list. \n 
URL:https://sps.uk.com/event/shabbat-service-4-22/
CATEGORIES:Shabbat Services
END:VEVENT
BEGIN:VEVENT
DTSTART;TZID=Europe/London:20231201T200000
DTEND;TZID=Europe/London:20231201T200000
DTSTAMP:20260423T111208
CREATED:20231102T153924Z
LAST-MODIFIED:20231102T153924Z
UID:7410-1701460800-1701460800@sps.uk.com
SUMMARY:Erev Shabbat Service 1
DESCRIPTION:Click here for Service 1 page 69 \nClick here for this week's reading \n  \n\n 
URL:https://sps.uk.com/event/erev-shabbat-service-1-22/
CATEGORIES:Shabbat Services
END:VEVENT
BEGIN:VEVENT
DTSTART;TZID=Europe/London:20231202T110000
DTEND;TZID=Europe/London:20231202T110000
DTSTAMP:20260423T111208
CREATED:20231102T154234Z
LAST-MODIFIED:20231102T154234Z
UID:7420-1701514800-1701514800@sps.uk.com
SUMMARY:Shabbat Service 1
DESCRIPTION:Click here for Service 1 page 105 \nClick here for this week's readings \n  \n  \nIf you have a Yahrzeit and would like to have a mitzvah either on Zoom or at the Synagogue\, please email the office and we will allocate the reading of your choice\, if available. If attending in person\, you will be given priority when booking your place. \nOur prayer for those who are sick is recited at the Shabbat morning service so please let the office know if there is anyone you would like added to that list. \n 
URL:https://sps.uk.com/event/shabbat-service-1-22/
CATEGORIES:Shabbat Services
END:VEVENT
BEGIN:VEVENT
DTSTART;TZID=Europe/London:20231208T200000
DTEND;TZID=Europe/London:20231208T200000
DTSTAMP:20260423T111208
CREATED:20231109T174728Z
LAST-MODIFIED:20231109T174728Z
UID:7478-1702065600-1702065600@sps.uk.com
SUMMARY:Erev Shabbat Service 2
DESCRIPTION:Click here for tonight's service \nClick here for this week's reading \n  \n  \n 
URL:https://sps.uk.com/event/erev-shabbat-service-2-22/
CATEGORIES:Shabbat Services
END:VEVENT
BEGIN:VEVENT
DTSTART;TZID=Europe/London:20231209T110000
DTEND;TZID=Europe/London:20231209T110000
DTSTAMP:20260423T111208
CREATED:20231109T175006Z
LAST-MODIFIED:20231109T175006Z
UID:7484-1702119600-1702119600@sps.uk.com
SUMMARY:Shabbat Service 2
DESCRIPTION:Click here for Service 2 page 112 \nClick here for this week's readings \n  \n  \nIf you have a Yahrzeit and would like to have a mitzvah either on Zoom or at the Synagogue\, please email the office and we will allocate the reading of your choice\, if available. If attending in person\, you will be given priority when booking your place. \nOur prayer for those who are sick is recited at the Shabbat morning service so please let the office know if there is anyone you would like added to that list.
URL:https://sps.uk.com/event/shabbat-service-2-23/
CATEGORIES:Shabbat Services
END:VEVENT
BEGIN:VEVENT
DTSTART;TZID=Europe/London:20231215T183000
DTEND;TZID=Europe/London:20231215T183000
DTSTAMP:20260423T111208
CREATED:20231214T115851Z
LAST-MODIFIED:20231214T115851Z
UID:7660-1702665000-1702665000@sps.uk.com
SUMMARY:Erev Shabbat informal service and Chavurah bring and share supper
DESCRIPTION:An early informal service and Chavurah bring and share supper. \n Please contact Barbara Martin by email on house@spsuk.com for catering purposes.   \n  \n  \n  \n 
URL:https://sps.uk.com/event/erev-shabbat-informal-service-and-chavurah-bring-and-share-supper/
CATEGORIES:Shabbat Services
END:VEVENT
BEGIN:VEVENT
DTSTART;TZID=Europe/London:20231216T110000
DTEND;TZID=Europe/London:20231216T110000
DTSTAMP:20260423T111208
CREATED:20231109T175031Z
LAST-MODIFIED:20231109T175031Z
UID:7486-1702724400-1702724400@sps.uk.com
SUMMARY:Shabbat Service 3
DESCRIPTION:Click here for Service 3 page 117 \nClick here for this week's readings \n  \n  \nIf you have a Yahrzeit and would like to have a mitzvah either on Zoom or at the Synagogue\, please email the office and we will allocate the reading of your choice\, if available. If attending in person\, you will be given priority when booking your place. \nOur prayer for those who are sick is recited at the Shabbat morning service so please let the office know if there is anyone you would like added to that list. \n 
URL:https://sps.uk.com/event/shabbat-service-3-20/
CATEGORIES:Shabbat Services
END:VEVENT
BEGIN:VEVENT
DTSTART;TZID=Europe/London:20231222T183000
DTEND;TZID=Europe/London:20231222T183000
DTSTAMP:20260423T111208
CREATED:20231109T174930Z
LAST-MODIFIED:20231130T115748Z
UID:7482-1703269800-1703269800@sps.uk.com
SUMMARY:Erev Shabbat Service 4
DESCRIPTION:Click here for Service 4 page 84 \nClick here for this week's reading \n  \n  \n 
URL:https://sps.uk.com/event/erev-shabbat-service-4-22/
CATEGORIES:Shabbat Services
END:VEVENT
BEGIN:VEVENT
DTSTART;TZID=Europe/London:20231223T110000
DTEND;TZID=Europe/London:20231223T110000
DTSTAMP:20260423T111208
CREATED:20231109T175055Z
LAST-MODIFIED:20231130T120252Z
UID:7488-1703329200-1703329200@sps.uk.com
SUMMARY:Shabbat Service at Finchley
DESCRIPTION:PLEASE NOTE THAT THIS SERVICE WILL BE AT FINCHLEY\n  \n  \nIf you have a Yahrzeit and would like to have a mitzvah either on Zoom or at the Synagogue\, please email the office and we will allocate the reading of your choice\, if available. If attending in person\, you will be given priority when booking your place. \nOur prayer for those who are sick is recited at the Shabbat morning service so please let the office know if there is anyone you would like added to that list. \n 
URL:https://sps.uk.com/event/shabbat-service-4-23/
CATEGORIES:Shabbat Services
END:VEVENT
BEGIN:VEVENT
DTSTART;TZID=Europe/London:20231229T183000
DTEND;TZID=Europe/London:20231229T183000
DTSTAMP:20260423T111208
CREATED:20231109T175136Z
LAST-MODIFIED:20231130T120312Z
UID:7490-1703874600-1703874600@sps.uk.com
SUMMARY:Erev Shabbat Service at Finchley
DESCRIPTION:PLEASE NOTE THAT THIS SERVICE WILL BE AT FINCHLEY\n  \n  \n 
URL:https://sps.uk.com/event/erev-shabbat-service-5-7/
CATEGORIES:Shabbat Services
END:VEVENT
BEGIN:VEVENT
DTSTART;TZID=Europe/London:20231230T110000
DTEND;TZID=Europe/London:20231230T110000
DTSTAMP:20260423T111208
CREATED:20231109T175210Z
LAST-MODIFIED:20231109T175210Z
UID:7492-1703934000-1703934000@sps.uk.com
SUMMARY:Shabbat Service 5
DESCRIPTION:  \n \nClick here for Service 5 page 129 \nClick here for this week's readings \n  \n  \nIf you have a Yahrzeit and would like to have a mitzvah either on Zoom or at the Synagogue\, please email the office and we will allocate the reading of your choice\, if available. If attending in person\, you will be given priority when booking your place. \nOur prayer for those who are sick is recited at the Shabbat morning service so please let the office know if there is anyone you would like added to that list.
URL:https://sps.uk.com/event/shabbat-service-5-8/
CATEGORIES:Shabbat Services
END:VEVENT
BEGIN:VEVENT
DTSTART;TZID=Europe/London:20240105T200000
DTEND;TZID=Europe/London:20240105T200000
DTSTAMP:20260423T111208
CREATED:20231219T121653Z
LAST-MODIFIED:20231219T121653Z
UID:7676-1704484800-1704484800@sps.uk.com
SUMMARY:Erev Shabbat Service 1
DESCRIPTION:Click here for Service 1 page 69 \nClick here for this week's reading \n  \n\n 
URL:https://sps.uk.com/event/erev-shabbat-service-1-23/
CATEGORIES:Shabbat Services
END:VEVENT
BEGIN:VEVENT
DTSTART;TZID=Europe/London:20240106T100000
DTEND;TZID=Europe/London:20240106T110000
DTSTAMP:20260423T111208
CREATED:20231228T123108Z
LAST-MODIFIED:20231228T123108Z
UID:7764-1704535200-1704538800@sps.uk.com
SUMMARY:Coffee & Schmooze
DESCRIPTION:
URL:https://sps.uk.com/event/coffee-schmooze-12/
CATEGORIES:Shabbat Services
END:VEVENT
BEGIN:VEVENT
DTSTART;TZID=Europe/London:20240106T110000
DTEND;TZID=Europe/London:20240106T110000
DTSTAMP:20260423T111208
CREATED:20231219T122100Z
LAST-MODIFIED:20231219T122100Z
UID:7687-1704538800-1704538800@sps.uk.com
SUMMARY:Shabbat Service 1
DESCRIPTION:Click here for Service 1 page 105 \nClick here for this week's readings \n  \n  \nIf you have a Yahrzeit and would like to have a mitzvah either on Zoom or at the Synagogue\, please email the office and we will allocate the reading of your choice\, if available. If attending in person\, you will be given priority when booking your place. \nOur prayer for those who are sick is recited at the Shabbat morning service so please let the office know if there is anyone you would like added to that list. \n 
URL:https://sps.uk.com/event/shabbat-service-1-23/
CATEGORIES:Shabbat Services
END:VEVENT
BEGIN:VEVENT
DTSTART;TZID=Europe/London:20240112T200000
DTEND;TZID=Europe/London:20240112T200000
DTSTAMP:20260423T111208
CREATED:20231219T121726Z
LAST-MODIFIED:20231219T121726Z
UID:7678-1705089600-1705089600@sps.uk.com
SUMMARY:Erev Shabbat Service 2
DESCRIPTION:Click here for tonight's service \nClick here for this week's reading \n  \n  \n 
URL:https://sps.uk.com/event/erev-shabbat-service-2-23/
CATEGORIES:Shabbat Services
END:VEVENT
BEGIN:VEVENT
DTSTART;TZID=Europe/London:20240113T110000
DTEND;TZID=Europe/London:20240113T110000
DTSTAMP:20260423T111208
CREATED:20231219T122128Z
LAST-MODIFIED:20231219T122128Z
UID:7689-1705143600-1705143600@sps.uk.com
SUMMARY:Shabbat Service 2
DESCRIPTION:Click here for Service 2 page 112 \nClick here for this week's readings \n  \n  \nIf you have a Yahrzeit and would like to have a mitzvah either on Zoom or at the Synagogue\, please email the office and we will allocate the reading of your choice\, if available. If attending in person\, you will be given priority when booking your place. \nOur prayer for those who are sick is recited at the Shabbat morning service so please let the office know if there is anyone you would like added to that list.
URL:https://sps.uk.com/event/shabbat-service-2-24/
CATEGORIES:Shabbat Services
END:VEVENT
BEGIN:VEVENT
DTSTART;TZID=Europe/London:20240113T123000
DTEND;TZID=Europe/London:20240113T123000
DTSTAMP:20260423T111208
CREATED:20231228T122620Z
LAST-MODIFIED:20231228T122620Z
UID:7762-1705149000-1705149000@sps.uk.com
SUMMARY:Saturday Morning Shiur
DESCRIPTION:Rabbi Michael's lunch-and-learn Shiurim - Shabbat 13 January \nRabbi Michael’s monthly lunch-and-learn Shiur at around 12.30 pm in the Baron Harris Room. \nGenerally\, on the second Shabbat of each month Rabbi Michael Standfield holds a Shiur.  Lunch will not be provided\, it will instead be a Chavura-style lunch - please bring lunch for yourself\, and if possible\, something that you can share with others; tea and coffee will be provided. \nThese informal sessions are always interesting and entertaining\, starting with a discussion loosely based on the weekly Parasha\, which generally leads to amusing tales from Michael’s experiences as a Rabbi over many years. \nNo prior knowledge is required.
URL:https://sps.uk.com/event/saturday-morning-shiur-12/
CATEGORIES:Services,Shabbat Services
END:VEVENT
BEGIN:VEVENT
DTSTART;TZID=Europe/London:20240119T200000
DTEND;TZID=Europe/London:20240119T200000
DTSTAMP:20260423T111208
CREATED:20231219T121830Z
LAST-MODIFIED:20231219T121830Z
UID:7681-1705694400-1705694400@sps.uk.com
SUMMARY:Erev Shabbat Service 3
DESCRIPTION:Click here for Service 3 page 79 \nClick here for this week's reading \n 
URL:https://sps.uk.com/event/erev-shabbat-service-3-20/
CATEGORIES:Shabbat Services
END:VEVENT
BEGIN:VEVENT
DTSTART;TZID=Europe/London:20240120T110000
DTEND;TZID=Europe/London:20240120T110000
DTSTAMP:20260423T111208
CREATED:20231219T122154Z
LAST-MODIFIED:20231219T122154Z
UID:7691-1705748400-1705748400@sps.uk.com
SUMMARY:Shabbat Service 3
DESCRIPTION:Click here for Service 3 page 117 \nClick here for this week's readings \n  \n  \nIf you have a Yahrzeit and would like to have a mitzvah either on Zoom or at the Synagogue\, please email the office and we will allocate the reading of your choice\, if available. If attending in person\, you will be given priority when booking your place. \nOur prayer for those who are sick is recited at the Shabbat morning service so please let the office know if there is anyone you would like added to that list. \n 
URL:https://sps.uk.com/event/shabbat-service-3-21/
CATEGORIES:Shabbat Services
END:VEVENT
BEGIN:VEVENT
DTSTART;TZID=Europe/London:20240126T200000
DTEND;TZID=Europe/London:20240126T200000
DTSTAMP:20260423T111208
CREATED:20231219T121859Z
LAST-MODIFIED:20231219T121859Z
UID:7683-1706299200-1706299200@sps.uk.com
SUMMARY:Erev Shabbat Service 4
DESCRIPTION:Click here for Service 4 page 84 \nClick here for this week's reading \n  \n  \n 
URL:https://sps.uk.com/event/erev-shabbat-service-4-23/
CATEGORIES:Shabbat Services
END:VEVENT
BEGIN:VEVENT
DTSTART;TZID=Europe/London:20240127T110000
DTEND;TZID=Europe/London:20240127T110000
DTSTAMP:20260423T111208
CREATED:20231219T122219Z
LAST-MODIFIED:20240126T101353Z
UID:7693-1706353200-1706353200@sps.uk.com
SUMMARY:Shabbat Service 4
DESCRIPTION:  \nClick here for Service 4 page 122 \nClick here for this week's readings \n  \n  \nIf you have a Yahrzeit and would like to have a mitzvah either on Zoom or at the Synagogue\, please email the office and we will allocate the reading of your choice\, if available. If attending in person\, you will be given priority when booking your place. \nOur prayer for those who are sick is recited at the Shabbat morning service so please let the office know if there is anyone you would like added to that list. \n 
URL:https://sps.uk.com/event/shabbat-service-4-24/
CATEGORIES:Shabbat Services
END:VEVENT
BEGIN:VEVENT
DTSTART;TZID=Europe/London:20240202T200000
DTEND;TZID=Europe/London:20240202T200000
DTSTAMP:20260423T111208
CREATED:20231219T122841Z
LAST-MODIFIED:20231219T122841Z
UID:7715-1706904000-1706904000@sps.uk.com
SUMMARY:Erev Shabbat Service 1
DESCRIPTION:Click here for Service 1 page 69 \nClick here for this week's reading \n  \n\n 
URL:https://sps.uk.com/event/erev-shabbat-service-1-24/
CATEGORIES:Shabbat Services
END:VEVENT
BEGIN:VEVENT
DTSTART;TZID=Europe/London:20240203T110000
DTEND;TZID=Europe/London:20240203T110000
DTSTAMP:20260423T111208
CREATED:20231219T122909Z
LAST-MODIFIED:20231219T122909Z
UID:7717-1706958000-1706958000@sps.uk.com
SUMMARY:Shabbat Service 1
DESCRIPTION:Click here for Service 1 page 105 \nClick here for this week's readings \n  \n  \nIf you have a Yahrzeit and would like to have a mitzvah either on Zoom or at the Synagogue\, please email the office and we will allocate the reading of your choice\, if available. If attending in person\, you will be given priority when booking your place. \nOur prayer for those who are sick is recited at the Shabbat morning service so please let the office know if there is anyone you would like added to that list. \n 
URL:https://sps.uk.com/event/shabbat-service-1-24/
CATEGORIES:Shabbat Services
END:VEVENT
BEGIN:VEVENT
DTSTART;TZID=Europe/London:20240209T200000
DTEND;TZID=Europe/London:20240209T200000
DTSTAMP:20260423T111208
CREATED:20240108T154653Z
LAST-MODIFIED:20240108T154653Z
UID:7791-1707508800-1707508800@sps.uk.com
SUMMARY:Erev Shabbat Service 2
DESCRIPTION:Click here for tonight's service \nClick here for this week's reading \n  \n  \n 
URL:https://sps.uk.com/event/erev-shabbat-service-2-24/
CATEGORIES:Shabbat Services
END:VEVENT
BEGIN:VEVENT
DTSTART;TZID=Europe/London:20240210T110000
DTEND;TZID=Europe/London:20240210T110000
DTSTAMP:20260423T111208
CREATED:20240108T154918Z
LAST-MODIFIED:20240108T154918Z
UID:7801-1707562800-1707562800@sps.uk.com
SUMMARY:Shabbat Service 2
DESCRIPTION:Click here for Service 2 page 112 \nClick here for this week's readings \n  \n  \nIf you have a Yahrzeit and would like to have a mitzvah either on Zoom or at the Synagogue\, please email the office and we will allocate the reading of your choice\, if available. If attending in person\, you will be given priority when booking your place. \nOur prayer for those who are sick is recited at the Shabbat morning service so please let the office know if there is anyone you would like added to that list.
URL:https://sps.uk.com/event/shabbat-service-2-25/
CATEGORIES:Shabbat Services
END:VEVENT
BEGIN:VEVENT
DTSTART;TZID=Europe/London:20240216T183000
DTEND;TZID=Europe/London:20240216T183000
DTSTAMP:20260423T111208
CREATED:20240215T114733Z
LAST-MODIFIED:20240215T114733Z
UID:8020-1708108200-1708108200@sps.uk.com
SUMMARY:Erev Shabbat informal service and Chavurah bring and share supper
DESCRIPTION:An early informal service and Chavurah bring and share supper. \n Please contact Barbara Martin by email on house@spsuk.com for catering purposes.   \n  \n  \n  \n 
URL:https://sps.uk.com/event/erev-shabbat-informal-service-and-chavurah-bring-and-share-supper-2/
CATEGORIES:Shabbat Services
END:VEVENT
END:VCALENDAR