BEGIN:VCALENDAR
VERSION:2.0
PRODID:-//Southgate Progressive Synagogue - ECPv6.15.20//NONSGML v1.0//EN
CALSCALE:GREGORIAN
METHOD:PUBLISH
X-ORIGINAL-URL:https://sps.uk.com
X-WR-CALDESC:Events for Southgate Progressive Synagogue
REFRESH-INTERVAL;VALUE=DURATION:PT1H
X-Robots-Tag:noindex
X-PUBLISHED-TTL:PT1H
BEGIN:VTIMEZONE
TZID:Europe/London
BEGIN:DAYLIGHT
TZOFFSETFROM:+0000
TZOFFSETTO:+0100
TZNAME:BST
DTSTART:20230326T010000
END:DAYLIGHT
BEGIN:STANDARD
TZOFFSETFROM:+0100
TZOFFSETTO:+0000
TZNAME:GMT
DTSTART:20231029T010000
END:STANDARD
BEGIN:DAYLIGHT
TZOFFSETFROM:+0000
TZOFFSETTO:+0100
TZNAME:BST
DTSTART:20240331T010000
END:DAYLIGHT
BEGIN:STANDARD
TZOFFSETFROM:+0100
TZOFFSETTO:+0000
TZNAME:GMT
DTSTART:20241027T010000
END:STANDARD
BEGIN:DAYLIGHT
TZOFFSETFROM:+0000
TZOFFSETTO:+0100
TZNAME:BST
DTSTART:20250330T010000
END:DAYLIGHT
BEGIN:STANDARD
TZOFFSETFROM:+0100
TZOFFSETTO:+0000
TZNAME:GMT
DTSTART:20251026T010000
END:STANDARD
END:VTIMEZONE
BEGIN:VEVENT
DTSTART;TZID=Europe/London:20240622T110000
DTEND;TZID=Europe/London:20240622T110000
DTSTAMP:20260423T201455
CREATED:20240314T172318Z
LAST-MODIFIED:20240523T163552Z
UID:8258-1719054000-1719054000@sps.uk.com
SUMMARY:Shabbat Morning Service & Bar Mitzvah
DESCRIPTION:If you have a Yahrzeit and would like to have a mitzvah either on Zoom or at the Synagogue\, please email the office and we will allocate the reading of your choice\, if available. If attending in person\, you will be given priority when booking your place. \nOur prayer for those who are sick is recited at the Shabbat morning service so please let the office know if there is anyone you would like added to that list. \n 
URL:https://sps.uk.com/event/shabbat-morning-service-bar-mitzvah/
CATEGORIES:Shabbat Services
END:VEVENT
BEGIN:VEVENT
DTSTART;TZID=Europe/London:20240628T200000
DTEND;TZID=Europe/London:20240628T200000
DTSTAMP:20260423T201455
CREATED:20240314T171457Z
LAST-MODIFIED:20240314T171457Z
UID:8234-1719604800-1719604800@sps.uk.com
SUMMARY:Erev Shabbat Service
DESCRIPTION:  \n  \n\n 
URL:https://sps.uk.com/event/erev-shabbat-service-17/
CATEGORIES:Shabbat Services
END:VEVENT
BEGIN:VEVENT
DTSTART;TZID=Europe/London:20240629T110000
DTEND;TZID=Europe/London:20240629T110000
DTSTAMP:20260423T201455
CREATED:20240407T181836Z
LAST-MODIFIED:20240407T181836Z
UID:8355-1719658800-1719658800@sps.uk.com
SUMMARY:Shabbat Family Service
DESCRIPTION:  \n  \n  \n  \n  \nIf you have a Yahrzeit and would like to have a mitzvah either on Zoom or at the Synagogue\, please email the office and we will allocate the reading of your choice\, if available. If attending in person\, you will be given priority when booking your place. \nOur prayer for those who are sick is recited at the Shabbat morning service so please let the office know if there is anyone you would like added to that list. \n 
URL:https://sps.uk.com/event/shabbat-family-service/
CATEGORIES:Shabbat Services
END:VEVENT
BEGIN:VEVENT
DTSTART;TZID=Europe/London:20240705T200000
DTEND;TZID=Europe/London:20240705T200000
DTSTAMP:20260423T201455
CREATED:20240314T172457Z
LAST-MODIFIED:20240314T172457Z
UID:8263-1720209600-1720209600@sps.uk.com
SUMMARY:Erev Shabbat Service
DESCRIPTION:  \n  \n\n 
URL:https://sps.uk.com/event/erev-shabbat-service-9/
CATEGORIES:Shabbat Services
END:VEVENT
BEGIN:VEVENT
DTSTART;TZID=Europe/London:20240706T110000
DTEND;TZID=Europe/London:20240706T110000
DTSTAMP:20260423T201455
CREATED:20240314T172425Z
LAST-MODIFIED:20240314T172425Z
UID:8261-1720263600-1720263600@sps.uk.com
SUMMARY:Shabbat Morning Service & Bar Mitzvah
DESCRIPTION:If you have a Yahrzeit and would like to have a mitzvah either on Zoom or at the Synagogue\, please email the office and we will allocate the reading of your choice\, if available. If attending in person\, you will be given priority when booking your place. \nOur prayer for those who are sick is recited at the Shabbat morning service so please let the office know if there is anyone you would like added to that list. \n 
URL:https://sps.uk.com/event/shabbat-morning-service-bar-mitzvah-2/
CATEGORIES:Shabbat Services
END:VEVENT
BEGIN:VEVENT
DTSTART;TZID=Europe/London:20240712T200000
DTEND;TZID=Europe/London:20240712T200000
DTSTAMP:20260423T201455
CREATED:20240512T084423Z
LAST-MODIFIED:20240512T084423Z
UID:8471-1720814400-1720814400@sps.uk.com
SUMMARY:Erev Shabbat Service
DESCRIPTION:  \n  \n\n 
URL:https://sps.uk.com/event/erev-shabbat-service-18/
CATEGORIES:Shabbat Services
END:VEVENT
BEGIN:VEVENT
DTSTART;TZID=Europe/London:20240713T110000
DTEND;TZID=Europe/London:20240713T110000
DTSTAMP:20260423T201455
CREATED:20240512T084553Z
LAST-MODIFIED:20240512T084553Z
UID:8477-1720868400-1720868400@sps.uk.com
SUMMARY:Shabbat Morning Service
DESCRIPTION:If you have a Yahrzeit and would like to have a mitzvah either on Zoom or at the Synagogue\, please email the office and we will allocate the reading of your choice\, if available. If attending in person\, you will be given priority when booking your place. \nOur prayer for those who are sick is recited at the Shabbat morning service so please let the office know if there is anyone you would like added to that list. \n 
URL:https://sps.uk.com/event/shabbat-morning-service-14/
CATEGORIES:Shabbat Services
END:VEVENT
BEGIN:VEVENT
DTSTART;TZID=Europe/London:20240713T123000
DTEND;TZID=Europe/London:20240713T123000
DTSTAMP:20260423T201455
CREATED:20240526T141320Z
LAST-MODIFIED:20240526T141342Z
UID:8521-1720873800-1720873800@sps.uk.com
SUMMARY:Saturday Morning Shiur
DESCRIPTION:Rabbi Michael’s monthly lunch-and-learn Shiur at around 12.30 pm in the Baron Harris Room. \nGenerally\, on the second Shabbat of each month Rabbi Michael Standfield holds a Shiur.  Lunch will not be provided\, it will instead be a Chavura-style lunch - please bring lunch for yourself\, and if possible\, something that you can share with others; tea and coffee will be provided. \nThese informal sessions are always interesting and entertaining\, starting with a discussion loosely based on the weekly Parasha\, which generally leads to amusing tales from Michael’s experiences as a Rabbi over many years. \nNo prior knowledge is required.
URL:https://sps.uk.com/event/saturday-morning-shiur-17/
CATEGORIES:Services,Shabbat Services
END:VEVENT
BEGIN:VEVENT
DTSTART;TZID=Europe/London:20240719T170000
DTEND;TZID=Europe/London:20240719T183000
DTSTAMP:20260423T201455
CREATED:20240525T181100Z
LAST-MODIFIED:20240526T135906Z
UID:8514-1721408400-1721413800@sps.uk.com
SUMMARY:Shabbat Together
DESCRIPTION:
URL:https://sps.uk.com/event/shabbat-together-5/
CATEGORIES:Shabbat Services
END:VEVENT
BEGIN:VEVENT
DTSTART;TZID=Europe/London:20240719T183000
DTEND;TZID=Europe/London:20240719T183000
DTSTAMP:20260423T201455
CREATED:20240526T141604Z
LAST-MODIFIED:20240526T141604Z
UID:8525-1721413800-1721413800@sps.uk.com
SUMMARY:Erev Shabbat informal service and Chavurah bring and share supper
DESCRIPTION:An early informal service and Chavurah bring and share supper. \n Please contact Barbara Martin by email on house@spsuk.com for catering purposes.   \n  \n  \n  \n 
URL:https://sps.uk.com/event/erev-shabbat-informal-service-and-chavurah-bring-and-share-supper-8/
CATEGORIES:Shabbat Services
END:VEVENT
BEGIN:VEVENT
DTSTART;TZID=Europe/London:20240720T110000
DTEND;TZID=Europe/London:20240720T110000
DTSTAMP:20260423T201455
CREATED:20240407T181855Z
LAST-MODIFIED:20240407T181855Z
UID:8358-1721473200-1721473200@sps.uk.com
SUMMARY:Shabbat Family Service
DESCRIPTION:  \n  \n  \n  \n  \nIf you have a Yahrzeit and would like to have a mitzvah either on Zoom or at the Synagogue\, please email the office and we will allocate the reading of your choice\, if available. If attending in person\, you will be given priority when booking your place. \nOur prayer for those who are sick is recited at the Shabbat morning service so please let the office know if there is anyone you would like added to that list. \n 
URL:https://sps.uk.com/event/shabbat-family-service-2/
CATEGORIES:Shabbat Services
END:VEVENT
BEGIN:VEVENT
DTSTART;TZID=Europe/London:20240726T200000
DTEND;TZID=Europe/London:20240726T200000
DTSTAMP:20260423T201455
CREATED:20240512T084453Z
LAST-MODIFIED:20240512T084453Z
UID:8475-1722024000-1722024000@sps.uk.com
SUMMARY:Erev Shabbat Service
DESCRIPTION:  \n  \n\n 
URL:https://sps.uk.com/event/erev-shabbat-service-20/
CATEGORIES:Shabbat Services
END:VEVENT
BEGIN:VEVENT
DTSTART;TZID=Europe/London:20240727T110000
DTEND;TZID=Europe/London:20240727T110000
DTSTAMP:20260423T201455
CREATED:20240512T084620Z
LAST-MODIFIED:20240512T084620Z
UID:8481-1722078000-1722078000@sps.uk.com
SUMMARY:Shabbat Morning Service
DESCRIPTION:If you have a Yahrzeit and would like to have a mitzvah either on Zoom or at the Synagogue\, please email the office and we will allocate the reading of your choice\, if available. If attending in person\, you will be given priority when booking your place. \nOur prayer for those who are sick is recited at the Shabbat morning service so please let the office know if there is anyone you would like added to that list. \n 
URL:https://sps.uk.com/event/shabbat-morning-service-16/
CATEGORIES:Shabbat Services
END:VEVENT
BEGIN:VEVENT
DTSTART;TZID=Europe/London:20240802T183000
DTEND;TZID=Europe/London:20240802T183000
DTSTAMP:20260423T201455
CREATED:20240716T212058Z
LAST-MODIFIED:20240716T212058Z
UID:8731-1722623400-1722623400@sps.uk.com
SUMMARY:Erev Shabbat informal service and Chavurah bring and share supper
DESCRIPTION:An early informal service and Chavurah bring and share supper. \n Please contact Barbara Martin by email on house@spsuk.com for catering purposes.   \n  \n  \n  \n 
URL:https://sps.uk.com/event/erev-shabbat-informal-service-and-chavurah-bring-and-share-supper-11/
CATEGORIES:Shabbat Services
END:VEVENT
BEGIN:VEVENT
DTSTART;TZID=Europe/London:20240803T100000
DTEND;TZID=Europe/London:20240803T110000
DTSTAMP:20260423T201455
CREATED:20240517T105748Z
LAST-MODIFIED:20240517T105748Z
UID:8494-1722679200-1722682800@sps.uk.com
SUMMARY:Coffee & Schmooze
DESCRIPTION:
URL:https://sps.uk.com/event/coffee-schmooze-17/
CATEGORIES:Shabbat Services
END:VEVENT
BEGIN:VEVENT
DTSTART;TZID=Europe/London:20240803T110000
DTEND;TZID=Europe/London:20240803T110000
DTSTAMP:20260423T201455
CREATED:20240514T105956Z
LAST-MODIFIED:20240514T105956Z
UID:8485-1722682800-1722682800@sps.uk.com
SUMMARY:Shabbat Morning Service
DESCRIPTION:If you have a Yahrzeit and would like to have a mitzvah either on Zoom or at the Synagogue\, please email the office and we will allocate the reading of your choice\, if available. If attending in person\, you will be given priority when booking your place. \nOur prayer for those who are sick is recited at the Shabbat morning service so please let the office know if there is anyone you would like added to that list. \n 
URL:https://sps.uk.com/event/shabbat-morning-service-15/
CATEGORIES:Shabbat Services
END:VEVENT
BEGIN:VEVENT
DTSTART;TZID=Europe/London:20240809T200000
DTEND;TZID=Europe/London:20240809T200000
DTSTAMP:20260423T201455
CREATED:20240609T091840Z
LAST-MODIFIED:20240609T091840Z
UID:8591-1723233600-1723233600@sps.uk.com
SUMMARY:Erev Shabbat Service
DESCRIPTION:  \n  \n\n 
URL:https://sps.uk.com/event/erev-shabbat-service-19/
CATEGORIES:Shabbat Services
END:VEVENT
BEGIN:VEVENT
DTSTART;TZID=Europe/London:20240810T110000
DTEND;TZID=Europe/London:20240810T110000
DTSTAMP:20260423T201455
CREATED:20240609T092006Z
LAST-MODIFIED:20240609T092006Z
UID:8599-1723287600-1723287600@sps.uk.com
SUMMARY:Shabbat Morning Service
DESCRIPTION:If you have a Yahrzeit and would like to have a mitzvah either on Zoom or at the Synagogue\, please email the office and we will allocate the reading of your choice\, if available. If attending in person\, you will be given priority when booking your place. \nOur prayer for those who are sick is recited at the Shabbat morning service so please let the office know if there is anyone you would like added to that list. \n 
URL:https://sps.uk.com/event/shabbat-morning-service-17/
CATEGORIES:Shabbat Services
END:VEVENT
BEGIN:VEVENT
DTSTART;TZID=Europe/London:20240810T123000
DTEND;TZID=Europe/London:20240810T123000
DTSTAMP:20260423T201455
CREATED:20240609T092308Z
LAST-MODIFIED:20240609T092308Z
UID:8607-1723293000-1723293000@sps.uk.com
SUMMARY:Saturday Morning Shiur
DESCRIPTION:Rabbi Michael’s monthly lunch-and-learn Shiur at around 12.30 pm in the Baron Harris Room. \nGenerally\, on the second Shabbat of each month Rabbi Michael Standfield holds a Shiur.  Lunch will not be provided\, it will instead be a Chavura-style lunch - please bring lunch for yourself\, and if possible\, something that you can share with others; tea and coffee will be provided. \nThese informal sessions are always interesting and entertaining\, starting with a discussion loosely based on the weekly Parasha\, which generally leads to amusing tales from Michael’s experiences as a Rabbi over many years. \nNo prior knowledge is required.
URL:https://sps.uk.com/event/saturday-morning-shiur-18/
CATEGORIES:Services,Shabbat Services
END:VEVENT
BEGIN:VEVENT
DTSTART;TZID=Europe/London:20240816T183000
DTEND;TZID=Europe/London:20240816T183000
DTSTAMP:20260423T201455
CREATED:20240609T092357Z
LAST-MODIFIED:20240609T092357Z
UID:8609-1723833000-1723833000@sps.uk.com
SUMMARY:Erev Shabbat informal service and Chavurah bring and share supper
DESCRIPTION:An early informal service and Chavurah bring and share supper. \n Please contact Barbara Martin by email on house@spsuk.com for catering purposes.   \n  \n  \n  \n 
URL:https://sps.uk.com/event/erev-shabbat-informal-service-and-chavurah-bring-and-share-supper-9/
CATEGORIES:Shabbat Services
END:VEVENT
BEGIN:VEVENT
DTSTART;TZID=Europe/London:20240817T110000
DTEND;TZID=Europe/London:20240817T110000
DTSTAMP:20260423T201455
CREATED:20240609T092022Z
LAST-MODIFIED:20240609T092022Z
UID:8601-1723892400-1723892400@sps.uk.com
SUMMARY:Shabbat Morning Service
DESCRIPTION:If you have a Yahrzeit and would like to have a mitzvah either on Zoom or at the Synagogue\, please email the office and we will allocate the reading of your choice\, if available. If attending in person\, you will be given priority when booking your place. \nOur prayer for those who are sick is recited at the Shabbat morning service so please let the office know if there is anyone you would like added to that list. \n 
URL:https://sps.uk.com/event/shabbat-morning-service-18/
CATEGORIES:Shabbat Services
END:VEVENT
BEGIN:VEVENT
DTSTART;TZID=Europe/London:20240823T200000
DTEND;TZID=Europe/London:20240823T200000
DTSTAMP:20260423T201455
CREATED:20240609T091908Z
LAST-MODIFIED:20240609T091908Z
UID:8595-1724443200-1724443200@sps.uk.com
SUMMARY:Erev Shabbat Service
DESCRIPTION:  \n  \n\n 
URL:https://sps.uk.com/event/erev-shabbat-service-23/
CATEGORIES:Shabbat Services
END:VEVENT
BEGIN:VEVENT
DTSTART;TZID=Europe/London:20240824T110000
DTEND;TZID=Europe/London:20240824T110000
DTSTAMP:20260423T201455
CREATED:20240609T092035Z
LAST-MODIFIED:20240609T092035Z
UID:8603-1724497200-1724497200@sps.uk.com
SUMMARY:Shabbat Morning Service
DESCRIPTION:If you have a Yahrzeit and would like to have a mitzvah either on Zoom or at the Synagogue\, please email the office and we will allocate the reading of your choice\, if available. If attending in person\, you will be given priority when booking your place. \nOur prayer for those who are sick is recited at the Shabbat morning service so please let the office know if there is anyone you would like added to that list. \n 
URL:https://sps.uk.com/event/shabbat-morning-service-19/
CATEGORIES:Shabbat Services
END:VEVENT
BEGIN:VEVENT
DTSTART;TZID=Europe/London:20240830T200000
DTEND;TZID=Europe/London:20240830T200000
DTSTAMP:20260423T201455
CREATED:20240609T091922Z
LAST-MODIFIED:20240609T091922Z
UID:8597-1725048000-1725048000@sps.uk.com
SUMMARY:Erev Shabbat Service
DESCRIPTION:  \n  \n\n 
URL:https://sps.uk.com/event/erev-shabbat-service-24/
CATEGORIES:Shabbat Services
END:VEVENT
BEGIN:VEVENT
DTSTART;TZID=Europe/London:20240831T110000
DTEND;TZID=Europe/London:20240831T110000
DTSTAMP:20260423T201455
CREATED:20240609T092047Z
LAST-MODIFIED:20240609T092047Z
UID:8605-1725102000-1725102000@sps.uk.com
SUMMARY:Shabbat Morning Service
DESCRIPTION:If you have a Yahrzeit and would like to have a mitzvah either on Zoom or at the Synagogue\, please email the office and we will allocate the reading of your choice\, if available. If attending in person\, you will be given priority when booking your place. \nOur prayer for those who are sick is recited at the Shabbat morning service so please let the office know if there is anyone you would like added to that list. \n 
URL:https://sps.uk.com/event/shabbat-morning-service-20/
CATEGORIES:Shabbat Services
END:VEVENT
BEGIN:VEVENT
DTSTART;TZID=Europe/London:20240906T200000
DTEND;TZID=Europe/London:20240906T200000
DTSTAMP:20260423T201455
CREATED:20240609T092646Z
LAST-MODIFIED:20240609T092646Z
UID:8613-1725652800-1725652800@sps.uk.com
SUMMARY:Erev Shabbat Service
DESCRIPTION:  \n  \n\n 
URL:https://sps.uk.com/event/erev-shabbat-service-22/
CATEGORIES:Shabbat Services
END:VEVENT
BEGIN:VEVENT
DTSTART;TZID=Europe/London:20240907T110000
DTEND;TZID=Europe/London:20240907T110000
DTSTAMP:20260423T201455
CREATED:20240609T092821Z
LAST-MODIFIED:20240609T092821Z
UID:8621-1725706800-1725706800@sps.uk.com
SUMMARY:Shabbat Morning Service
DESCRIPTION:If you have a Yahrzeit and would like to have a mitzvah either on Zoom or at the Synagogue\, please email the office and we will allocate the reading of your choice\, if available. If attending in person\, you will be given priority when booking your place. \nOur prayer for those who are sick is recited at the Shabbat morning service so please let the office know if there is anyone you would like added to that list. \n 
URL:https://sps.uk.com/event/shabbat-morning-service-21/
CATEGORIES:Shabbat Services
END:VEVENT
BEGIN:VEVENT
DTSTART;TZID=Europe/London:20240913T200000
DTEND;TZID=Europe/London:20240913T200000
DTSTAMP:20260423T201455
CREATED:20240609T092659Z
LAST-MODIFIED:20240609T092659Z
UID:8615-1726257600-1726257600@sps.uk.com
SUMMARY:Erev Shabbat Service
DESCRIPTION:  \n  \n\n 
URL:https://sps.uk.com/event/erev-shabbat-service-25/
CATEGORIES:Shabbat Services
END:VEVENT
BEGIN:VEVENT
DTSTART;TZID=Europe/London:20240914T110000
DTEND;TZID=Europe/London:20240914T110000
DTSTAMP:20260423T201455
CREATED:20240609T093241Z
LAST-MODIFIED:20240609T093241Z
UID:8623-1726311600-1726311600@sps.uk.com
SUMMARY:Shabbat Morning Service
DESCRIPTION:If you have a Yahrzeit and would like to have a mitzvah either on Zoom or at the Synagogue\, please email the office and we will allocate the reading of your choice\, if available. If attending in person\, you will be given priority when booking your place. \nOur prayer for those who are sick is recited at the Shabbat morning service so please let the office know if there is anyone you would like added to that list. \n 
URL:https://sps.uk.com/event/shabbat-morning-service-22/
CATEGORIES:Shabbat Services
END:VEVENT
BEGIN:VEVENT
DTSTART;TZID=Europe/London:20240914T123000
DTEND;TZID=Europe/London:20240914T123000
DTSTAMP:20260423T201455
CREATED:20240609T093406Z
LAST-MODIFIED:20240609T093406Z
UID:8629-1726317000-1726317000@sps.uk.com
SUMMARY:Saturday Morning Shiur
DESCRIPTION:Rabbi Michael’s monthly lunch-and-learn Shiur at around 12.30 pm in the Baron Harris Room. \nGenerally\, on the second Shabbat of each month Rabbi Michael Standfield holds a Shiur.  Lunch will not be provided\, it will instead be a Chavura-style lunch - please bring lunch for yourself\, and if possible\, something that you can share with others; tea and coffee will be provided. \nThese informal sessions are always interesting and entertaining\, starting with a discussion loosely based on the weekly Parasha\, which generally leads to amusing tales from Michael’s experiences as a Rabbi over many years. \nNo prior knowledge is required.
URL:https://sps.uk.com/event/saturday-morning-shiur-19/
CATEGORIES:Services,Shabbat Services
END:VEVENT
END:VCALENDAR