BEGIN:VCALENDAR
VERSION:2.0
PRODID:-//Southgate Progressive Synagogue - ECPv6.15.20//NONSGML v1.0//EN
CALSCALE:GREGORIAN
METHOD:PUBLISH
X-WR-CALNAME:Southgate Progressive Synagogue
X-ORIGINAL-URL:https://sps.uk.com
X-WR-CALDESC:Events for Southgate Progressive Synagogue
REFRESH-INTERVAL;VALUE=DURATION:PT1H
X-Robots-Tag:noindex
X-PUBLISHED-TTL:PT1H
BEGIN:VTIMEZONE
TZID:Europe/London
BEGIN:DAYLIGHT
TZOFFSETFROM:+0000
TZOFFSETTO:+0100
TZNAME:BST
DTSTART:20250330T010000
END:DAYLIGHT
BEGIN:STANDARD
TZOFFSETFROM:+0100
TZOFFSETTO:+0000
TZNAME:GMT
DTSTART:20251026T010000
END:STANDARD
BEGIN:DAYLIGHT
TZOFFSETFROM:+0000
TZOFFSETTO:+0100
TZNAME:BST
DTSTART:20260329T010000
END:DAYLIGHT
BEGIN:STANDARD
TZOFFSETFROM:+0100
TZOFFSETTO:+0000
TZNAME:GMT
DTSTART:20261025T010000
END:STANDARD
BEGIN:DAYLIGHT
TZOFFSETFROM:+0000
TZOFFSETTO:+0100
TZNAME:BST
DTSTART:20270328T010000
END:DAYLIGHT
BEGIN:STANDARD
TZOFFSETFROM:+0100
TZOFFSETTO:+0000
TZNAME:GMT
DTSTART:20271031T010000
END:STANDARD
END:VTIMEZONE
BEGIN:VEVENT
DTSTART;TZID=Europe/London:20260522T200000
DTEND;TZID=Europe/London:20260522T200000
DTSTAMP:20260420T150806
CREATED:20260308T005002Z
LAST-MODIFIED:20260308T005002Z
UID:11037-1779480000-1779480000@sps.uk.com
SUMMARY:Erev Shabbat Service
DESCRIPTION:  \n  \nTraditional service.\n\n 
URL:https://sps.uk.com/event/erev-shabbat-service-81/
CATEGORIES:Shabbat Services
END:VEVENT
BEGIN:VEVENT
DTSTART;TZID=Europe/London:20260523T110000
DTEND;TZID=Europe/London:20260523T110000
DTSTAMP:20260420T150806
CREATED:20260308T005237Z
LAST-MODIFIED:20260308T005237Z
UID:11049-1779534000-1779534000@sps.uk.com
SUMMARY:All Generations Shabbat Morning Service
DESCRIPTION:  \n  \n  \n  \n  \n  \nIf you have a Yahrzeit and would like to have a mitzvah either on Zoom or at the Synagogue\, please email the office and we will allocate the reading of your choice\, if available. If attending in person\, you will be given priority when booking your place. \nOur prayer for those who are sick is recited at the Shabbat morning service so please let the office know if there is anyone you would like added to that list. \n 
URL:https://sps.uk.com/event/all-generations-shabbat-morning-service-8/
CATEGORIES:Shabbat Services
END:VEVENT
BEGIN:VEVENT
DTSTART;TZID=Europe/London:20260529T200000
DTEND;TZID=Europe/London:20260529T200000
DTSTAMP:20260420T150806
CREATED:20260308T005020Z
LAST-MODIFIED:20260308T005020Z
UID:11039-1780084800-1780084800@sps.uk.com
SUMMARY:Erev Shabbat Service
DESCRIPTION:  \n  \nTraditional service.\n\n 
URL:https://sps.uk.com/event/erev-shabbat-service-82/
CATEGORIES:Shabbat Services
END:VEVENT
BEGIN:VEVENT
DTSTART;TZID=Europe/London:20260530T110000
DTEND;TZID=Europe/London:20260530T110000
DTSTAMP:20260420T150806
CREATED:20260308T005211Z
LAST-MODIFIED:20260308T005211Z
UID:11047-1780138800-1780138800@sps.uk.com
SUMMARY:Shabbat Morning Service
DESCRIPTION:If you have a Yahrzeit and would like to have a mitzvah either on Zoom or at the Synagogue\, please email the office and we will allocate the reading of your choice\, if available. If attending in person\, you will be given priority when booking your place. \nOur prayer for those who are sick is recited at the Shabbat morning service so please let the office know if there is anyone you would like added to that list. \n 
URL:https://sps.uk.com/event/shabbat-morning-service-89/
CATEGORIES:Shabbat Services
END:VEVENT
BEGIN:VEVENT
DTSTART;TZID=Europe/London:20260605T180000
DTEND;TZID=Europe/London:20260605T190000
DTSTAMP:20260420T150806
CREATED:20260308T010017Z
LAST-MODIFIED:20260308T010017Z
UID:11073-1780682400-1780686000@sps.uk.com
SUMMARY:Erev Shabbat Musical Service
DESCRIPTION:Musical service: New and old melodies to welcome Shabbat
URL:https://sps.uk.com/event/erev-shabbat-musical-service-6/
CATEGORIES:Shabbat Services
END:VEVENT
BEGIN:VEVENT
DTSTART;TZID=Europe/London:20260606T110000
DTEND;TZID=Europe/London:20260606T110000
DTSTAMP:20260420T150806
CREATED:20260308T005940Z
LAST-MODIFIED:20260308T005940Z
UID:11071-1780743600-1780743600@sps.uk.com
SUMMARY:Shabbat Morning Service
DESCRIPTION:If you have a Yahrzeit and would like to have a mitzvah either on Zoom or at the Synagogue\, please email the office and we will allocate the reading of your choice\, if available. If attending in person\, you will be given priority when booking your place. \nOur prayer for those who are sick is recited at the Shabbat morning service so please let the office know if there is anyone you would like added to that list. \n 
URL:https://sps.uk.com/event/shabbat-morning-service-90/
CATEGORIES:Shabbat Services
END:VEVENT
BEGIN:VEVENT
DTSTART;TZID=Europe/London:20260612T200000
DTEND;TZID=Europe/London:20260612T213000
DTSTAMP:20260420T150806
CREATED:20260412T234349Z
LAST-MODIFIED:20260412T234349Z
UID:11154-1781294400-1781299800@sps.uk.com
SUMMARY:Oneg Shabbat Service
DESCRIPTION:  \n  \nShort service\, followed by discussion and dessert.\n 
URL:https://sps.uk.com/event/oneg-shabbat-service-6/
CATEGORIES:Shabbat Services
END:VEVENT
BEGIN:VEVENT
DTSTART;TZID=Europe/London:20260613T110000
DTEND;TZID=Europe/London:20260613T110000
DTSTAMP:20260420T150806
CREATED:20260412T234734Z
LAST-MODIFIED:20260412T234734Z
UID:11161-1781348400-1781348400@sps.uk.com
SUMMARY:Shabbat Morning Service
DESCRIPTION:If you have a Yahrzeit and would like to have a mitzvah either on Zoom or at the Synagogue\, please email the office and we will allocate the reading of your choice\, if available. If attending in person\, you will be given priority when booking your place. \nOur prayer for those who are sick is recited at the Shabbat morning service so please let the office know if there is anyone you would like added to that list. \n 
URL:https://sps.uk.com/event/shabbat-morning-service-91/
CATEGORIES:Shabbat Services
END:VEVENT
BEGIN:VEVENT
DTSTART;TZID=Europe/London:20260613T123000
DTEND;TZID=Europe/London:20260613T123000
DTSTAMP:20260420T150806
CREATED:20260412T235118Z
LAST-MODIFIED:20260412T235118Z
UID:11170-1781353800-1781353800@sps.uk.com
SUMMARY:Saturday Morning Shiur
DESCRIPTION:Rabbi Michael’s monthly lunch-and-learn Shiur at around 12.30 pm in the Baron Harris Room. \nLunch will not be provided; it will\, instead\, be a Chavura-style lunch - please bring for yourself\, and if possible\, something that you can share with others; tea and coffee will be provided. \nThese informal sessions are always interesting and entertaining\, starting with a discussion loosely based on the weekly Parasha\, which generally leads to amusing tales from Michael’s experiences as a Rabbi over many years. \nNo prior knowledge is required.
URL:https://sps.uk.com/event/saturday-morning-shiur-34/
CATEGORIES:Services,Shabbat Services
END:VEVENT
BEGIN:VEVENT
DTSTART;TZID=Europe/London:20260619T180000
DTEND;TZID=Europe/London:20260619T200000
DTSTAMP:20260420T150806
CREATED:20260412T234420Z
LAST-MODIFIED:20260412T234420Z
UID:11156-1781892000-1781899200@sps.uk.com
SUMMARY:Erev Shabbat informal service and Chavurah bring and share supper
DESCRIPTION:An early informal service and Chavurah bring and share supper.\n Please contact Barbara Martin by email at house@spsuk.com for catering purposes.  \n  \n  \n  \n 
URL:https://sps.uk.com/event/erev-shabbat-informal-service-and-chavurah-bring-and-share-supper-29/
CATEGORIES:Shabbat Services
END:VEVENT
BEGIN:VEVENT
DTSTART;TZID=Europe/London:20260620T110000
DTEND;TZID=Europe/London:20260620T110000
DTSTAMP:20260420T150806
CREATED:20260412T234756Z
LAST-MODIFIED:20260412T234756Z
UID:11163-1781953200-1781953200@sps.uk.com
SUMMARY:Shabbat Morning Service
DESCRIPTION:If you have a Yahrzeit and would like to have a mitzvah either on Zoom or at the Synagogue\, please email the office and we will allocate the reading of your choice\, if available. If attending in person\, you will be given priority when booking your place. \nOur prayer for those who are sick is recited at the Shabbat morning service so please let the office know if there is anyone you would like added to that list. \n 
URL:https://sps.uk.com/event/shabbat-morning-service-92/
CATEGORIES:Shabbat Services
END:VEVENT
BEGIN:VEVENT
DTSTART;TZID=Europe/London:20260626T200000
DTEND;TZID=Europe/London:20260626T200000
DTSTAMP:20260420T150806
CREATED:20260412T234614Z
LAST-MODIFIED:20260412T234614Z
UID:11159-1782504000-1782504000@sps.uk.com
SUMMARY:Erev Shabbat Service
DESCRIPTION:  \n  \nTraditional service.\n\n 
URL:https://sps.uk.com/event/erev-shabbat-service-83/
CATEGORIES:Shabbat Services
END:VEVENT
BEGIN:VEVENT
DTSTART;TZID=Europe/London:20260627T110000
DTEND;TZID=Europe/London:20260627T110000
DTSTAMP:20260420T150806
CREATED:20260412T234853Z
LAST-MODIFIED:20260412T234853Z
UID:11166-1782558000-1782558000@sps.uk.com
SUMMARY:All Generations Shabbat Morning Service
DESCRIPTION:  \n  \n  \n  \n  \n  \nIf you have a Yahrzeit and would like to have a mitzvah either on Zoom or at the Synagogue\, please email the office and we will allocate the reading of your choice\, if available. If attending in person\, you will be given priority when booking your place. \nOur prayer for those who are sick is recited at the Shabbat morning service so please let the office know if there is anyone you would like added to that list. \n 
URL:https://sps.uk.com/event/all-generations-shabbat-morning-service-9/
CATEGORIES:Shabbat Services
END:VEVENT
BEGIN:VEVENT
DTSTART;TZID=Europe/London:20260703T180000
DTEND;TZID=Europe/London:20260703T190000
DTSTAMP:20260420T150806
CREATED:20260412T234234Z
LAST-MODIFIED:20260412T234234Z
UID:11152-1783101600-1783105200@sps.uk.com
SUMMARY:Erev Shabbat Musical Service
DESCRIPTION:Musical service: New and old melodies to welcome Shabbat
URL:https://sps.uk.com/event/erev-shabbat-musical-service-7/
CATEGORIES:Shabbat Services
END:VEVENT
BEGIN:VEVENT
DTSTART;TZID=Europe/London:20260704T110000
DTEND;TZID=Europe/London:20260704T110000
DTSTAMP:20260420T150806
CREATED:20260412T235009Z
LAST-MODIFIED:20260412T235009Z
UID:11168-1783162800-1783162800@sps.uk.com
SUMMARY:Shabbat Morning Service
DESCRIPTION:If you have a Yahrzeit and would like to have a mitzvah either on Zoom or at the Synagogue\, please email the office and we will allocate the reading of your choice\, if available. If attending in person\, you will be given priority when booking your place. \nOur prayer for those who are sick is recited at the Shabbat morning service so please let the office know if there is anyone you would like added to that list. \n 
URL:https://sps.uk.com/event/shabbat-morning-service-93/
CATEGORIES:Shabbat Services
END:VEVENT
END:VCALENDAR