BEGIN:VCALENDAR
VERSION:2.0
PRODID:-//Southgate Progressive Synagogue - ECPv6.15.20//NONSGML v1.0//EN
CALSCALE:GREGORIAN
METHOD:PUBLISH
X-ORIGINAL-URL:https://sps.uk.com
X-WR-CALDESC:Events for Southgate Progressive Synagogue
REFRESH-INTERVAL;VALUE=DURATION:PT1H
X-Robots-Tag:noindex
X-PUBLISHED-TTL:PT1H
BEGIN:VTIMEZONE
TZID:Europe/London
BEGIN:DAYLIGHT
TZOFFSETFROM:+0000
TZOFFSETTO:+0100
TZNAME:BST
DTSTART:20230326T010000
END:DAYLIGHT
BEGIN:STANDARD
TZOFFSETFROM:+0100
TZOFFSETTO:+0000
TZNAME:GMT
DTSTART:20231029T010000
END:STANDARD
BEGIN:DAYLIGHT
TZOFFSETFROM:+0000
TZOFFSETTO:+0100
TZNAME:BST
DTSTART:20240331T010000
END:DAYLIGHT
BEGIN:STANDARD
TZOFFSETFROM:+0100
TZOFFSETTO:+0000
TZNAME:GMT
DTSTART:20241027T010000
END:STANDARD
BEGIN:DAYLIGHT
TZOFFSETFROM:+0000
TZOFFSETTO:+0100
TZNAME:BST
DTSTART:20250330T010000
END:DAYLIGHT
BEGIN:STANDARD
TZOFFSETFROM:+0100
TZOFFSETTO:+0000
TZNAME:GMT
DTSTART:20251026T010000
END:STANDARD
END:VTIMEZONE
BEGIN:VEVENT
DTSTART;TZID=Europe/London:20240831T110000
DTEND;TZID=Europe/London:20240831T110000
DTSTAMP:20260424T054418
CREATED:20240609T092047Z
LAST-MODIFIED:20240609T092047Z
UID:8605-1725102000-1725102000@sps.uk.com
SUMMARY:Shabbat Morning Service
DESCRIPTION:If you have a Yahrzeit and would like to have a mitzvah either on Zoom or at the Synagogue\, please email the office and we will allocate the reading of your choice\, if available. If attending in person\, you will be given priority when booking your place. \nOur prayer for those who are sick is recited at the Shabbat morning service so please let the office know if there is anyone you would like added to that list. \n 
URL:https://sps.uk.com/event/shabbat-morning-service-20/
CATEGORIES:Shabbat Services
END:VEVENT
BEGIN:VEVENT
DTSTART;TZID=Europe/London:20240906T200000
DTEND;TZID=Europe/London:20240906T200000
DTSTAMP:20260424T054418
CREATED:20240609T092646Z
LAST-MODIFIED:20240609T092646Z
UID:8613-1725652800-1725652800@sps.uk.com
SUMMARY:Erev Shabbat Service
DESCRIPTION:  \n  \n\n 
URL:https://sps.uk.com/event/erev-shabbat-service-22/
CATEGORIES:Shabbat Services
END:VEVENT
BEGIN:VEVENT
DTSTART;TZID=Europe/London:20240907T110000
DTEND;TZID=Europe/London:20240907T110000
DTSTAMP:20260424T054418
CREATED:20240609T092821Z
LAST-MODIFIED:20240609T092821Z
UID:8621-1725706800-1725706800@sps.uk.com
SUMMARY:Shabbat Morning Service
DESCRIPTION:If you have a Yahrzeit and would like to have a mitzvah either on Zoom or at the Synagogue\, please email the office and we will allocate the reading of your choice\, if available. If attending in person\, you will be given priority when booking your place. \nOur prayer for those who are sick is recited at the Shabbat morning service so please let the office know if there is anyone you would like added to that list. \n 
URL:https://sps.uk.com/event/shabbat-morning-service-21/
CATEGORIES:Shabbat Services
END:VEVENT
BEGIN:VEVENT
DTSTART;TZID=Europe/London:20240913T200000
DTEND;TZID=Europe/London:20240913T200000
DTSTAMP:20260424T054418
CREATED:20240609T092659Z
LAST-MODIFIED:20240609T092659Z
UID:8615-1726257600-1726257600@sps.uk.com
SUMMARY:Erev Shabbat Service
DESCRIPTION:  \n  \n\n 
URL:https://sps.uk.com/event/erev-shabbat-service-25/
CATEGORIES:Shabbat Services
END:VEVENT
BEGIN:VEVENT
DTSTART;TZID=Europe/London:20240914T110000
DTEND;TZID=Europe/London:20240914T110000
DTSTAMP:20260424T054418
CREATED:20240609T093241Z
LAST-MODIFIED:20240609T093241Z
UID:8623-1726311600-1726311600@sps.uk.com
SUMMARY:Shabbat Morning Service
DESCRIPTION:If you have a Yahrzeit and would like to have a mitzvah either on Zoom or at the Synagogue\, please email the office and we will allocate the reading of your choice\, if available. If attending in person\, you will be given priority when booking your place. \nOur prayer for those who are sick is recited at the Shabbat morning service so please let the office know if there is anyone you would like added to that list. \n 
URL:https://sps.uk.com/event/shabbat-morning-service-22/
CATEGORIES:Shabbat Services
END:VEVENT
BEGIN:VEVENT
DTSTART;TZID=Europe/London:20240914T123000
DTEND;TZID=Europe/London:20240914T123000
DTSTAMP:20260424T054418
CREATED:20240609T093406Z
LAST-MODIFIED:20240609T093406Z
UID:8629-1726317000-1726317000@sps.uk.com
SUMMARY:Saturday Morning Shiur
DESCRIPTION:Rabbi Michael’s monthly lunch-and-learn Shiur at around 12.30 pm in the Baron Harris Room. \nGenerally\, on the second Shabbat of each month Rabbi Michael Standfield holds a Shiur.  Lunch will not be provided\, it will instead be a Chavura-style lunch - please bring lunch for yourself\, and if possible\, something that you can share with others; tea and coffee will be provided. \nThese informal sessions are always interesting and entertaining\, starting with a discussion loosely based on the weekly Parasha\, which generally leads to amusing tales from Michael’s experiences as a Rabbi over many years. \nNo prior knowledge is required.
URL:https://sps.uk.com/event/saturday-morning-shiur-19/
CATEGORIES:Services,Shabbat Services
END:VEVENT
BEGIN:VEVENT
DTSTART;TZID=Europe/London:20240920T183000
DTEND;TZID=Europe/London:20240920T183000
DTSTAMP:20260424T054418
CREATED:20240609T092622Z
LAST-MODIFIED:20240609T092622Z
UID:8611-1726857000-1726857000@sps.uk.com
SUMMARY:Erev Shabbat informal service and Chavurah bring and share supper
DESCRIPTION:An early informal service and Chavurah bring and share supper. \n Please contact Barbara Martin by email on house@spsuk.com for catering purposes.   \n  \n  \n  \n 
URL:https://sps.uk.com/event/erev-shabbat-informal-service-and-chavurah-bring-and-share-supper-10/
CATEGORIES:Shabbat Services
END:VEVENT
BEGIN:VEVENT
DTSTART;TZID=Europe/London:20240921T110000
DTEND;TZID=Europe/London:20240921T110000
DTSTAMP:20260424T054418
CREATED:20240609T093255Z
LAST-MODIFIED:20240609T093255Z
UID:8625-1726916400-1726916400@sps.uk.com
SUMMARY:Shabbat Morning Service
DESCRIPTION:If you have a Yahrzeit and would like to have a mitzvah either on Zoom or at the Synagogue\, please email the office and we will allocate the reading of your choice\, if available. If attending in person\, you will be given priority when booking your place. \nOur prayer for those who are sick is recited at the Shabbat morning service so please let the office know if there is anyone you would like added to that list. \n 
URL:https://sps.uk.com/event/shabbat-morning-service-23/
CATEGORIES:Shabbat Services
END:VEVENT
BEGIN:VEVENT
DTSTART;TZID=Europe/London:20240927T200000
DTEND;TZID=Europe/London:20240927T200000
DTSTAMP:20260424T054418
CREATED:20240609T092726Z
LAST-MODIFIED:20240609T092726Z
UID:8619-1727467200-1727467200@sps.uk.com
SUMMARY:Erev Shabbat Service
DESCRIPTION:  \n  \n\n 
URL:https://sps.uk.com/event/erev-shabbat-service-27/
CATEGORIES:Shabbat Services
END:VEVENT
BEGIN:VEVENT
DTSTART;TZID=Europe/London:20240928T100000
DTEND;TZID=Europe/London:20240928T110000
DTSTAMP:20260424T054418
CREATED:20240517T105813Z
LAST-MODIFIED:20240726T080731Z
UID:8496-1727517600-1727521200@sps.uk.com
SUMMARY:Coffee & Schmooze
DESCRIPTION:
URL:https://sps.uk.com/event/coffee-schmooze-18/
CATEGORIES:Shabbat Services
END:VEVENT
BEGIN:VEVENT
DTSTART;TZID=Europe/London:20240928T110000
DTEND;TZID=Europe/London:20240928T110000
DTSTAMP:20260424T054418
CREATED:20240609T093840Z
LAST-MODIFIED:20240609T093840Z
UID:8651-1727521200-1727521200@sps.uk.com
SUMMARY:Shabbat Family Service
DESCRIPTION:  \n  \n  \n  \n  \nIf you have a Yahrzeit and would like to have a mitzvah either on Zoom or at the Synagogue\, please email the office and we will allocate the reading of your choice\, if available. If attending in person\, you will be given priority when booking your place. \nOur prayer for those who are sick is recited at the Shabbat morning service so please let the office know if there is anyone you would like added to that list. \n 
URL:https://sps.uk.com/event/shabbat-family-service-3/
CATEGORIES:Shabbat Services
END:VEVENT
BEGIN:VEVENT
DTSTART;TZID=Europe/London:20240928T210000
DTEND;TZID=Europe/London:20240928T210000
DTSTAMP:20260424T054418
CREATED:20240905T161632Z
LAST-MODIFIED:20240905T161632Z
UID:8937-1727557200-1727557200@sps.uk.com
SUMMARY:Selichot Service
DESCRIPTION:
URL:https://sps.uk.com/event/selichot-service-2/
CATEGORIES:Festival Services
END:VEVENT
BEGIN:VEVENT
DTSTART;TZID=Europe/London:20241002T200000
DTEND;TZID=Europe/London:20241002T200000
DTSTAMP:20260424T054418
CREATED:20240905T182952Z
LAST-MODIFIED:20240905T182952Z
UID:8940-1727899200-1727899200@sps.uk.com
SUMMARY:Erev Rosh Hashana
DESCRIPTION:
URL:https://sps.uk.com/event/erev-rosh-hashana-3/
CATEGORIES:Festival Services
END:VEVENT
BEGIN:VEVENT
DTSTART;TZID=Europe/London:20241003T103000
DTEND;TZID=Europe/London:20241003T103000
DTSTAMP:20260424T054418
CREATED:20240905T183105Z
LAST-MODIFIED:20240905T183105Z
UID:8943-1727951400-1727951400@sps.uk.com
SUMMARY:Rosh Hashanah Morning
DESCRIPTION:
URL:https://sps.uk.com/event/rosh-hashanah-morning-3/
CATEGORIES:Festival Services
END:VEVENT
BEGIN:VEVENT
DTSTART;TZID=Europe/London:20241004T200000
DTEND;TZID=Europe/London:20241004T200000
DTSTAMP:20260424T054418
CREATED:20240805T163551Z
LAST-MODIFIED:20240805T163551Z
UID:8760-1728072000-1728072000@sps.uk.com
SUMMARY:Erev Shabbat Service
DESCRIPTION:  \n  \n\n 
URL:https://sps.uk.com/event/erev-shabbat-service-21/
CATEGORIES:Shabbat Services
END:VEVENT
BEGIN:VEVENT
DTSTART;TZID=Europe/London:20241005T110000
DTEND;TZID=Europe/London:20241005T110000
DTSTAMP:20260424T054418
CREATED:20240805T183342Z
LAST-MODIFIED:20240805T183342Z
UID:8768-1728126000-1728126000@sps.uk.com
SUMMARY:Shabbat Morning Service
DESCRIPTION:If you have a Yahrzeit and would like to have a mitzvah either on Zoom or at the Synagogue\, please email the office and we will allocate the reading of your choice\, if available. If attending in person\, you will be given priority when booking your place. \nOur prayer for those who are sick is recited at the Shabbat morning service so please let the office know if there is anyone you would like added to that list. \n 
URL:https://sps.uk.com/event/shabbat-morning-service-24/
CATEGORIES:Shabbat Services
END:VEVENT
BEGIN:VEVENT
DTSTART;TZID=Europe/London:20241011T200000
DTEND;TZID=Europe/London:20241011T200000
DTSTAMP:20260424T054418
CREATED:20240905T183224Z
LAST-MODIFIED:20240905T183224Z
UID:8946-1728676800-1728676800@sps.uk.com
SUMMARY:Kol Nidre
DESCRIPTION:
URL:https://sps.uk.com/event/kol-nidre-3/
CATEGORIES:Festival Services
END:VEVENT
BEGIN:VEVENT
DTSTART;TZID=Europe/London:20241012T110000
DTEND;TZID=Europe/London:20241012T190000
DTSTAMP:20260424T054418
CREATED:20240905T183454Z
LAST-MODIFIED:20240905T183454Z
UID:8951-1728730800-1728759600@sps.uk.com
SUMMARY:Yom Kippur
DESCRIPTION: 
URL:https://sps.uk.com/event/yom-kippur-5/
CATEGORIES:Festival Services
END:VEVENT
BEGIN:VEVENT
DTSTART;TZID=Europe/London:20241016T183000
DTEND;TZID=Europe/London:20241016T183000
DTSTAMP:20260424T054418
CREATED:20240905T183743Z
LAST-MODIFIED:20240905T183743Z
UID:8954-1729103400-1729103400@sps.uk.com
SUMMARY:Erev Sukkot Service
DESCRIPTION: 
URL:https://sps.uk.com/event/erev-sukkot-service-2/
CATEGORIES:Festival Services
END:VEVENT
BEGIN:VEVENT
DTSTART;TZID=Europe/London:20241017T110000
DTEND;TZID=Europe/London:20241017T110000
DTSTAMP:20260424T054418
CREATED:20240905T183834Z
LAST-MODIFIED:20240905T183834Z
UID:8956-1729162800-1729162800@sps.uk.com
SUMMARY:Sukkot Morning Service
DESCRIPTION:
URL:https://sps.uk.com/event/sukkot-morning-service-2/
CATEGORIES:Festival Services
END:VEVENT
BEGIN:VEVENT
DTSTART;TZID=Europe/London:20241018T183000
DTEND;TZID=Europe/London:20241018T183000
DTSTAMP:20260424T054418
CREATED:20241002T160739Z
LAST-MODIFIED:20241002T160739Z
UID:9099-1729276200-1729276200@sps.uk.com
SUMMARY:Erev Shabbat informal service and Chavurah bring and share supper
DESCRIPTION:An early informal service and Chavurah bring and share supper. \n Please contact Barbara Martin by email on house@spsuk.com for catering purposes.   \n  \n  \n  \n 
URL:https://sps.uk.com/event/erev-shabbat-informal-service-and-chavurah-bring-and-share-supper-12/
CATEGORIES:Shabbat Services
END:VEVENT
BEGIN:VEVENT
DTSTART;TZID=Europe/London:20241019T110000
DTEND;TZID=Europe/London:20241019T110000
DTSTAMP:20260424T054418
CREATED:20240805T183357Z
LAST-MODIFIED:20240805T183357Z
UID:8770-1729335600-1729335600@sps.uk.com
SUMMARY:Shabbat Morning Service
DESCRIPTION:If you have a Yahrzeit and would like to have a mitzvah either on Zoom or at the Synagogue\, please email the office and we will allocate the reading of your choice\, if available. If attending in person\, you will be given priority when booking your place. \nOur prayer for those who are sick is recited at the Shabbat morning service so please let the office know if there is anyone you would like added to that list. \n 
URL:https://sps.uk.com/event/shabbat-morning-service-25/
CATEGORIES:Shabbat Services
END:VEVENT
BEGIN:VEVENT
DTSTART;TZID=Europe/London:20241023T183000
DTEND;TZID=Europe/London:20241023T183000
DTSTAMP:20260424T054418
CREATED:20240905T183950Z
LAST-MODIFIED:20240905T183950Z
UID:8958-1729708200-1729708200@sps.uk.com
SUMMARY:Erev Simchat Torah Service
DESCRIPTION:
URL:https://sps.uk.com/event/erev-simchat-torah-service-2/
CATEGORIES:Festival Services
END:VEVENT
BEGIN:VEVENT
DTSTART;TZID=Europe/London:20241024T110000
DTEND;TZID=Europe/London:20241024T110000
DTSTAMP:20260424T054418
CREATED:20240905T184047Z
LAST-MODIFIED:20240905T184047Z
UID:8960-1729767600-1729767600@sps.uk.com
SUMMARY:Simchat Torah Morning Service
DESCRIPTION:
URL:https://sps.uk.com/event/simchat-torah-morning-service-2/
CATEGORIES:Festival Services
END:VEVENT
BEGIN:VEVENT
DTSTART;TZID=Europe/London:20241025T200000
DTEND;TZID=Europe/London:20241025T200000
DTSTAMP:20260424T054418
CREATED:20240805T163638Z
LAST-MODIFIED:20240805T163638Z
UID:8766-1729886400-1729886400@sps.uk.com
SUMMARY:Erev Shabbat Service
DESCRIPTION:  \n  \n\n 
URL:https://sps.uk.com/event/erev-shabbat-service-30/
CATEGORIES:Shabbat Services
END:VEVENT
BEGIN:VEVENT
DTSTART;TZID=Europe/London:20241026T110000
DTEND;TZID=Europe/London:20241026T110000
DTSTAMP:20260424T054418
CREATED:20240805T183435Z
LAST-MODIFIED:20240816T164015Z
UID:8772-1729940400-1729940400@sps.uk.com
SUMMARY:Shabbat Morning Service - Bat Mitzvah of Evie Yershon
DESCRIPTION:  \nIf you have a Yahrzeit and would like to have a mitzvah either on Zoom or at the Synagogue\, please email the office and we will allocate the reading of your choice\, if available. If attending in person\, you will be given priority when booking your place. \nOur prayer for those who are sick is recited at the Shabbat morning service so please let the office know if there is anyone you would like added to that list. \n 
URL:https://sps.uk.com/event/shabbat-morning-service-26/
CATEGORIES:Shabbat Services
END:VEVENT
BEGIN:VEVENT
DTSTART;TZID=Europe/London:20241101T200000
DTEND;TZID=Europe/London:20241101T200000
DTSTAMP:20260424T054418
CREATED:20240816T214925Z
LAST-MODIFIED:20240816T214925Z
UID:8827-1730491200-1730491200@sps.uk.com
SUMMARY:Erev Shabbat Service
DESCRIPTION:  \n  \n\n 
URL:https://sps.uk.com/event/erev-shabbat-service-28/
CATEGORIES:Shabbat Services
END:VEVENT
BEGIN:VEVENT
DTSTART;TZID=Europe/London:20241102T110000
DTEND;TZID=Europe/London:20241102T110000
DTSTAMP:20260424T054418
CREATED:20240816T215004Z
LAST-MODIFIED:20240816T215004Z
UID:8829-1730545200-1730545200@sps.uk.com
SUMMARY:Shabbat Morning Service
DESCRIPTION:If you have a Yahrzeit and would like to have a mitzvah either on Zoom or at the Synagogue\, please email the office and we will allocate the reading of your choice\, if available. If attending in person\, you will be given priority when booking your place. \nOur prayer for those who are sick is recited at the Shabbat morning service so please let the office know if there is anyone you would like added to that list. \n 
URL:https://sps.uk.com/event/shabbat-morning-service-27/
CATEGORIES:Shabbat Services
END:VEVENT
BEGIN:VEVENT
DTSTART;TZID=Europe/London:20241108T200000
DTEND;TZID=Europe/London:20241108T200000
DTSTAMP:20260424T054418
CREATED:20240817T003021Z
LAST-MODIFIED:20240817T003021Z
UID:8849-1731096000-1731096000@sps.uk.com
SUMMARY:Erev Shabbat Service
DESCRIPTION:  \n  \n\n 
URL:https://sps.uk.com/event/erev-shabbat-service-31/
CATEGORIES:Shabbat Services
END:VEVENT
BEGIN:VEVENT
DTSTART;TZID=Europe/London:20241109T110000
DTEND;TZID=Europe/London:20241109T110000
DTSTAMP:20260424T054418
CREATED:20240817T003320Z
LAST-MODIFIED:20240817T003320Z
UID:8857-1731150000-1731150000@sps.uk.com
SUMMARY:Shabbat Morning Service
DESCRIPTION:If you have a Yahrzeit and would like to have a mitzvah either on Zoom or at the Synagogue\, please email the office and we will allocate the reading of your choice\, if available. If attending in person\, you will be given priority when booking your place. \nOur prayer for those who are sick is recited at the Shabbat morning service so please let the office know if there is anyone you would like added to that list. \n 
URL:https://sps.uk.com/event/shabbat-morning-service-28/
CATEGORIES:Shabbat Services
END:VEVENT
END:VCALENDAR