BEGIN:VCALENDAR
VERSION:2.0
PRODID:-//Southgate Progressive Synagogue - ECPv6.15.20//NONSGML v1.0//EN
CALSCALE:GREGORIAN
METHOD:PUBLISH
X-ORIGINAL-URL:https://sps.uk.com
X-WR-CALDESC:Events for Southgate Progressive Synagogue
REFRESH-INTERVAL;VALUE=DURATION:PT1H
X-Robots-Tag:noindex
X-PUBLISHED-TTL:PT1H
BEGIN:VTIMEZONE
TZID:Europe/London
BEGIN:DAYLIGHT
TZOFFSETFROM:+0000
TZOFFSETTO:+0100
TZNAME:BST
DTSTART:20230326T010000
END:DAYLIGHT
BEGIN:STANDARD
TZOFFSETFROM:+0100
TZOFFSETTO:+0000
TZNAME:GMT
DTSTART:20231029T010000
END:STANDARD
BEGIN:DAYLIGHT
TZOFFSETFROM:+0000
TZOFFSETTO:+0100
TZNAME:BST
DTSTART:20240331T010000
END:DAYLIGHT
BEGIN:STANDARD
TZOFFSETFROM:+0100
TZOFFSETTO:+0000
TZNAME:GMT
DTSTART:20241027T010000
END:STANDARD
BEGIN:DAYLIGHT
TZOFFSETFROM:+0000
TZOFFSETTO:+0100
TZNAME:BST
DTSTART:20250330T010000
END:DAYLIGHT
BEGIN:STANDARD
TZOFFSETFROM:+0100
TZOFFSETTO:+0000
TZNAME:GMT
DTSTART:20251026T010000
END:STANDARD
BEGIN:DAYLIGHT
TZOFFSETFROM:+0000
TZOFFSETTO:+0100
TZNAME:BST
DTSTART:20260329T010000
END:DAYLIGHT
BEGIN:STANDARD
TZOFFSETFROM:+0100
TZOFFSETTO:+0000
TZNAME:GMT
DTSTART:20261025T010000
END:STANDARD
END:VTIMEZONE
BEGIN:VEVENT
DTSTART;TZID=Europe/London:20241025T200000
DTEND;TZID=Europe/London:20241025T200000
DTSTAMP:20260424T084432
CREATED:20240805T163638Z
LAST-MODIFIED:20240805T163638Z
UID:8766-1729886400-1729886400@sps.uk.com
SUMMARY:Erev Shabbat Service
DESCRIPTION:  \n  \n\n 
URL:https://sps.uk.com/event/erev-shabbat-service-30/
CATEGORIES:Shabbat Services
END:VEVENT
BEGIN:VEVENT
DTSTART;TZID=Europe/London:20241026T110000
DTEND;TZID=Europe/London:20241026T110000
DTSTAMP:20260424T084432
CREATED:20240805T183435Z
LAST-MODIFIED:20240816T164015Z
UID:8772-1729940400-1729940400@sps.uk.com
SUMMARY:Shabbat Morning Service - Bat Mitzvah of Evie Yershon
DESCRIPTION:  \nIf you have a Yahrzeit and would like to have a mitzvah either on Zoom or at the Synagogue\, please email the office and we will allocate the reading of your choice\, if available. If attending in person\, you will be given priority when booking your place. \nOur prayer for those who are sick is recited at the Shabbat morning service so please let the office know if there is anyone you would like added to that list. \n 
URL:https://sps.uk.com/event/shabbat-morning-service-26/
CATEGORIES:Shabbat Services
END:VEVENT
BEGIN:VEVENT
DTSTART;TZID=Europe/London:20241101T200000
DTEND;TZID=Europe/London:20241101T200000
DTSTAMP:20260424T084432
CREATED:20240816T214925Z
LAST-MODIFIED:20240816T214925Z
UID:8827-1730491200-1730491200@sps.uk.com
SUMMARY:Erev Shabbat Service
DESCRIPTION:  \n  \n\n 
URL:https://sps.uk.com/event/erev-shabbat-service-28/
CATEGORIES:Shabbat Services
END:VEVENT
BEGIN:VEVENT
DTSTART;TZID=Europe/London:20241102T110000
DTEND;TZID=Europe/London:20241102T110000
DTSTAMP:20260424T084432
CREATED:20240816T215004Z
LAST-MODIFIED:20240816T215004Z
UID:8829-1730545200-1730545200@sps.uk.com
SUMMARY:Shabbat Morning Service
DESCRIPTION:If you have a Yahrzeit and would like to have a mitzvah either on Zoom or at the Synagogue\, please email the office and we will allocate the reading of your choice\, if available. If attending in person\, you will be given priority when booking your place. \nOur prayer for those who are sick is recited at the Shabbat morning service so please let the office know if there is anyone you would like added to that list. \n 
URL:https://sps.uk.com/event/shabbat-morning-service-27/
CATEGORIES:Shabbat Services
END:VEVENT
BEGIN:VEVENT
DTSTART;TZID=Europe/London:20241108T200000
DTEND;TZID=Europe/London:20241108T200000
DTSTAMP:20260424T084432
CREATED:20240817T003021Z
LAST-MODIFIED:20240817T003021Z
UID:8849-1731096000-1731096000@sps.uk.com
SUMMARY:Erev Shabbat Service
DESCRIPTION:  \n  \n\n 
URL:https://sps.uk.com/event/erev-shabbat-service-31/
CATEGORIES:Shabbat Services
END:VEVENT
BEGIN:VEVENT
DTSTART;TZID=Europe/London:20241109T110000
DTEND;TZID=Europe/London:20241109T110000
DTSTAMP:20260424T084432
CREATED:20240817T003320Z
LAST-MODIFIED:20240817T003320Z
UID:8857-1731150000-1731150000@sps.uk.com
SUMMARY:Shabbat Morning Service
DESCRIPTION:If you have a Yahrzeit and would like to have a mitzvah either on Zoom or at the Synagogue\, please email the office and we will allocate the reading of your choice\, if available. If attending in person\, you will be given priority when booking your place. \nOur prayer for those who are sick is recited at the Shabbat morning service so please let the office know if there is anyone you would like added to that list. \n 
URL:https://sps.uk.com/event/shabbat-morning-service-28/
CATEGORIES:Shabbat Services
END:VEVENT
BEGIN:VEVENT
DTSTART;TZID=Europe/London:20241115T183000
DTEND;TZID=Europe/London:20241115T183000
DTSTAMP:20260424T084432
CREATED:20241002T160800Z
LAST-MODIFIED:20241002T160800Z
UID:9102-1731695400-1731695400@sps.uk.com
SUMMARY:Erev Shabbat informal service and Chavurah bring and share supper
DESCRIPTION:An early informal service and Chavurah bring and share supper. \n Please contact Barbara Martin by email on house@spsuk.com for catering purposes.   \n  \n  \n  \n 
URL:https://sps.uk.com/event/erev-shabbat-informal-service-and-chavurah-bring-and-share-supper-13/
CATEGORIES:Shabbat Services
END:VEVENT
BEGIN:VEVENT
DTSTART;TZID=Europe/London:20241116T110000
DTEND;TZID=Europe/London:20241116T110000
DTSTAMP:20260424T084432
CREATED:20240817T003630Z
LAST-MODIFIED:20240817T003630Z
UID:8863-1731754800-1731754800@sps.uk.com
SUMMARY:Shabbat Morning Service & Bat Mitzvah
DESCRIPTION:If you have a Yahrzeit and would like to have a mitzvah either on Zoom or at the Synagogue\, please email the office and we will allocate the reading of your choice\, if available. If attending in person\, you will be given priority when booking your place. \nOur prayer for those who are sick is recited at the Shabbat morning service so please let the office know if there is anyone you would like added to that list. \n 
URL:https://sps.uk.com/event/shabbat-morning-service-bat-mitzvah/
CATEGORIES:Shabbat Services
END:VEVENT
BEGIN:VEVENT
DTSTART;TZID=Europe/London:20241122T200000
DTEND;TZID=Europe/London:20241122T200000
DTSTAMP:20260424T084432
CREATED:20240817T003131Z
LAST-MODIFIED:20240817T003131Z
UID:8853-1732305600-1732305600@sps.uk.com
SUMMARY:Erev Shabbat Service
DESCRIPTION:  \n  \n\n 
URL:https://sps.uk.com/event/erev-shabbat-service-33/
CATEGORIES:Shabbat Services
END:VEVENT
BEGIN:VEVENT
DTSTART;TZID=Europe/London:20241123T110000
DTEND;TZID=Europe/London:20241123T110000
DTSTAMP:20260424T084432
CREATED:20241006T144846Z
LAST-MODIFIED:20241006T144846Z
UID:9109-1732359600-1732359600@sps.uk.com
SUMMARY:Shabbat Family Service
DESCRIPTION:  \n  \n  \n  \n  \nIf you have a Yahrzeit and would like to have a mitzvah either on Zoom or at the Synagogue\, please email the office and we will allocate the reading of your choice\, if available. If attending in person\, you will be given priority when booking your place. \nOur prayer for those who are sick is recited at the Shabbat morning service so please let the office know if there is anyone you would like added to that list. \n 
URL:https://sps.uk.com/event/shabbat-family-service-4/
CATEGORIES:Shabbat Services
END:VEVENT
BEGIN:VEVENT
DTSTART;TZID=Europe/London:20241129T200000
DTEND;TZID=Europe/London:20241129T200000
DTSTAMP:20260424T084432
CREATED:20240817T003145Z
LAST-MODIFIED:20240817T003145Z
UID:8855-1732910400-1732910400@sps.uk.com
SUMMARY:Erev Shabbat Service
DESCRIPTION:  \n  \n\n 
URL:https://sps.uk.com/event/erev-shabbat-service-34/
CATEGORIES:Shabbat Services
END:VEVENT
BEGIN:VEVENT
DTSTART;TZID=Europe/London:20241130T110000
DTEND;TZID=Europe/London:20241130T110000
DTSTAMP:20260424T084432
CREATED:20240817T003350Z
LAST-MODIFIED:20241006T155619Z
UID:8861-1732964400-1732964400@sps.uk.com
SUMMARY:Shabbat Morning Service & Bar Mitzvah
DESCRIPTION:If you have a Yahrzeit and would like to have a mitzvah either on Zoom or at the Synagogue\, please email the office and we will allocate the reading of your choice\, if available. If attending in person\, you will be given priority when booking your place. \nOur prayer for those who are sick is recited at the Shabbat morning service so please let the office know if there is anyone you would like added to that list. \n 
URL:https://sps.uk.com/event/shabbat-morning-service-30/
CATEGORIES:Shabbat Services
END:VEVENT
BEGIN:VEVENT
DTSTART;TZID=Europe/London:20241206T200000
DTEND;TZID=Europe/London:20241206T200000
DTSTAMP:20260424T084432
CREATED:20241006T184455Z
LAST-MODIFIED:20241006T184455Z
UID:9117-1733515200-1733515200@sps.uk.com
SUMMARY:Erev Shabbat Service
DESCRIPTION:  \n  \n\n 
URL:https://sps.uk.com/event/erev-shabbat-service-26/
CATEGORIES:Shabbat Services
END:VEVENT
BEGIN:VEVENT
DTSTART;TZID=Europe/London:20241207T110000
DTEND;TZID=Europe/London:20241207T110000
DTSTAMP:20260424T084432
CREATED:20241006T184744Z
LAST-MODIFIED:20241006T184744Z
UID:9123-1733569200-1733569200@sps.uk.com
SUMMARY:Shabbat Morning Service
DESCRIPTION:If you have a Yahrzeit and would like to have a mitzvah either on Zoom or at the Synagogue\, please email the office and we will allocate the reading of your choice\, if available. If attending in person\, you will be given priority when booking your place. \nOur prayer for those who are sick is recited at the Shabbat morning service so please let the office know if there is anyone you would like added to that list. \n 
URL:https://sps.uk.com/event/shabbat-morning-service-29/
CATEGORIES:Shabbat Services
END:VEVENT
BEGIN:VEVENT
DTSTART;TZID=Europe/London:20241213T200000
DTEND;TZID=Europe/London:20241213T200000
DTSTAMP:20260424T084432
CREATED:20241006T184509Z
LAST-MODIFIED:20241006T184509Z
UID:9119-1734120000-1734120000@sps.uk.com
SUMMARY:Erev Shabbat Service
DESCRIPTION:  \n  \n\n 
URL:https://sps.uk.com/event/erev-shabbat-service-29/
CATEGORIES:Shabbat Services
END:VEVENT
BEGIN:VEVENT
DTSTART;TZID=Europe/London:20241214T110000
DTEND;TZID=Europe/London:20241214T110000
DTSTAMP:20260424T084432
CREATED:20241006T184802Z
LAST-MODIFIED:20241006T184802Z
UID:9126-1734174000-1734174000@sps.uk.com
SUMMARY:Shabbat Morning Service
DESCRIPTION:If you have a Yahrzeit and would like to have a mitzvah either on Zoom or at the Synagogue\, please email the office and we will allocate the reading of your choice\, if available. If attending in person\, you will be given priority when booking your place. \nOur prayer for those who are sick is recited at the Shabbat morning service so please let the office know if there is anyone you would like added to that list. \n 
URL:https://sps.uk.com/event/shabbat-morning-service-31/
CATEGORIES:Shabbat Services
END:VEVENT
BEGIN:VEVENT
DTSTART;TZID=Europe/London:20241214T123000
DTEND;TZID=Europe/London:20241214T123000
DTSTAMP:20260424T084432
CREATED:20241019T161556Z
LAST-MODIFIED:20241019T161556Z
UID:9213-1734179400-1734179400@sps.uk.com
SUMMARY:Saturday Morning Shiur
DESCRIPTION:Rabbi Michael’s monthly lunch-and-learn Shiur at around 12.30 pm in the Baron Harris Room. \nLunch will not be provided; it will\, instead\, be a Chavura-style lunch - please bring for yourself\, and if possible\, something that you can share with others; tea and coffee will be provided. \nThese informal sessions are always interesting and entertaining\, starting with a discussion loosely based on the weekly Parasha\, which generally leads to amusing tales from Michael’s experiences as a Rabbi over many years. \nNo prior knowledge is required.
URL:https://sps.uk.com/event/saturday-morning-shiur-20/
CATEGORIES:Services,Shabbat Services
END:VEVENT
BEGIN:VEVENT
DTSTART;TZID=Europe/London:20241220T200000
DTEND;TZID=Europe/London:20241220T200000
DTSTAMP:20260424T084432
CREATED:20241121T135155Z
LAST-MODIFIED:20241121T135155Z
UID:9386-1734724800-1734724800@sps.uk.com
SUMMARY:Erev Shabbat Service
DESCRIPTION:  \n  \n\n 
URL:https://sps.uk.com/event/erev-shabbat-service-32/
CATEGORIES:Shabbat Services
END:VEVENT
BEGIN:VEVENT
DTSTART;TZID=Europe/London:20241221T110000
DTEND;TZID=Europe/London:20241221T110000
DTSTAMP:20260424T084432
CREATED:20241006T184818Z
LAST-MODIFIED:20241006T184818Z
UID:9128-1734778800-1734778800@sps.uk.com
SUMMARY:Shabbat Morning Service
DESCRIPTION:If you have a Yahrzeit and would like to have a mitzvah either on Zoom or at the Synagogue\, please email the office and we will allocate the reading of your choice\, if available. If attending in person\, you will be given priority when booking your place. \nOur prayer for those who are sick is recited at the Shabbat morning service so please let the office know if there is anyone you would like added to that list. \n 
URL:https://sps.uk.com/event/shabbat-morning-service-32/
CATEGORIES:Shabbat Services
END:VEVENT
BEGIN:VEVENT
DTSTART;TZID=Europe/London:20241227T183000
DTEND;TZID=Europe/London:20241227T183000
DTSTAMP:20260424T084432
CREATED:20241121T122332Z
LAST-MODIFIED:20241121T122643Z
UID:9382-1735324200-1735324200@sps.uk.com
SUMMARY:Chanukah Chavurah Supper
DESCRIPTION:  \n  \n  \n 
URL:https://sps.uk.com/event/erev-shabbat-informal-service-and-chavurah-bring-and-share-supper-16/
CATEGORIES:Shabbat Services
END:VEVENT
BEGIN:VEVENT
DTSTART;TZID=Europe/London:20241228T100000
DTEND;TZID=Europe/London:20241228T110000
DTSTAMP:20260424T084432
CREATED:20241201T044526Z
LAST-MODIFIED:20241201T044526Z
UID:9444-1735380000-1735383600@sps.uk.com
SUMMARY:Coffee & Schmooze
DESCRIPTION:
URL:https://sps.uk.com/event/coffee-schmooze-19/
CATEGORIES:Shabbat Services
END:VEVENT
BEGIN:VEVENT
DTSTART;TZID=Europe/London:20241228T110000
DTEND;TZID=Europe/London:20241228T110000
DTSTAMP:20260424T084432
CREATED:20241006T144916Z
LAST-MODIFIED:20241006T144916Z
UID:9111-1735383600-1735383600@sps.uk.com
SUMMARY:Shabbat Family Service
DESCRIPTION:  \n  \n  \n  \n  \nIf you have a Yahrzeit and would like to have a mitzvah either on Zoom or at the Synagogue\, please email the office and we will allocate the reading of your choice\, if available. If attending in person\, you will be given priority when booking your place. \nOur prayer for those who are sick is recited at the Shabbat morning service so please let the office know if there is anyone you would like added to that list. \n 
URL:https://sps.uk.com/event/shabbat-family-service-5/
CATEGORIES:Shabbat Services
END:VEVENT
BEGIN:VEVENT
DTSTART;TZID=Europe/London:20250103T200000
DTEND;TZID=Europe/London:20250103T200000
DTSTAMP:20260424T084432
CREATED:20241006T185510Z
LAST-MODIFIED:20241006T185510Z
UID:9149-1735934400-1735934400@sps.uk.com
SUMMARY:Erev Shabbat Service
DESCRIPTION:  \n  \n\n 
URL:https://sps.uk.com/event/erev-shabbat-service-35/
CATEGORIES:Shabbat Services
END:VEVENT
BEGIN:VEVENT
DTSTART;TZID=Europe/London:20250104T110000
DTEND;TZID=Europe/London:20250104T110000
DTSTAMP:20260424T084432
CREATED:20241006T185531Z
LAST-MODIFIED:20241006T185531Z
UID:9151-1735988400-1735988400@sps.uk.com
SUMMARY:Shabbat Morning Service
DESCRIPTION:If you have a Yahrzeit and would like to have a mitzvah either on Zoom or at the Synagogue\, please email the office and we will allocate the reading of your choice\, if available. If attending in person\, you will be given priority when booking your place. \nOur prayer for those who are sick is recited at the Shabbat morning service so please let the office know if there is anyone you would like added to that list. \n 
URL:https://sps.uk.com/event/shabbat-morning-service-33/
CATEGORIES:Shabbat Services
END:VEVENT
BEGIN:VEVENT
DTSTART;TZID=Europe/London:20250110T200000
DTEND;TZID=Europe/London:20250110T200000
DTSTAMP:20260424T084432
CREATED:20241019T160926Z
LAST-MODIFIED:20241019T160926Z
UID:9198-1736539200-1736539200@sps.uk.com
SUMMARY:Erev Shabbat Service
DESCRIPTION:  \n  \n\n 
URL:https://sps.uk.com/event/erev-shabbat-service-36/
CATEGORIES:Shabbat Services
END:VEVENT
BEGIN:VEVENT
DTSTART;TZID=Europe/London:20250111T110000
DTEND;TZID=Europe/London:20250111T110000
DTSTAMP:20260424T084432
CREATED:20241019T161205Z
LAST-MODIFIED:20241019T161205Z
UID:9208-1736593200-1736593200@sps.uk.com
SUMMARY:Shabbat Morning Service
DESCRIPTION:If you have a Yahrzeit and would like to have a mitzvah either on Zoom or at the Synagogue\, please email the office and we will allocate the reading of your choice\, if available. If attending in person\, you will be given priority when booking your place. \nOur prayer for those who are sick is recited at the Shabbat morning service so please let the office know if there is anyone you would like added to that list. \n 
URL:https://sps.uk.com/event/shabbat-morning-service-34/
CATEGORIES:Shabbat Services
END:VEVENT
BEGIN:VEVENT
DTSTART;TZID=Europe/London:20250111T123000
DTEND;TZID=Europe/London:20250111T123000
DTSTAMP:20260424T084432
CREATED:20241019T161641Z
LAST-MODIFIED:20241019T161641Z
UID:9215-1736598600-1736598600@sps.uk.com
SUMMARY:Saturday Morning Shiur
DESCRIPTION:Rabbi Michael’s monthly lunch-and-learn Shiur at around 12.30 pm in the Baron Harris Room. \nLunch will not be provided; it will\, instead\, be a Chavura-style lunch - please bring for yourself\, and if possible\, something that you can share with others; tea and coffee will be provided. \nThese informal sessions are always interesting and entertaining\, starting with a discussion loosely based on the weekly Parasha\, which generally leads to amusing tales from Michael’s experiences as a Rabbi over many years. \nNo prior knowledge is required.
URL:https://sps.uk.com/event/saturday-morning-shiur-21/
CATEGORIES:Services,Shabbat Services
END:VEVENT
BEGIN:VEVENT
DTSTART;TZID=Europe/London:20250117T183000
DTEND;TZID=Europe/London:20250117T183000
DTSTAMP:20260424T084432
CREATED:20241019T161056Z
LAST-MODIFIED:20241019T161056Z
UID:9206-1737138600-1737138600@sps.uk.com
SUMMARY:Erev Shabbat informal service and Chavurah bring and share supper
DESCRIPTION:An early informal service and Chavurah bring and share supper. \n Please contact Barbara Martin by email on house@spsuk.com for catering purposes.   \n  \n  \n  \n 
URL:https://sps.uk.com/event/erev-shabbat-informal-service-and-chavurah-bring-and-share-supper-15/
CATEGORIES:Shabbat Services
END:VEVENT
BEGIN:VEVENT
DTSTART;TZID=Europe/London:20250118T110000
DTEND;TZID=Europe/London:20250118T110000
DTSTAMP:20260424T084432
CREATED:20241019T161219Z
LAST-MODIFIED:20241019T161219Z
UID:9210-1737198000-1737198000@sps.uk.com
SUMMARY:Shabbat Morning Service
DESCRIPTION:If you have a Yahrzeit and would like to have a mitzvah either on Zoom or at the Synagogue\, please email the office and we will allocate the reading of your choice\, if available. If attending in person\, you will be given priority when booking your place. \nOur prayer for those who are sick is recited at the Shabbat morning service so please let the office know if there is anyone you would like added to that list. \n 
URL:https://sps.uk.com/event/shabbat-morning-service-35/
CATEGORIES:Shabbat Services
END:VEVENT
BEGIN:VEVENT
DTSTART;TZID=Europe/London:20250124T200000
DTEND;TZID=Europe/London:20250124T200000
DTSTAMP:20260424T084432
CREATED:20241019T160950Z
LAST-MODIFIED:20241019T160950Z
UID:9201-1737748800-1737748800@sps.uk.com
SUMMARY:Erev Shabbat Service
DESCRIPTION:  \n  \n\n 
URL:https://sps.uk.com/event/erev-shabbat-service-37/
CATEGORIES:Shabbat Services
END:VEVENT
END:VCALENDAR