BEGIN:VCALENDAR
VERSION:2.0
PRODID:-//Southgate Progressive Synagogue - ECPv6.15.20//NONSGML v1.0//EN
CALSCALE:GREGORIAN
METHOD:PUBLISH
X-WR-CALNAME:Southgate Progressive Synagogue
X-ORIGINAL-URL:https://sps.uk.com
X-WR-CALDESC:Events for Southgate Progressive Synagogue
REFRESH-INTERVAL;VALUE=DURATION:PT1H
X-Robots-Tag:noindex
X-PUBLISHED-TTL:PT1H
BEGIN:VTIMEZONE
TZID:Europe/London
BEGIN:DAYLIGHT
TZOFFSETFROM:+0000
TZOFFSETTO:+0100
TZNAME:BST
DTSTART:20240331T010000
END:DAYLIGHT
BEGIN:STANDARD
TZOFFSETFROM:+0100
TZOFFSETTO:+0000
TZNAME:GMT
DTSTART:20241027T010000
END:STANDARD
BEGIN:DAYLIGHT
TZOFFSETFROM:+0000
TZOFFSETTO:+0100
TZNAME:BST
DTSTART:20250330T010000
END:DAYLIGHT
BEGIN:STANDARD
TZOFFSETFROM:+0100
TZOFFSETTO:+0000
TZNAME:GMT
DTSTART:20251026T010000
END:STANDARD
BEGIN:DAYLIGHT
TZOFFSETFROM:+0000
TZOFFSETTO:+0100
TZNAME:BST
DTSTART:20260329T010000
END:DAYLIGHT
BEGIN:STANDARD
TZOFFSETFROM:+0100
TZOFFSETTO:+0000
TZNAME:GMT
DTSTART:20261025T010000
END:STANDARD
END:VTIMEZONE
BEGIN:VEVENT
DTSTART;TZID=Europe/London:20250110T200000
DTEND;TZID=Europe/London:20250110T200000
DTSTAMP:20260424T114634
CREATED:20241019T160926Z
LAST-MODIFIED:20241019T160926Z
UID:9198-1736539200-1736539200@sps.uk.com
SUMMARY:Erev Shabbat Service
DESCRIPTION:  \n  \n\n 
URL:https://sps.uk.com/event/erev-shabbat-service-36/
CATEGORIES:Shabbat Services
END:VEVENT
BEGIN:VEVENT
DTSTART;TZID=Europe/London:20250111T110000
DTEND;TZID=Europe/London:20250111T110000
DTSTAMP:20260424T114634
CREATED:20241019T161205Z
LAST-MODIFIED:20241019T161205Z
UID:9208-1736593200-1736593200@sps.uk.com
SUMMARY:Shabbat Morning Service
DESCRIPTION:If you have a Yahrzeit and would like to have a mitzvah either on Zoom or at the Synagogue\, please email the office and we will allocate the reading of your choice\, if available. If attending in person\, you will be given priority when booking your place. \nOur prayer for those who are sick is recited at the Shabbat morning service so please let the office know if there is anyone you would like added to that list. \n 
URL:https://sps.uk.com/event/shabbat-morning-service-34/
CATEGORIES:Shabbat Services
END:VEVENT
BEGIN:VEVENT
DTSTART;TZID=Europe/London:20250111T123000
DTEND;TZID=Europe/London:20250111T123000
DTSTAMP:20260424T114634
CREATED:20241019T161641Z
LAST-MODIFIED:20241019T161641Z
UID:9215-1736598600-1736598600@sps.uk.com
SUMMARY:Saturday Morning Shiur
DESCRIPTION:Rabbi Michael’s monthly lunch-and-learn Shiur at around 12.30 pm in the Baron Harris Room. \nLunch will not be provided; it will\, instead\, be a Chavura-style lunch - please bring for yourself\, and if possible\, something that you can share with others; tea and coffee will be provided. \nThese informal sessions are always interesting and entertaining\, starting with a discussion loosely based on the weekly Parasha\, which generally leads to amusing tales from Michael’s experiences as a Rabbi over many years. \nNo prior knowledge is required.
URL:https://sps.uk.com/event/saturday-morning-shiur-21/
CATEGORIES:Services,Shabbat Services
END:VEVENT
BEGIN:VEVENT
DTSTART;TZID=Europe/London:20250117T183000
DTEND;TZID=Europe/London:20250117T183000
DTSTAMP:20260424T114634
CREATED:20241019T161056Z
LAST-MODIFIED:20241019T161056Z
UID:9206-1737138600-1737138600@sps.uk.com
SUMMARY:Erev Shabbat informal service and Chavurah bring and share supper
DESCRIPTION:An early informal service and Chavurah bring and share supper. \n Please contact Barbara Martin by email on house@spsuk.com for catering purposes.   \n  \n  \n  \n 
URL:https://sps.uk.com/event/erev-shabbat-informal-service-and-chavurah-bring-and-share-supper-15/
CATEGORIES:Shabbat Services
END:VEVENT
BEGIN:VEVENT
DTSTART;TZID=Europe/London:20250118T110000
DTEND;TZID=Europe/London:20250118T110000
DTSTAMP:20260424T114634
CREATED:20241019T161219Z
LAST-MODIFIED:20241019T161219Z
UID:9210-1737198000-1737198000@sps.uk.com
SUMMARY:Shabbat Morning Service
DESCRIPTION:If you have a Yahrzeit and would like to have a mitzvah either on Zoom or at the Synagogue\, please email the office and we will allocate the reading of your choice\, if available. If attending in person\, you will be given priority when booking your place. \nOur prayer for those who are sick is recited at the Shabbat morning service so please let the office know if there is anyone you would like added to that list. \n 
URL:https://sps.uk.com/event/shabbat-morning-service-35/
CATEGORIES:Shabbat Services
END:VEVENT
BEGIN:VEVENT
DTSTART;TZID=Europe/London:20250124T200000
DTEND;TZID=Europe/London:20250124T200000
DTSTAMP:20260424T114634
CREATED:20241019T160950Z
LAST-MODIFIED:20241019T160950Z
UID:9201-1737748800-1737748800@sps.uk.com
SUMMARY:Erev Shabbat Service
DESCRIPTION:  \n  \n\n 
URL:https://sps.uk.com/event/erev-shabbat-service-37/
CATEGORIES:Shabbat Services
END:VEVENT
BEGIN:VEVENT
DTSTART;TZID=Europe/London:20250125T110000
DTEND;TZID=Europe/London:20250125T110000
DTSTAMP:20260424T114634
CREATED:20241019T161728Z
LAST-MODIFIED:20241019T161728Z
UID:9217-1737802800-1737802800@sps.uk.com
SUMMARY:Shabbat Family Service
DESCRIPTION:  \n  \n  \n  \n  \nIf you have a Yahrzeit and would like to have a mitzvah either on Zoom or at the Synagogue\, please email the office and we will allocate the reading of your choice\, if available. If attending in person\, you will be given priority when booking your place. \nOur prayer for those who are sick is recited at the Shabbat morning service so please let the office know if there is anyone you would like added to that list. \n 
URL:https://sps.uk.com/event/shabbat-family-service-6/
CATEGORIES:Shabbat Services
END:VEVENT
BEGIN:VEVENT
DTSTART;TZID=Europe/London:20250131T200000
DTEND;TZID=Europe/London:20250131T200000
DTSTAMP:20260424T114634
CREATED:20241019T161006Z
LAST-MODIFIED:20241019T161006Z
UID:9204-1738353600-1738353600@sps.uk.com
SUMMARY:Erev Shabbat Service
DESCRIPTION:  \n  \n\n 
URL:https://sps.uk.com/event/erev-shabbat-service-38/
CATEGORIES:Shabbat Services
END:VEVENT
BEGIN:VEVENT
DTSTART;TZID=Europe/London:20250201T110000
DTEND;TZID=Europe/London:20250201T110000
DTSTAMP:20260424T114634
CREATED:20241019T161832Z
LAST-MODIFIED:20241019T161832Z
UID:9220-1738407600-1738407600@sps.uk.com
SUMMARY:Shabbat Morning Service
DESCRIPTION:If you have a Yahrzeit and would like to have a mitzvah either on Zoom or at the Synagogue\, please email the office and we will allocate the reading of your choice\, if available. If attending in person\, you will be given priority when booking your place. \nOur prayer for those who are sick is recited at the Shabbat morning service so please let the office know if there is anyone you would like added to that list. \n 
URL:https://sps.uk.com/event/shabbat-morning-service-36/
CATEGORIES:Shabbat Services
END:VEVENT
BEGIN:VEVENT
DTSTART;TZID=Europe/London:20250207T200000
DTEND;TZID=Europe/London:20250207T200000
DTSTAMP:20260424T114634
CREATED:20241201T043930Z
LAST-MODIFIED:20241201T043930Z
UID:9428-1738958400-1738958400@sps.uk.com
SUMMARY:Erev Shabbat Service
DESCRIPTION:  \n  \n\n 
URL:https://sps.uk.com/event/erev-shabbat-service-39/
CATEGORIES:Shabbat Services
END:VEVENT
BEGIN:VEVENT
DTSTART;TZID=Europe/London:20250208T110000
DTEND;TZID=Europe/London:20250208T110000
DTSTAMP:20260424T114634
CREATED:20241201T044208Z
LAST-MODIFIED:20241201T044208Z
UID:9436-1739012400-1739012400@sps.uk.com
SUMMARY:Shabbat Morning Service
DESCRIPTION:If you have a Yahrzeit and would like to have a mitzvah either on Zoom or at the Synagogue\, please email the office and we will allocate the reading of your choice\, if available. If attending in person\, you will be given priority when booking your place. \nOur prayer for those who are sick is recited at the Shabbat morning service so please let the office know if there is anyone you would like added to that list. \n 
URL:https://sps.uk.com/event/shabbat-morning-service-37/
CATEGORIES:Shabbat Services
END:VEVENT
BEGIN:VEVENT
DTSTART;TZID=Europe/London:20250208T123000
DTEND;TZID=Europe/London:20250208T123000
DTSTAMP:20260424T114634
CREATED:20241201T044801Z
LAST-MODIFIED:20241201T044801Z
UID:9448-1739017800-1739017800@sps.uk.com
SUMMARY:Saturday Morning Shiur
DESCRIPTION:Rabbi Michael’s monthly lunch-and-learn Shiur at around 12.30 pm in the Baron Harris Room. \nLunch will not be provided; it will\, instead\, be a Chavura-style lunch - please bring for yourself\, and if possible\, something that you can share with others; tea and coffee will be provided. \nThese informal sessions are always interesting and entertaining\, starting with a discussion loosely based on the weekly Parasha\, which generally leads to amusing tales from Michael’s experiences as a Rabbi over many years. \nNo prior knowledge is required.
URL:https://sps.uk.com/event/saturday-morning-shiur-22/
CATEGORIES:Services,Shabbat Services
END:VEVENT
BEGIN:VEVENT
DTSTART;TZID=Europe/London:20250214T200000
DTEND;TZID=Europe/London:20250214T200000
DTSTAMP:20260424T114634
CREATED:20241201T043946Z
LAST-MODIFIED:20241201T043946Z
UID:9430-1739563200-1739563200@sps.uk.com
SUMMARY:Erev Shabbat Service
DESCRIPTION:  \n  \n\n 
URL:https://sps.uk.com/event/erev-shabbat-service-40/
CATEGORIES:Shabbat Services
END:VEVENT
BEGIN:VEVENT
DTSTART;TZID=Europe/London:20250215T110000
DTEND;TZID=Europe/London:20250215T110000
DTSTAMP:20260424T114634
CREATED:20241201T044223Z
LAST-MODIFIED:20241201T044223Z
UID:9438-1739617200-1739617200@sps.uk.com
SUMMARY:Shabbat Morning Service
DESCRIPTION:If you have a Yahrzeit and would like to have a mitzvah either on Zoom or at the Synagogue\, please email the office and we will allocate the reading of your choice\, if available. If attending in person\, you will be given priority when booking your place. \nOur prayer for those who are sick is recited at the Shabbat morning service so please let the office know if there is anyone you would like added to that list. \n 
URL:https://sps.uk.com/event/shabbat-morning-service-38/
CATEGORIES:Shabbat Services
END:VEVENT
BEGIN:VEVENT
DTSTART;TZID=Europe/London:20250221T183000
DTEND;TZID=Europe/London:20250221T183000
DTSTAMP:20260424T114634
CREATED:20241201T043832Z
LAST-MODIFIED:20241201T043832Z
UID:9426-1740162600-1740162600@sps.uk.com
SUMMARY:Erev Shabbat informal service and Chavurah bring and share supper
DESCRIPTION:An early informal service and Chavurah bring and share supper. \n Please contact Barbara Martin by email on house@spsuk.com for catering purposes.   \n  \n  \n  \n 
URL:https://sps.uk.com/event/erev-shabbat-informal-service-and-chavurah-bring-and-share-supper-14/
CATEGORIES:Shabbat Services
END:VEVENT
BEGIN:VEVENT
DTSTART;TZID=Europe/London:20250222T100000
DTEND;TZID=Europe/London:20250222T110000
DTSTAMP:20260424T114634
CREATED:20241201T044642Z
LAST-MODIFIED:20241201T044642Z
UID:9446-1740218400-1740222000@sps.uk.com
SUMMARY:Coffee & Schmooze
DESCRIPTION:
URL:https://sps.uk.com/event/coffee-schmooze-20/
CATEGORIES:Shabbat Services
END:VEVENT
BEGIN:VEVENT
DTSTART;TZID=Europe/London:20250222T110000
DTEND;TZID=Europe/London:20250222T110000
DTSTAMP:20260424T114634
CREATED:20241201T044055Z
LAST-MODIFIED:20241201T044055Z
UID:9434-1740222000-1740222000@sps.uk.com
SUMMARY:Shabbat Family Service
DESCRIPTION:  \n  \n  \n  \n  \nIf you have a Yahrzeit and would like to have a mitzvah either on Zoom or at the Synagogue\, please email the office and we will allocate the reading of your choice\, if available. If attending in person\, you will be given priority when booking your place. \nOur prayer for those who are sick is recited at the Shabbat morning service so please let the office know if there is anyone you would like added to that list. \n 
URL:https://sps.uk.com/event/shabbat-family-service-7/
CATEGORIES:Shabbat Services
END:VEVENT
BEGIN:VEVENT
DTSTART;TZID=Europe/London:20250228T200000
DTEND;TZID=Europe/London:20250228T200000
DTSTAMP:20260424T114634
CREATED:20241201T044004Z
LAST-MODIFIED:20241201T044004Z
UID:9432-1740772800-1740772800@sps.uk.com
SUMMARY:Erev Shabbat Service
DESCRIPTION:  \n  \n\n 
URL:https://sps.uk.com/event/erev-shabbat-service-41/
CATEGORIES:Shabbat Services
END:VEVENT
BEGIN:VEVENT
DTSTART;TZID=Europe/London:20250301T110000
DTEND;TZID=Europe/London:20250301T110000
DTSTAMP:20260424T114634
CREATED:20241201T044253Z
LAST-MODIFIED:20241201T044253Z
UID:9442-1740826800-1740826800@sps.uk.com
SUMMARY:Shabbat Morning Service
DESCRIPTION:If you have a Yahrzeit and would like to have a mitzvah either on Zoom or at the Synagogue\, please email the office and we will allocate the reading of your choice\, if available. If attending in person\, you will be given priority when booking your place. \nOur prayer for those who are sick is recited at the Shabbat morning service so please let the office know if there is anyone you would like added to that list. \n 
URL:https://sps.uk.com/event/shabbat-morning-service-40/
CATEGORIES:Shabbat Services
END:VEVENT
BEGIN:VEVENT
DTSTART;TZID=Europe/London:20250301T123000
DTEND;TZID=Europe/London:20250301T123000
DTSTAMP:20260424T114634
CREATED:20250212T162847Z
LAST-MODIFIED:20250212T162847Z
UID:9643-1740832200-1740832200@sps.uk.com
SUMMARY:Saturday Morning Shiur
DESCRIPTION:Rabbi Michael’s monthly lunch-and-learn Shiur at around 12.30 pm in the Baron Harris Room. \nLunch will not be provided; it will\, instead\, be a Chavura-style lunch - please bring for yourself\, and if possible\, something that you can share with others; tea and coffee will be provided. \nThese informal sessions are always interesting and entertaining\, starting with a discussion loosely based on the weekly Parasha\, which generally leads to amusing tales from Michael’s experiences as a Rabbi over many years. \nNo prior knowledge is required.
URL:https://sps.uk.com/event/saturday-morning-shiur-23/
CATEGORIES:Services,Shabbat Services
END:VEVENT
BEGIN:VEVENT
DTSTART;TZID=Europe/London:20250307T200000
DTEND;TZID=Europe/London:20250307T200000
DTSTAMP:20260424T114634
CREATED:20250212T163216Z
LAST-MODIFIED:20250212T163216Z
UID:9645-1741377600-1741377600@sps.uk.com
SUMMARY:Erev Shabbat Service
DESCRIPTION:  \n  \n\n 
URL:https://sps.uk.com/event/erev-shabbat-service-42/
CATEGORIES:Shabbat Services
END:VEVENT
BEGIN:VEVENT
DTSTART;TZID=Europe/London:20250308T110000
DTEND;TZID=Europe/London:20250308T110000
DTSTAMP:20260424T114634
CREATED:20250212T163619Z
LAST-MODIFIED:20250212T163619Z
UID:9659-1741431600-1741431600@sps.uk.com
SUMMARY:Shabbat Morning Service
DESCRIPTION:If you have a Yahrzeit and would like to have a mitzvah either on Zoom or at the Synagogue\, please email the office and we will allocate the reading of your choice\, if available. If attending in person\, you will be given priority when booking your place. \nOur prayer for those who are sick is recited at the Shabbat morning service so please let the office know if there is anyone you would like added to that list. \n 
URL:https://sps.uk.com/event/shabbat-morning-service-39/
CATEGORIES:Shabbat Services
END:VEVENT
BEGIN:VEVENT
DTSTART;TZID=Europe/London:20250314T200000
DTEND;TZID=Europe/London:20250314T200000
DTSTAMP:20260424T114634
CREATED:20250212T163237Z
LAST-MODIFIED:20250212T163237Z
UID:9647-1741982400-1741982400@sps.uk.com
SUMMARY:Erev Shabbat Service
DESCRIPTION:  \n  \n\n 
URL:https://sps.uk.com/event/erev-shabbat-service-43/
CATEGORIES:Shabbat Services
END:VEVENT
BEGIN:VEVENT
DTSTART;TZID=Europe/London:20250315T110000
DTEND;TZID=Europe/London:20250315T110000
DTSTAMP:20260424T114634
CREATED:20250212T163636Z
LAST-MODIFIED:20250212T163636Z
UID:9661-1742036400-1742036400@sps.uk.com
SUMMARY:Shabbat Morning Service
DESCRIPTION:If you have a Yahrzeit and would like to have a mitzvah either on Zoom or at the Synagogue\, please email the office and we will allocate the reading of your choice\, if available. If attending in person\, you will be given priority when booking your place. \nOur prayer for those who are sick is recited at the Shabbat morning service so please let the office know if there is anyone you would like added to that list. \n 
URL:https://sps.uk.com/event/shabbat-morning-service-41/
CATEGORIES:Shabbat Services
END:VEVENT
BEGIN:VEVENT
DTSTART;TZID=Europe/London:20250321T200000
DTEND;TZID=Europe/London:20250321T200000
DTSTAMP:20260424T114634
CREATED:20250212T163306Z
LAST-MODIFIED:20250212T163306Z
UID:9649-1742587200-1742587200@sps.uk.com
SUMMARY:Erev Shabbat Service
DESCRIPTION:  \n  \n\n 
URL:https://sps.uk.com/event/erev-shabbat-service-44/
CATEGORIES:Shabbat Services
END:VEVENT
BEGIN:VEVENT
DTSTART;TZID=Europe/London:20250322T100000
DTEND;TZID=Europe/London:20250322T110000
DTSTAMP:20260424T114634
CREATED:20250212T163528Z
LAST-MODIFIED:20250212T163528Z
UID:9657-1742637600-1742641200@sps.uk.com
SUMMARY:Coffee & Schmooze
DESCRIPTION:
URL:https://sps.uk.com/event/coffee-schmooze-21/
CATEGORIES:Shabbat Services
END:VEVENT
BEGIN:VEVENT
DTSTART;TZID=Europe/London:20250322T110000
DTEND;TZID=Europe/London:20250322T110000
DTSTAMP:20260424T114634
CREATED:20250212T163448Z
LAST-MODIFIED:20250212T163448Z
UID:9655-1742641200-1742641200@sps.uk.com
SUMMARY:Shabbat Family Service
DESCRIPTION:  \n  \n  \n  \n  \nIf you have a Yahrzeit and would like to have a mitzvah either on Zoom or at the Synagogue\, please email the office and we will allocate the reading of your choice\, if available. If attending in person\, you will be given priority when booking your place. \nOur prayer for those who are sick is recited at the Shabbat morning service so please let the office know if there is anyone you would like added to that list. \n 
URL:https://sps.uk.com/event/shabbat-family-service-8/
CATEGORIES:Shabbat Services
END:VEVENT
BEGIN:VEVENT
DTSTART;TZID=Europe/London:20250328T200000
DTEND;TZID=Europe/London:20250328T200000
DTSTAMP:20260424T114634
CREATED:20250212T163325Z
LAST-MODIFIED:20250212T163325Z
UID:9651-1743192000-1743192000@sps.uk.com
SUMMARY:Erev Shabbat Service
DESCRIPTION:  \n  \n\n 
URL:https://sps.uk.com/event/erev-shabbat-service-45/
CATEGORIES:Shabbat Services
END:VEVENT
BEGIN:VEVENT
DTSTART;TZID=Europe/London:20250329T110000
DTEND;TZID=Europe/London:20250329T110000
DTSTAMP:20260424T114635
CREATED:20250212T163653Z
LAST-MODIFIED:20250212T163653Z
UID:9663-1743246000-1743246000@sps.uk.com
SUMMARY:Shabbat Morning Service
DESCRIPTION:If you have a Yahrzeit and would like to have a mitzvah either on Zoom or at the Synagogue\, please email the office and we will allocate the reading of your choice\, if available. If attending in person\, you will be given priority when booking your place. \nOur prayer for those who are sick is recited at the Shabbat morning service so please let the office know if there is anyone you would like added to that list. \n 
URL:https://sps.uk.com/event/shabbat-morning-service-42/
CATEGORIES:Shabbat Services
END:VEVENT
BEGIN:VEVENT
DTSTART;TZID=Europe/London:20250404T200000
DTEND;TZID=Europe/London:20250404T200000
DTSTAMP:20260424T114635
CREATED:20250212T163357Z
LAST-MODIFIED:20250212T163357Z
UID:9653-1743796800-1743796800@sps.uk.com
SUMMARY:Erev Shabbat Service
DESCRIPTION:  \n  \n\n 
URL:https://sps.uk.com/event/erev-shabbat-service-46/
CATEGORIES:Shabbat Services
END:VEVENT
END:VCALENDAR