BEGIN:VCALENDAR
VERSION:2.0
PRODID:-//Southgate Progressive Synagogue - ECPv6.15.20//NONSGML v1.0//EN
CALSCALE:GREGORIAN
METHOD:PUBLISH
X-WR-CALNAME:Southgate Progressive Synagogue
X-ORIGINAL-URL:https://sps.uk.com
X-WR-CALDESC:Events for Southgate Progressive Synagogue
REFRESH-INTERVAL;VALUE=DURATION:PT1H
X-Robots-Tag:noindex
X-PUBLISHED-TTL:PT1H
BEGIN:VTIMEZONE
TZID:Europe/London
BEGIN:DAYLIGHT
TZOFFSETFROM:+0000
TZOFFSETTO:+0100
TZNAME:BST
DTSTART:20240331T010000
END:DAYLIGHT
BEGIN:STANDARD
TZOFFSETFROM:+0100
TZOFFSETTO:+0000
TZNAME:GMT
DTSTART:20241027T010000
END:STANDARD
BEGIN:DAYLIGHT
TZOFFSETFROM:+0000
TZOFFSETTO:+0100
TZNAME:BST
DTSTART:20250330T010000
END:DAYLIGHT
BEGIN:STANDARD
TZOFFSETFROM:+0100
TZOFFSETTO:+0000
TZNAME:GMT
DTSTART:20251026T010000
END:STANDARD
BEGIN:DAYLIGHT
TZOFFSETFROM:+0000
TZOFFSETTO:+0100
TZNAME:BST
DTSTART:20260329T010000
END:DAYLIGHT
BEGIN:STANDARD
TZOFFSETFROM:+0100
TZOFFSETTO:+0000
TZNAME:GMT
DTSTART:20261025T010000
END:STANDARD
END:VTIMEZONE
BEGIN:VEVENT
DTSTART;TZID=Europe/London:20250321T200000
DTEND;TZID=Europe/London:20250321T200000
DTSTAMP:20260424T145159
CREATED:20250212T163306Z
LAST-MODIFIED:20250212T163306Z
UID:9649-1742587200-1742587200@sps.uk.com
SUMMARY:Erev Shabbat Service
DESCRIPTION:  \n  \n\n 
URL:https://sps.uk.com/event/erev-shabbat-service-44/
CATEGORIES:Shabbat Services
END:VEVENT
BEGIN:VEVENT
DTSTART;TZID=Europe/London:20250322T100000
DTEND;TZID=Europe/London:20250322T110000
DTSTAMP:20260424T145159
CREATED:20250212T163528Z
LAST-MODIFIED:20250212T163528Z
UID:9657-1742637600-1742641200@sps.uk.com
SUMMARY:Coffee & Schmooze
DESCRIPTION:
URL:https://sps.uk.com/event/coffee-schmooze-21/
CATEGORIES:Shabbat Services
END:VEVENT
BEGIN:VEVENT
DTSTART;TZID=Europe/London:20250322T110000
DTEND;TZID=Europe/London:20250322T110000
DTSTAMP:20260424T145159
CREATED:20250212T163448Z
LAST-MODIFIED:20250212T163448Z
UID:9655-1742641200-1742641200@sps.uk.com
SUMMARY:Shabbat Family Service
DESCRIPTION:  \n  \n  \n  \n  \nIf you have a Yahrzeit and would like to have a mitzvah either on Zoom or at the Synagogue\, please email the office and we will allocate the reading of your choice\, if available. If attending in person\, you will be given priority when booking your place. \nOur prayer for those who are sick is recited at the Shabbat morning service so please let the office know if there is anyone you would like added to that list. \n 
URL:https://sps.uk.com/event/shabbat-family-service-8/
CATEGORIES:Shabbat Services
END:VEVENT
BEGIN:VEVENT
DTSTART;TZID=Europe/London:20250328T200000
DTEND;TZID=Europe/London:20250328T200000
DTSTAMP:20260424T145159
CREATED:20250212T163325Z
LAST-MODIFIED:20250212T163325Z
UID:9651-1743192000-1743192000@sps.uk.com
SUMMARY:Erev Shabbat Service
DESCRIPTION:  \n  \n\n 
URL:https://sps.uk.com/event/erev-shabbat-service-45/
CATEGORIES:Shabbat Services
END:VEVENT
BEGIN:VEVENT
DTSTART;TZID=Europe/London:20250329T110000
DTEND;TZID=Europe/London:20250329T110000
DTSTAMP:20260424T145159
CREATED:20250212T163653Z
LAST-MODIFIED:20250212T163653Z
UID:9663-1743246000-1743246000@sps.uk.com
SUMMARY:Shabbat Morning Service
DESCRIPTION:If you have a Yahrzeit and would like to have a mitzvah either on Zoom or at the Synagogue\, please email the office and we will allocate the reading of your choice\, if available. If attending in person\, you will be given priority when booking your place. \nOur prayer for those who are sick is recited at the Shabbat morning service so please let the office know if there is anyone you would like added to that list. \n 
URL:https://sps.uk.com/event/shabbat-morning-service-42/
CATEGORIES:Shabbat Services
END:VEVENT
BEGIN:VEVENT
DTSTART;TZID=Europe/London:20250404T200000
DTEND;TZID=Europe/London:20250404T200000
DTSTAMP:20260424T145159
CREATED:20250212T163357Z
LAST-MODIFIED:20250212T163357Z
UID:9653-1743796800-1743796800@sps.uk.com
SUMMARY:Erev Shabbat Service
DESCRIPTION:  \n  \n\n 
URL:https://sps.uk.com/event/erev-shabbat-service-46/
CATEGORIES:Shabbat Services
END:VEVENT
BEGIN:VEVENT
DTSTART;TZID=Europe/London:20250405T100000
DTEND;TZID=Europe/London:20250405T110000
DTSTAMP:20260424T145159
CREATED:20250215T024106Z
LAST-MODIFIED:20250326T090040Z
UID:9739-1743847200-1743850800@sps.uk.com
SUMMARY:Coffee & Schmooze
DESCRIPTION:
URL:https://sps.uk.com/event/coffee-schmooze-22/
CATEGORIES:Shabbat Services
END:VEVENT
BEGIN:VEVENT
DTSTART;TZID=Europe/London:20250405T110000
DTEND;TZID=Europe/London:20250405T110000
DTSTAMP:20260424T145159
CREATED:20250212T163722Z
LAST-MODIFIED:20250212T163722Z
UID:9665-1743850800-1743850800@sps.uk.com
SUMMARY:Shabbat Morning Service
DESCRIPTION:If you have a Yahrzeit and would like to have a mitzvah either on Zoom or at the Synagogue\, please email the office and we will allocate the reading of your choice\, if available. If attending in person\, you will be given priority when booking your place. \nOur prayer for those who are sick is recited at the Shabbat morning service so please let the office know if there is anyone you would like added to that list. \n 
URL:https://sps.uk.com/event/shabbat-morning-service-43/
CATEGORIES:Shabbat Services
END:VEVENT
BEGIN:VEVENT
DTSTART;TZID=Europe/London:20250411T200000
DTEND;TZID=Europe/London:20250411T200000
DTSTAMP:20260424T145159
CREATED:20250215T022213Z
LAST-MODIFIED:20250215T022213Z
UID:9702-1744401600-1744401600@sps.uk.com
SUMMARY:Erev Shabbat Service
DESCRIPTION:  \n  \n\n 
URL:https://sps.uk.com/event/erev-shabbat-service-47/
CATEGORIES:Shabbat Services
END:VEVENT
BEGIN:VEVENT
DTSTART;TZID=Europe/London:20250412T110000
DTEND;TZID=Europe/London:20250412T110000
DTSTAMP:20260424T145159
CREATED:20250215T022343Z
LAST-MODIFIED:20250215T022343Z
UID:9709-1744455600-1744455600@sps.uk.com
SUMMARY:Shabbat Morning Service
DESCRIPTION:If you have a Yahrzeit and would like to have a mitzvah either on Zoom or at the Synagogue\, please email the office and we will allocate the reading of your choice\, if available. If attending in person\, you will be given priority when booking your place. \nOur prayer for those who are sick is recited at the Shabbat morning service so please let the office know if there is anyone you would like added to that list. \n 
URL:https://sps.uk.com/event/shabbat-morning-service-44/
CATEGORIES:Shabbat Services
END:VEVENT
BEGIN:VEVENT
DTSTART;TZID=Europe/London:20250412T123000
DTEND;TZID=Europe/London:20250412T123000
DTSTAMP:20260424T145159
CREATED:20250316T115132Z
LAST-MODIFIED:20250316T115132Z
UID:9795-1744461000-1744461000@sps.uk.com
SUMMARY:Saturday Morning Shiur
DESCRIPTION:Rabbi Michael’s monthly lunch-and-learn Shiur at around 12.30 pm in the Baron Harris Room. \nLunch will not be provided; it will\, instead\, be a Chavura-style lunch - please bring for yourself\, and if possible\, something that you can share with others; tea and coffee will be provided. \nThese informal sessions are always interesting and entertaining\, starting with a discussion loosely based on the weekly Parasha\, which generally leads to amusing tales from Michael’s experiences as a Rabbi over many years. \nNo prior knowledge is required.
URL:https://sps.uk.com/event/saturday-morning-shiur-24/
CATEGORIES:Services,Shabbat Services
END:VEVENT
BEGIN:VEVENT
DTSTART;TZID=Europe/London:20250413T103000
DTEND;TZID=Europe/London:20250413T110000
DTSTAMP:20260424T145159
CREATED:20250405T102903Z
LAST-MODIFIED:20250405T102943Z
UID:9841-1744540200-1744542000@sps.uk.com
SUMMARY:1st Day of Pesach - at Sharei Tzedek
DESCRIPTION:  \n  \n  \n  \nAt SHAREI TZEDEK\n\n 
URL:https://sps.uk.com/event/1st-day-of-pesach-4/
CATEGORIES:Festival Services,Services
END:VEVENT
BEGIN:VEVENT
DTSTART;TZID=Europe/London:20250413T181500
DTEND;TZID=Europe/London:20250413T181500
DTSTAMP:20260424T145159
CREATED:20250405T102639Z
LAST-MODIFIED:20250413T025232Z
UID:9839-1744568100-1744568100@sps.uk.com
SUMMARY:Communal Seder
DESCRIPTION:
URL:https://sps.uk.com/event/communal-seder/
CATEGORIES:Festival Services
END:VEVENT
BEGIN:VEVENT
DTSTART;TZID=Europe/London:20250418T183000
DTEND;TZID=Europe/London:20250418T183000
DTSTAMP:20260424T145159
CREATED:20250215T022707Z
LAST-MODIFIED:20250215T022800Z
UID:9717-1745001000-1745001000@sps.uk.com
SUMMARY:Erev 7th Day of Pesach
DESCRIPTION:  \n  \n  \n  \n\n 
URL:https://sps.uk.com/event/erev-7th-day-of-pesach-4/
CATEGORIES:Festival Services,Services
END:VEVENT
BEGIN:VEVENT
DTSTART;TZID=Europe/London:20250419T110000
DTEND;TZID=Europe/London:20250419T110000
DTSTAMP:20260424T145159
CREATED:20250215T022429Z
LAST-MODIFIED:20250215T022429Z
UID:9712-1745060400-1745060400@sps.uk.com
SUMMARY:Shabbat Morning Service
DESCRIPTION:If you have a Yahrzeit and would like to have a mitzvah either on Zoom or at the Synagogue\, please email the office and we will allocate the reading of your choice\, if available. If attending in person\, you will be given priority when booking your place. \nOur prayer for those who are sick is recited at the Shabbat morning service so please let the office know if there is anyone you would like added to that list. \n 
URL:https://sps.uk.com/event/shabbat-morning-service-45/
CATEGORIES:Shabbat Services
END:VEVENT
BEGIN:VEVENT
DTSTART;TZID=Europe/London:20250425T200000
DTEND;TZID=Europe/London:20250425T200000
DTSTAMP:20260424T145159
CREATED:20250215T022231Z
LAST-MODIFIED:20250215T022231Z
UID:9704-1745611200-1745611200@sps.uk.com
SUMMARY:Erev Shabbat Service
DESCRIPTION:  \n  \n\n 
URL:https://sps.uk.com/event/erev-shabbat-service-48/
CATEGORIES:Shabbat Services
END:VEVENT
BEGIN:VEVENT
DTSTART;TZID=Europe/London:20250426T110000
DTEND;TZID=Europe/London:20250426T110000
DTSTAMP:20260424T145159
CREATED:20250215T023316Z
LAST-MODIFIED:20250405T110344Z
UID:9721-1745665200-1745665200@sps.uk.com
SUMMARY:Shabbat Morning Service - Bat Mitzvah of Alice Dack
DESCRIPTION:  \nIf you have a Yahrzeit and would like to have a mitzvah either on Zoom or at the Synagogue\, please email the office and we will allocate the reading of your choice\, if available. If attending in person\, you will be given priority when booking your place. \nOur prayer for those who are sick is recited at the Shabbat morning service so please let the office know if there is anyone you would like added to that list. \n 
URL:https://sps.uk.com/event/shabbat-morning-service-bat-mitzvah-of-alice-dack/
CATEGORIES:Shabbat Services
END:VEVENT
BEGIN:VEVENT
DTSTART;TZID=Europe/London:20250430T190000
DTEND;TZID=Europe/London:20250430T213000
DTSTAMP:20260424T145159
CREATED:20250319T122756Z
LAST-MODIFIED:20250319T123206Z
UID:9804-1746039600-1746048600@sps.uk.com
SUMMARY:Yom Ha’atzmaut
DESCRIPTION:Israel's day of independence. \nA collaborative event involving Elstree Liberal\, Finchley Progressive and Sharei Tzedek\, to be held at Sha'arei Tsedek. \n  \n \n 
URL:https://sps.uk.com/event/yom-haatzmaut-2/
CATEGORIES:Festival Services
END:VEVENT
BEGIN:VEVENT
DTSTART;TZID=Europe/London:20250502T200000
DTEND;TZID=Europe/London:20250502T200000
DTSTAMP:20260424T145159
CREATED:20250215T022306Z
LAST-MODIFIED:20250215T022306Z
UID:9706-1746216000-1746216000@sps.uk.com
SUMMARY:Erev Shabbat Service
DESCRIPTION:  \n  \n\n 
URL:https://sps.uk.com/event/erev-shabbat-service-49/
CATEGORIES:Shabbat Services
END:VEVENT
BEGIN:VEVENT
DTSTART;TZID=Europe/London:20250503T100000
DTEND;TZID=Europe/London:20250503T110000
DTSTAMP:20260424T145159
CREATED:20250405T105346Z
LAST-MODIFIED:20250405T105346Z
UID:9861-1746266400-1746270000@sps.uk.com
SUMMARY:Coffee & Schmooze
DESCRIPTION:
URL:https://sps.uk.com/event/coffee-schmooze-23/
CATEGORIES:Shabbat Services
END:VEVENT
BEGIN:VEVENT
DTSTART;TZID=Europe/London:20250503T110000
DTEND;TZID=Europe/London:20250503T110000
DTSTAMP:20260424T145159
CREATED:20250215T022528Z
LAST-MODIFIED:20250215T022528Z
UID:9715-1746270000-1746270000@sps.uk.com
SUMMARY:Shabbat Morning Service
DESCRIPTION:If you have a Yahrzeit and would like to have a mitzvah either on Zoom or at the Synagogue\, please email the office and we will allocate the reading of your choice\, if available. If attending in person\, you will be given priority when booking your place. \nOur prayer for those who are sick is recited at the Shabbat morning service so please let the office know if there is anyone you would like added to that list. \n 
URL:https://sps.uk.com/event/shabbat-morning-service-46/
CATEGORIES:Shabbat Services
END:VEVENT
BEGIN:VEVENT
DTSTART;TZID=Europe/London:20250509T200000
DTEND;TZID=Europe/London:20250509T200000
DTSTAMP:20260424T145159
CREATED:20250405T104802Z
LAST-MODIFIED:20250405T104802Z
UID:9846-1746820800-1746820800@sps.uk.com
SUMMARY:Erev Shabbat Service
DESCRIPTION:  \n  \n\n 
URL:https://sps.uk.com/event/erev-shabbat-service-50/
CATEGORIES:Shabbat Services
END:VEVENT
BEGIN:VEVENT
DTSTART;TZID=Europe/London:20250510T110000
DTEND;TZID=Europe/London:20250510T110000
DTSTAMP:20260424T145159
CREATED:20250405T105017Z
LAST-MODIFIED:20250405T105017Z
UID:9854-1746874800-1746874800@sps.uk.com
SUMMARY:Shabbat Morning Service
DESCRIPTION:If you have a Yahrzeit and would like to have a mitzvah either on Zoom or at the Synagogue\, please email the office and we will allocate the reading of your choice\, if available. If attending in person\, you will be given priority when booking your place. \nOur prayer for those who are sick is recited at the Shabbat morning service so please let the office know if there is anyone you would like added to that list. \n 
URL:https://sps.uk.com/event/shabbat-morning-service-47/
CATEGORIES:Shabbat Services
END:VEVENT
BEGIN:VEVENT
DTSTART;TZID=Europe/London:20250516T183000
DTEND;TZID=Europe/London:20250516T183000
DTSTAMP:20260424T145159
CREATED:20250405T104656Z
LAST-MODIFIED:20250418T181556Z
UID:9844-1747420200-1747420200@sps.uk.com
SUMMARY:L'ag B'Omer
DESCRIPTION:  \n  \n  \n  \n 
URL:https://sps.uk.com/event/erev-shabbat-informal-service-and-chavurah-bring-and-share-supper-17/
CATEGORIES:Shabbat Services
END:VEVENT
BEGIN:VEVENT
DTSTART;TZID=Europe/London:20250517T110000
DTEND;TZID=Europe/London:20250517T110000
DTSTAMP:20260424T145159
CREATED:20250405T105040Z
LAST-MODIFIED:20250405T105040Z
UID:9857-1747479600-1747479600@sps.uk.com
SUMMARY:Shabbat Morning Service
DESCRIPTION:If you have a Yahrzeit and would like to have a mitzvah either on Zoom or at the Synagogue\, please email the office and we will allocate the reading of your choice\, if available. If attending in person\, you will be given priority when booking your place. \nOur prayer for those who are sick is recited at the Shabbat morning service so please let the office know if there is anyone you would like added to that list. \n 
URL:https://sps.uk.com/event/shabbat-morning-service-48/
CATEGORIES:Shabbat Services
END:VEVENT
BEGIN:VEVENT
DTSTART;TZID=Europe/London:20250523T200000
DTEND;TZID=Europe/London:20250523T200000
DTSTAMP:20260424T145159
CREATED:20250405T104818Z
LAST-MODIFIED:20250405T104818Z
UID:9848-1748030400-1748030400@sps.uk.com
SUMMARY:Erev Shabbat Service
DESCRIPTION:  \n  \n\n 
URL:https://sps.uk.com/event/erev-shabbat-service-51/
CATEGORIES:Shabbat Services
END:VEVENT
BEGIN:VEVENT
DTSTART;TZID=Europe/London:20250524T110000
DTEND;TZID=Europe/London:20250524T110000
DTSTAMP:20260424T145159
CREATED:20250405T104936Z
LAST-MODIFIED:20250405T104936Z
UID:9852-1748084400-1748084400@sps.uk.com
SUMMARY:Shabbat Family Service
DESCRIPTION:  \n  \n  \n  \n  \nIf you have a Yahrzeit and would like to have a mitzvah either on Zoom or at the Synagogue\, please email the office and we will allocate the reading of your choice\, if available. If attending in person\, you will be given priority when booking your place. \nOur prayer for those who are sick is recited at the Shabbat morning service so please let the office know if there is anyone you would like added to that list. \n 
URL:https://sps.uk.com/event/shabbat-family-service-9/
CATEGORIES:Shabbat Services
END:VEVENT
BEGIN:VEVENT
DTSTART;TZID=Europe/London:20250530T200000
DTEND;TZID=Europe/London:20250530T200000
DTSTAMP:20260424T145159
CREATED:20250405T104833Z
LAST-MODIFIED:20250405T104833Z
UID:9850-1748635200-1748635200@sps.uk.com
SUMMARY:Erev Shabbat Service
DESCRIPTION:  \n  \n\n 
URL:https://sps.uk.com/event/erev-shabbat-service-52/
CATEGORIES:Shabbat Services
END:VEVENT
BEGIN:VEVENT
DTSTART;TZID=Europe/London:20250531T110000
DTEND;TZID=Europe/London:20250531T110000
DTSTAMP:20260424T145159
CREATED:20250405T105259Z
LAST-MODIFIED:20250405T105259Z
UID:9859-1748689200-1748689200@sps.uk.com
SUMMARY:Shabbat Morning Service
DESCRIPTION:If you have a Yahrzeit and would like to have a mitzvah either on Zoom or at the Synagogue\, please email the office and we will allocate the reading of your choice\, if available. If attending in person\, you will be given priority when booking your place. \nOur prayer for those who are sick is recited at the Shabbat morning service so please let the office know if there is anyone you would like added to that list. \n 
URL:https://sps.uk.com/event/shabbat-morning-service-49/
CATEGORIES:Shabbat Services
END:VEVENT
BEGIN:VEVENT
DTSTART;TZID=Europe/London:20250601T183000
DTEND;TZID=Europe/London:20250601T183000
DTSTAMP:20260424T145159
CREATED:20250528T162755Z
LAST-MODIFIED:20250528T162755Z
UID:10043-1748802600-1748802600@sps.uk.com
SUMMARY:Erev Shavuot
DESCRIPTION:
URL:https://sps.uk.com/event/erev-shavuot/
CATEGORIES:Festival Services
END:VEVENT
END:VCALENDAR