BEGIN:VCALENDAR
VERSION:2.0
PRODID:-//Southgate Progressive Synagogue - ECPv6.15.20//NONSGML v1.0//EN
CALSCALE:GREGORIAN
METHOD:PUBLISH
X-ORIGINAL-URL:https://sps.uk.com
X-WR-CALDESC:Events for Southgate Progressive Synagogue
REFRESH-INTERVAL;VALUE=DURATION:PT1H
X-Robots-Tag:noindex
X-PUBLISHED-TTL:PT1H
BEGIN:VTIMEZONE
TZID:Europe/London
BEGIN:DAYLIGHT
TZOFFSETFROM:+0000
TZOFFSETTO:+0100
TZNAME:BST
DTSTART:20220327T010000
END:DAYLIGHT
BEGIN:STANDARD
TZOFFSETFROM:+0100
TZOFFSETTO:+0000
TZNAME:GMT
DTSTART:20221030T010000
END:STANDARD
BEGIN:DAYLIGHT
TZOFFSETFROM:+0000
TZOFFSETTO:+0100
TZNAME:BST
DTSTART:20230326T010000
END:DAYLIGHT
BEGIN:STANDARD
TZOFFSETFROM:+0100
TZOFFSETTO:+0000
TZNAME:GMT
DTSTART:20231029T010000
END:STANDARD
BEGIN:DAYLIGHT
TZOFFSETFROM:+0000
TZOFFSETTO:+0100
TZNAME:BST
DTSTART:20240331T010000
END:DAYLIGHT
BEGIN:STANDARD
TZOFFSETFROM:+0100
TZOFFSETTO:+0000
TZNAME:GMT
DTSTART:20241027T010000
END:STANDARD
END:VTIMEZONE
BEGIN:VEVENT
DTSTART;TZID=Europe/London:20230520T110000
DTEND;TZID=Europe/London:20230520T110000
DTSTAMP:20260423T035448
CREATED:20230321T185517Z
LAST-MODIFIED:20230516T153947Z
UID:6307-1684580400-1684580400@sps.uk.com
SUMMARY:Shabbat Service 3
DESCRIPTION:Click here for Service 3 page 117 \nClick here for this week's readings \nLeaders: Phyllis Freedman and Carol Shotts \n  \nMusician: Gina Kruger \nIf you have a Yahrzeit and would like to have a mitzvah either on Zoom or at the Synagogue\, please email the office and we will allocate the reading of your choice\, if available. If attending in person\, you will be given priority when booking your place. \nOur prayer for those who are sick is recited at the Shabbat morning service so please let the office know if there is anyone you would like added to that list. \n 
URL:https://sps.uk.com/event/shabbat-service-3-14/
CATEGORIES:Shabbat Services
END:VEVENT
BEGIN:VEVENT
DTSTART;TZID=Europe/London:20230525T163000
DTEND;TZID=Europe/London:20230525T214000
DTSTAMP:20260423T035448
CREATED:20230519T084931Z
LAST-MODIFIED:20230519T085157Z
UID:6547-1685032200-1685050800@sps.uk.com
SUMMARY:Erev Shavuot
DESCRIPTION:
URL:https://sps.uk.com/event/shavuot/
CATEGORIES:Festival Services
END:VEVENT
BEGIN:VEVENT
DTSTART;TZID=Europe/London:20230525T163000
DTEND;TZID=Europe/London:20230527T110000
DTSTAMP:20260423T035448
CREATED:20230519T084533Z
LAST-MODIFIED:20230527T102228Z
UID:6544-1685032200-1685185200@sps.uk.com
SUMMARY:Shavuot 2023 weekend
DESCRIPTION:
URL:https://sps.uk.com/event/shavuot-2023-weekend/
CATEGORIES:Festival Services
END:VEVENT
BEGIN:VEVENT
DTSTART;TZID=Europe/London:20230526T184500
DTEND;TZID=Europe/London:20230526T184500
DTSTAMP:20260423T035448
CREATED:20230321T185605Z
LAST-MODIFIED:20230516T164752Z
UID:6309-1685126700-1685126700@sps.uk.com
SUMMARY:Erev Shabbat - Alternative Arrangements
DESCRIPTION:There will be no Friday night service at SPS on the 26th May. You are invited to join The Liberal Synagogue St John's Wood for the evening.
URL:https://sps.uk.com/event/erev-shabbat-service-4-15/
CATEGORIES:Shabbat Services
END:VEVENT
BEGIN:VEVENT
DTSTART;TZID=Europe/London:20230527T110000
DTEND;TZID=Europe/London:20230527T110000
DTSTAMP:20260423T035448
CREATED:20230321T185655Z
LAST-MODIFIED:20230524T114403Z
UID:6311-1685185200-1685185200@sps.uk.com
SUMMARY:Shabbat Service 4
DESCRIPTION:Click here for Service 4 page 122 \nClick here for this week's readings \nLeader: Rabbi Roberta Harris \nMusician: Richard Pilliner \n  \nIf you have a Yahrzeit and would like to have a mitzvah either on Zoom or at the Synagogue\, please email the office and we will allocate the reading of your choice\, if available. If attending in person\, you will be given priority when booking your place. \nOur prayer for those who are sick is recited at the Shabbat morning service so please let the office know if there is anyone you would like added to that list. \n 
URL:https://sps.uk.com/event/shabbat-service-4-16/
CATEGORIES:Shabbat Services
END:VEVENT
BEGIN:VEVENT
DTSTART;TZID=Europe/London:20230602T200000
DTEND;TZID=Europe/London:20230602T200000
DTSTAMP:20260423T035448
CREATED:20230526T091033Z
LAST-MODIFIED:20230531T114502Z
UID:6586-1685736000-1685736000@sps.uk.com
SUMMARY:Erev Shabbat Service 1
DESCRIPTION:Click here for Service 1 page 69 \nClick here for this week's reading \nLeader: Rabbi Danny Rich  \nMusician: Franklyn Gellnick \n  \n  \n 
URL:https://sps.uk.com/event/erev-shabbat-service-1-17/
CATEGORIES:Shabbat Services
END:VEVENT
BEGIN:VEVENT
DTSTART;TZID=Europe/London:20230603T110000
DTEND;TZID=Europe/London:20230603T110000
DTSTAMP:20260423T035448
CREATED:20230526T091614Z
LAST-MODIFIED:20230531T114614Z
UID:6596-1685790000-1685790000@sps.uk.com
SUMMARY:Shabbat Service 1
DESCRIPTION:Click here for Service 1 page 105 \nClick here for this week's readings \nLeader: Rabbi Danny Rich with Student Rabbi Daisy Bogod \nMusician: Gina Kruger \n  \nIf you have a Yahrzeit and would like to have a mitzvah either on Zoom or at the Synagogue\, please email the office and we will allocate the reading of your choice\, if available. If attending in person\, you will be given priority when booking your place. \nOur prayer for those who are sick is recited at the Shabbat morning service so please let the office know if there is anyone you would like added to that list. \n 
URL:https://sps.uk.com/event/shabbat-service-1-17/
CATEGORIES:Shabbat Services
END:VEVENT
BEGIN:VEVENT
DTSTART;TZID=Europe/London:20230609T200000
DTEND;TZID=Europe/London:20230609T200000
DTSTAMP:20260423T035448
CREATED:20230526T091108Z
LAST-MODIFIED:20230609T154804Z
UID:6588-1686340800-1686340800@sps.uk.com
SUMMARY:Erev Shabbat Service 2
DESCRIPTION:Click here for tonight's service \nClick here for this week's reading \nLeader: Rabbi Danny Rich with SPS RAC \nMusician: Mich Sampson \n 
URL:https://sps.uk.com/event/erev-shabbat-service-2-16/
CATEGORIES:Shabbat Services
END:VEVENT
BEGIN:VEVENT
DTSTART;TZID=Europe/London:20230610T110000
DTEND;TZID=Europe/London:20230610T110000
DTSTAMP:20260423T035448
CREATED:20230526T091648Z
LAST-MODIFIED:20230606T111524Z
UID:6598-1686394800-1686394800@sps.uk.com
SUMMARY:Shabbat Service 2
DESCRIPTION:Click here for Service 2 page 112 \nClick here for this week's readings \nLeader: Rabbi Michael Standfield \nMusician: Gina Kruger \n  \nIf you have a Yahrzeit and would like to have a mitzvah either on Zoom or at the Synagogue\, please email the office and we will allocate the reading of your choice\, if available. If attending in person\, you will be given priority when booking your place. \nOur prayer for those who are sick is recited at the Shabbat morning service so please let the office know if there is anyone you would like added to that list.
URL:https://sps.uk.com/event/shabbat-service-2-17/
CATEGORIES:Shabbat Services
END:VEVENT
BEGIN:VEVENT
DTSTART;TZID=Europe/London:20230616T200000
DTEND;TZID=Europe/London:20230616T200000
DTSTAMP:20260423T035448
CREATED:20230526T091314Z
LAST-MODIFIED:20230613T145855Z
UID:6590-1686945600-1686945600@sps.uk.com
SUMMARY:Erev Shabbat Service 3
DESCRIPTION:Click here for Service 3 page 79 \nClick here for this week's reading \nLeader: Rabbi Danny Rich \n  \n This service will not be streamed
URL:https://sps.uk.com/event/erev-shabbat-service-3-15/
CATEGORIES:Shabbat Services
END:VEVENT
BEGIN:VEVENT
DTSTART;TZID=Europe/London:20230617T110000
DTEND;TZID=Europe/London:20230617T110000
DTSTAMP:20260423T035448
CREATED:20230526T091728Z
LAST-MODIFIED:20230617T072203Z
UID:6600-1686999600-1686999600@sps.uk.com
SUMMARY:Shabbat Service 3
DESCRIPTION:Click here for Service 3 page 117 \nClick here for this week's readings \n  \nMusician: Gina Kruger \n  \n  \nIf you have a Yahrzeit and would like to have a mitzvah either on Zoom or at the Synagogue\, please email the office and we will allocate the reading of your choice\, if available. If attending in person\, you will be given priority when booking your place. \nOur prayer for those who are sick is recited at the Shabbat morning service so please let the office know if there is anyone you would like added to that list. \n 
URL:https://sps.uk.com/event/shabbat-service-3-15/
CATEGORIES:Shabbat Services
END:VEVENT
BEGIN:VEVENT
DTSTART;TZID=Europe/London:20230623T200000
DTEND;TZID=Europe/London:20230623T200000
DTSTAMP:20260423T035448
CREATED:20230526T091419Z
LAST-MODIFIED:20230620T145616Z
UID:6592-1687550400-1687550400@sps.uk.com
SUMMARY:Erev Shabbat Service 4
DESCRIPTION:Click here for Service 4 page 84 \nClick here for this week's reading \nLeader: Phyllis Freedman  \nMusician: Mich Sampson  \n  \n 
URL:https://sps.uk.com/event/erev-shabbat-service-4-16/
CATEGORIES:Shabbat Services
END:VEVENT
BEGIN:VEVENT
DTSTART;TZID=Europe/London:20230624T110000
DTEND;TZID=Europe/London:20230624T110000
DTSTAMP:20260423T035448
CREATED:20230526T091805Z
LAST-MODIFIED:20230620T145658Z
UID:6602-1687604400-1687604400@sps.uk.com
SUMMARY:Shabbat Service 4
DESCRIPTION:Click here for Service 4 page 122 \nClick here for this week's readings \nLeader: Rabbi Roberta Harris   \nMusician: Richard Pilliner  \n  \nIf you have a Yahrzeit and would like to have a mitzvah either on Zoom or at the Synagogue\, please email the office and we will allocate the reading of your choice\, if available. If attending in person\, you will be given priority when booking your place. \nOur prayer for those who are sick is recited at the Shabbat morning service so please let the office know if there is anyone you would like added to that list. \n 
URL:https://sps.uk.com/event/shabbat-service-4-17/
CATEGORIES:Shabbat Services
END:VEVENT
BEGIN:VEVENT
DTSTART;TZID=Europe/London:20230630T200000
DTEND;TZID=Europe/London:20230630T200000
DTSTAMP:20260423T035448
CREATED:20230526T091456Z
LAST-MODIFIED:20230627T184354Z
UID:6594-1688155200-1688155200@sps.uk.com
SUMMARY:Erev Shabbat Service 1
DESCRIPTION:Click here for Service 1 page 69 \nClick here for this week's reading \nLeader: Martina Loreggian   \nMusician: Natasha Kafka  \n  \n  \n 
URL:https://sps.uk.com/event/erev-shabbat-service-1-18/
CATEGORIES:Shabbat Services
END:VEVENT
BEGIN:VEVENT
DTSTART;TZID=Europe/London:20230701T100000
DTEND;TZID=Europe/London:20230701T110000
DTSTAMP:20260423T035448
CREATED:20230630T093338Z
LAST-MODIFIED:20230630T094752Z
UID:6760-1688205600-1688209200@sps.uk.com
SUMMARY:Coffee & Schmooze
DESCRIPTION:
URL:https://sps.uk.com/event/coffee-schmooze-10-2/
CATEGORIES:Shabbat Services
END:VEVENT
BEGIN:VEVENT
DTSTART;TZID=Europe/London:20230701T110000
DTEND;TZID=Europe/London:20230701T110000
DTSTAMP:20260423T035448
CREATED:20230526T092025Z
LAST-MODIFIED:20230627T184432Z
UID:6604-1688209200-1688209200@sps.uk.com
SUMMARY:Shabbat Service 1
DESCRIPTION:Click here for Service 1 page 105 \nClick here for this week's readings \nLeader:  Rabbi Gershon Silins    \nMusician: Gina Kruger  \n  \nIf you have a Yahrzeit and would like to have a mitzvah either on Zoom or at the Synagogue\, please email the office and we will allocate the reading of your choice\, if available. If attending in person\, you will be given priority when booking your place. \nOur prayer for those who are sick is recited at the Shabbat morning service so please let the office know if there is anyone you would like added to that list. \n 
URL:https://sps.uk.com/event/shabbat-service-1-18/
CATEGORIES:Shabbat Services
END:VEVENT
BEGIN:VEVENT
DTSTART;TZID=Europe/London:20230707T200000
DTEND;TZID=Europe/London:20230707T200000
DTSTAMP:20260423T035448
CREATED:20230620T145855Z
LAST-MODIFIED:20230704T102244Z
UID:6700-1688760000-1688760000@sps.uk.com
SUMMARY:Erev Shabbat Service 2
DESCRIPTION:  \n  \nClick here for tonight's service \nClick here for this week's reading \nLeader: Rabbi Danny Rich with guest Rabbi Oshrat Morag  \nMusician: Franklyn Gellnick  \n \n 
URL:https://sps.uk.com/event/erev-shabbat-service-2-17/
CATEGORIES:Shabbat Services
END:VEVENT
BEGIN:VEVENT
DTSTART;TZID=Europe/London:20230708T110000
DTEND;TZID=Europe/London:20230708T110000
DTSTAMP:20260423T035448
CREATED:20230620T145937Z
LAST-MODIFIED:20230704T102349Z
UID:6702-1688814000-1688814000@sps.uk.com
SUMMARY:Shabbat Service 2
DESCRIPTION:Click here for Service 2 page 112 \nClick here for this week's readings \nLeader:  Rabbi Michael Standfield with guest preacher\, Rabbi Oshrat Morag \nMusician: Gina Kruger   \n  \n \nIf you have a Yahrzeit and would like to have a mitzvah either on Zoom or at the Synagogue\, please email the office and we will allocate the reading of your choice\, if available. If attending in person\, you will be given priority when booking your place. \nOur prayer for those who are sick is recited at the Shabbat morning service so please let the office know if there is anyone you would like added to that list.
URL:https://sps.uk.com/event/shabbat-service-2-18/
CATEGORIES:Shabbat Services
END:VEVENT
BEGIN:VEVENT
DTSTART;TZID=Europe/London:20230714T200000
DTEND;TZID=Europe/London:20230714T200000
DTSTAMP:20260423T035448
CREATED:20230620T150108Z
LAST-MODIFIED:20230711T092036Z
UID:6706-1689364800-1689364800@sps.uk.com
SUMMARY:Erev Shabbat Service 3
DESCRIPTION:Click here for Service 3 page 79 \nClick here for this week's reading \nLeader: Rabbi Danny Rich  \nMusician:  Natasha Kafka  
URL:https://sps.uk.com/event/erev-shabbat-service-3-16/
CATEGORIES:Shabbat Services
END:VEVENT
BEGIN:VEVENT
DTSTART;TZID=Europe/London:20230715T110000
DTEND;TZID=Europe/London:20230715T110000
DTSTAMP:20260423T035448
CREATED:20230620T150157Z
LAST-MODIFIED:20230711T092116Z
UID:6708-1689418800-1689418800@sps.uk.com
SUMMARY:Shabbat Service 3
DESCRIPTION:Click here for Service 3 page 117 \nClick here for this week's readings \nLeader:  Family Service led by Education Committee and Rabbi Danny Rich  \n  \nIf you have a Yahrzeit and would like to have a mitzvah either on Zoom or at the Synagogue\, please email the office and we will allocate the reading of your choice\, if available. If attending in person\, you will be given priority when booking your place. \nOur prayer for those who are sick is recited at the Shabbat morning service so please let the office know if there is anyone you would like added to that list. \n 
URL:https://sps.uk.com/event/shabbat-service-3-16/
CATEGORIES:Shabbat Services
END:VEVENT
BEGIN:VEVENT
DTSTART;TZID=Europe/London:20230721T183000
DTEND;TZID=Europe/London:20230721T183000
DTSTAMP:20260423T035448
CREATED:20230620T150238Z
LAST-MODIFIED:20230718T155537Z
UID:6710-1689964200-1689964200@sps.uk.com
SUMMARY:Erev Shabbat informal service and Chavurah bring and share supper
DESCRIPTION:Friday 21 July at 6.30p.m. \nAn early informal service and Chavurah bring and share supper. \n Please contact Barbara Martin by email on house@spsuk.com for catering purposes.   \n  \n  \n  \n 
URL:https://sps.uk.com/event/erev-shabbat-service-4-17/
CATEGORIES:Shabbat Services
END:VEVENT
BEGIN:VEVENT
DTSTART;TZID=Europe/London:20230722T110000
DTEND;TZID=Europe/London:20230722T110000
DTSTAMP:20260423T035448
CREATED:20230620T150317Z
LAST-MODIFIED:20230718T155158Z
UID:6712-1690023600-1690023600@sps.uk.com
SUMMARY:Shabbat Service 4
DESCRIPTION:Click here for Service 4 page 122 \nClick here for this week's readings \nLeader: Rabbi Danny Rich   \nMusician: Gina Kruger  \n  \nIf you have a Yahrzeit and would like to have a mitzvah either on Zoom or at the Synagogue\, please email the office and we will allocate the reading of your choice\, if available. If attending in person\, you will be given priority when booking your place. \nOur prayer for those who are sick is recited at the Shabbat morning service so please let the office know if there is anyone you would like added to that list. \n 
URL:https://sps.uk.com/event/shabbat-service-4-18/
CATEGORIES:Shabbat Services
END:VEVENT
BEGIN:VEVENT
DTSTART;TZID=Europe/London:20230728T200000
DTEND;TZID=Europe/London:20230728T200000
DTSTAMP:20260423T035448
CREATED:20230620T150454Z
LAST-MODIFIED:20230727T110046Z
UID:6714-1690574400-1690574400@sps.uk.com
SUMMARY:Erev Shabbat Service 5
DESCRIPTION:Click here for Service 5 page 88 \nClick here for this week's reading \nLeader: Philip Zeligman  \nMusician: Mich Sampson  \n 
URL:https://sps.uk.com/event/erev-shabbat-service-5-6/
CATEGORIES:Shabbat Services
END:VEVENT
BEGIN:VEVENT
DTSTART;TZID=Europe/London:20230729T110000
DTEND;TZID=Europe/London:20230729T110000
DTSTAMP:20260423T035448
CREATED:20230620T151107Z
LAST-MODIFIED:20230727T110146Z
UID:6716-1690628400-1690628400@sps.uk.com
SUMMARY:Shabbat Service 5
DESCRIPTION:  \n \nClick here for Service 5 page 129 \nClick here for this week's readings \nLeader:  Rabbi Michael Standfield  \nMusician: Gina Kruger  \n  \nIf you have a Yahrzeit and would like to have a mitzvah either on Zoom or at the Synagogue\, please email the office and we will allocate the reading of your choice\, if available. If attending in person\, you will be given priority when booking your place. \nOur prayer for those who are sick is recited at the Shabbat morning service so please let the office know if there is anyone you would like added to that list.
URL:https://sps.uk.com/event/shabbat-service-5-7/
CATEGORIES:Shabbat Services
END:VEVENT
BEGIN:VEVENT
DTSTART;TZID=Europe/London:20230729T123000
DTEND;TZID=Europe/London:20230729T123000
DTSTAMP:20260423T035448
CREATED:20230628T181422Z
LAST-MODIFIED:20230705T092648Z
UID:6756-1690633800-1690633800@sps.uk.com
SUMMARY:Saturday Morning Shiur
DESCRIPTION:
URL:https://sps.uk.com/event/saturday-morning-shiur-9/
CATEGORIES:Services,Shabbat Services
END:VEVENT
BEGIN:VEVENT
DTSTART;TZID=Europe/London:20230804T200000
DTEND;TZID=Europe/London:20230804T200000
DTSTAMP:20260423T035448
CREATED:20230701T162148Z
LAST-MODIFIED:20230803T140821Z
UID:6821-1691179200-1691179200@sps.uk.com
SUMMARY:Erev Shabbat Service 1
DESCRIPTION:Click here for Service 1 page 69 \nClick here for this week's reading \nLeader: Rabbi Anna Gerrard   \nMusician: Franklyn Gellnick   \n  \n  \n The service will be led by Rabbi Anna Gerrard.\n This will not be a family service as such\, but a family friendly service with a mixture of music. Please come along whether you have children or not.\n 
URL:https://sps.uk.com/event/erev-shabbat-service-1-19/
CATEGORIES:Shabbat Services
END:VEVENT
BEGIN:VEVENT
DTSTART;TZID=Europe/London:20230805T100000
DTEND;TZID=Europe/London:20230805T110000
DTSTAMP:20260423T035448
CREATED:20230630T094706Z
LAST-MODIFIED:20230630T094706Z
UID:6774-1691229600-1691233200@sps.uk.com
SUMMARY:Coffee & Schmooze
DESCRIPTION:
URL:https://sps.uk.com/event/coffee-schmooze-10/
CATEGORIES:Shabbat Services
END:VEVENT
BEGIN:VEVENT
DTSTART;TZID=Europe/London:20230805T110000
DTEND;TZID=Europe/London:20230805T110000
DTSTAMP:20260423T035448
CREATED:20230701T162300Z
LAST-MODIFIED:20230803T140914Z
UID:6823-1691233200-1691233200@sps.uk.com
SUMMARY:Shabbat Service 1
DESCRIPTION:Click here for Service 1 page 105 \nClick here for this week's readings \nLeader:  Rabbi Anna Gerrard  \nMusician: Richard Pilliner  \n  \nIf you have a Yahrzeit and would like to have a mitzvah either on Zoom or at the Synagogue\, please email the office and we will allocate the reading of your choice\, if available. If attending in person\, you will be given priority when booking your place. \nOur prayer for those who are sick is recited at the Shabbat morning service so please let the office know if there is anyone you would like added to that list. \n 
URL:https://sps.uk.com/event/shabbat-service-1-19/
CATEGORIES:Shabbat Services
END:VEVENT
BEGIN:VEVENT
DTSTART;TZID=Europe/London:20230811T200000
DTEND;TZID=Europe/London:20230811T200000
DTSTAMP:20260423T035448
CREATED:20230701T162351Z
LAST-MODIFIED:20230701T162351Z
UID:6825-1691784000-1691784000@sps.uk.com
SUMMARY:Erev Shabbat Service 2
DESCRIPTION:Click here for tonight's service \nClick here for this week's reading \n  \n  \n 
URL:https://sps.uk.com/event/erev-shabbat-service-2-18/
CATEGORIES:Shabbat Services
END:VEVENT
BEGIN:VEVENT
DTSTART;TZID=Europe/London:20230812T110000
DTEND;TZID=Europe/London:20230812T110000
DTSTAMP:20260423T035448
CREATED:20230701T162427Z
LAST-MODIFIED:20230701T162427Z
UID:6827-1691838000-1691838000@sps.uk.com
SUMMARY:Shabbat Service 2
DESCRIPTION:Click here for Service 2 page 112 \nClick here for this week's readings \n  \n  \n  \nIf you have a Yahrzeit and would like to have a mitzvah either on Zoom or at the Synagogue\, please email the office and we will allocate the reading of your choice\, if available. If attending in person\, you will be given priority when booking your place. \nOur prayer for those who are sick is recited at the Shabbat morning service so please let the office know if there is anyone you would like added to that list.
URL:https://sps.uk.com/event/shabbat-service-2-19/
CATEGORIES:Shabbat Services
END:VEVENT
END:VCALENDAR