BEGIN:VCALENDAR
VERSION:2.0
PRODID:-//Southgate Progressive Synagogue - ECPv6.15.20//NONSGML v1.0//EN
CALSCALE:GREGORIAN
METHOD:PUBLISH
X-ORIGINAL-URL:https://sps.uk.com
X-WR-CALDESC:Events for Southgate Progressive Synagogue
REFRESH-INTERVAL;VALUE=DURATION:PT1H
X-Robots-Tag:noindex
X-PUBLISHED-TTL:PT1H
BEGIN:VTIMEZONE
TZID:Europe/London
BEGIN:DAYLIGHT
TZOFFSETFROM:+0000
TZOFFSETTO:+0100
TZNAME:BST
DTSTART:20240331T010000
END:DAYLIGHT
BEGIN:STANDARD
TZOFFSETFROM:+0100
TZOFFSETTO:+0000
TZNAME:GMT
DTSTART:20241027T010000
END:STANDARD
BEGIN:DAYLIGHT
TZOFFSETFROM:+0000
TZOFFSETTO:+0100
TZNAME:BST
DTSTART:20250330T010000
END:DAYLIGHT
BEGIN:STANDARD
TZOFFSETFROM:+0100
TZOFFSETTO:+0000
TZNAME:GMT
DTSTART:20251026T010000
END:STANDARD
BEGIN:DAYLIGHT
TZOFFSETFROM:+0000
TZOFFSETTO:+0100
TZNAME:BST
DTSTART:20260329T010000
END:DAYLIGHT
BEGIN:STANDARD
TZOFFSETFROM:+0100
TZOFFSETTO:+0000
TZNAME:GMT
DTSTART:20261025T010000
END:STANDARD
END:VTIMEZONE
BEGIN:VEVENT
DTSTART;TZID=Europe/London:20250122T131500
DTEND;TZID=Europe/London:20250122T151500
DTSTAMP:20260419T163031
CREATED:20241210T123923Z
LAST-MODIFIED:20241210T123923Z
UID:9542-1737551700-1737558900@sps.uk.com
SUMMARY:JACS
DESCRIPTION:
URL:https://sps.uk.com/event/jacs-77/
CATEGORIES:Other Groups and Clubs
END:VEVENT
BEGIN:VEVENT
DTSTART;TZID=Europe/London:20250128T100000
DTEND;TZID=Europe/London:20250128T120000
DTSTAMP:20260419T163031
CREATED:20241019T162737Z
LAST-MODIFIED:20241019T162737Z
UID:9249-1738058400-1738065600@sps.uk.com
SUMMARY:Table tennis
DESCRIPTION:
URL:https://sps.uk.com/event/table-tennis-106/
CATEGORIES:Other Groups and Clubs
END:VEVENT
BEGIN:VEVENT
DTSTART;TZID=Europe/London:20250129T131500
DTEND;TZID=Europe/London:20250129T151500
DTSTAMP:20260419T163031
CREATED:20241210T123954Z
LAST-MODIFIED:20241210T123954Z
UID:9544-1738156500-1738163700@sps.uk.com
SUMMARY:JACS
DESCRIPTION:
URL:https://sps.uk.com/event/jacs-78/
CATEGORIES:Other Groups and Clubs
END:VEVENT
BEGIN:VEVENT
DTSTART;TZID=Europe/London:20250204T100000
DTEND;TZID=Europe/London:20250204T120000
DTSTAMP:20260419T163031
CREATED:20241201T043314Z
LAST-MODIFIED:20241201T043314Z
UID:9407-1738663200-1738670400@sps.uk.com
SUMMARY:Table tennis
DESCRIPTION:
URL:https://sps.uk.com/event/table-tennis-107/
CATEGORIES:Other Groups and Clubs
END:VEVENT
BEGIN:VEVENT
DTSTART;TZID=Europe/London:20250210T103000
DTEND;TZID=Europe/London:20250210T103000
DTSTAMP:20260419T163031
CREATED:20241201T043500Z
LAST-MODIFIED:20241201T043500Z
UID:9416-1739183400-1739183400@sps.uk.com
SUMMARY:New Friends Group
DESCRIPTION:
URL:https://sps.uk.com/event/new-friends-group-36/
CATEGORIES:Social
END:VEVENT
BEGIN:VEVENT
DTSTART;TZID=Europe/London:20250210T103000
DTEND;TZID=Europe/London:20250210T103000
DTSTAMP:20260419T163031
CREATED:20241218T175320Z
LAST-MODIFIED:20241218T175320Z
UID:9568-1739183400-1739183400@sps.uk.com
SUMMARY:Book Club
DESCRIPTION:
URL:https://sps.uk.com/event/book-club-28/
CATEGORIES:Book Club
END:VEVENT
BEGIN:VEVENT
DTSTART;TZID=Europe/London:20250211T100000
DTEND;TZID=Europe/London:20250211T120000
DTSTAMP:20260419T163031
CREATED:20241201T043331Z
LAST-MODIFIED:20241201T043331Z
UID:9409-1739268000-1739275200@sps.uk.com
SUMMARY:Table tennis
DESCRIPTION:
URL:https://sps.uk.com/event/table-tennis-108/
CATEGORIES:Other Groups and Clubs
END:VEVENT
BEGIN:VEVENT
DTSTART;TZID=Europe/London:20250218T100000
DTEND;TZID=Europe/London:20250218T120000
DTSTAMP:20260419T163031
CREATED:20241201T043350Z
LAST-MODIFIED:20241201T043350Z
UID:9411-1739872800-1739880000@sps.uk.com
SUMMARY:Table tennis
DESCRIPTION:
URL:https://sps.uk.com/event/table-tennis-109/
CATEGORIES:Other Groups and Clubs
END:VEVENT
BEGIN:VEVENT
DTSTART;TZID=Europe/London:20250225T100000
DTEND;TZID=Europe/London:20250225T120000
DTSTAMP:20260419T163031
CREATED:20241201T043413Z
LAST-MODIFIED:20241201T043413Z
UID:9413-1740477600-1740484800@sps.uk.com
SUMMARY:Table tennis
DESCRIPTION:
URL:https://sps.uk.com/event/table-tennis-110/
CATEGORIES:Other Groups and Clubs
END:VEVENT
BEGIN:VEVENT
DTSTART;TZID=Europe/London:20250304T100000
DTEND;TZID=Europe/London:20250304T120000
DTSTAMP:20260419T163031
CREATED:20250212T163909Z
LAST-MODIFIED:20250212T163909Z
UID:9670-1741082400-1741089600@sps.uk.com
SUMMARY:Table tennis
DESCRIPTION:
URL:https://sps.uk.com/event/table-tennis-111/
CATEGORIES:Other Groups and Clubs
END:VEVENT
BEGIN:VEVENT
DTSTART;TZID=Europe/London:20250310T103000
DTEND;TZID=Europe/London:20250310T103000
DTSTAMP:20260419T163031
CREATED:20241218T175421Z
LAST-MODIFIED:20241218T175421Z
UID:9571-1741602600-1741602600@sps.uk.com
SUMMARY:Book Club
DESCRIPTION:
URL:https://sps.uk.com/event/book-club-29/
CATEGORIES:Book Club
END:VEVENT
BEGIN:VEVENT
DTSTART;TZID=Europe/London:20250310T103000
DTEND;TZID=Europe/London:20250310T103000
DTSTAMP:20260419T163031
CREATED:20250212T163829Z
LAST-MODIFIED:20250212T163829Z
UID:9667-1741602600-1741602600@sps.uk.com
SUMMARY:New Friends Group
DESCRIPTION:
URL:https://sps.uk.com/event/new-friends-group-37/
CATEGORIES:Social
END:VEVENT
BEGIN:VEVENT
DTSTART;TZID=Europe/London:20250311T100000
DTEND;TZID=Europe/London:20250311T120000
DTSTAMP:20260419T163031
CREATED:20250212T163925Z
LAST-MODIFIED:20250212T163925Z
UID:9672-1741687200-1741694400@sps.uk.com
SUMMARY:Table tennis
DESCRIPTION:
URL:https://sps.uk.com/event/table-tennis-112/
CATEGORIES:Other Groups and Clubs
END:VEVENT
BEGIN:VEVENT
DTSTART;TZID=Europe/London:20250318T100000
DTEND;TZID=Europe/London:20250318T120000
DTSTAMP:20260419T163031
CREATED:20250212T163944Z
LAST-MODIFIED:20250212T163944Z
UID:9674-1742292000-1742299200@sps.uk.com
SUMMARY:Table tennis
DESCRIPTION:
URL:https://sps.uk.com/event/table-tennis-113/
CATEGORIES:Other Groups and Clubs
END:VEVENT
BEGIN:VEVENT
DTSTART;TZID=Europe/London:20250325T100000
DTEND;TZID=Europe/London:20250325T120000
DTSTAMP:20260419T163031
CREATED:20250212T164002Z
LAST-MODIFIED:20250212T164002Z
UID:9676-1742896800-1742904000@sps.uk.com
SUMMARY:Table tennis
DESCRIPTION:
URL:https://sps.uk.com/event/table-tennis-114/
CATEGORIES:Other Groups and Clubs
END:VEVENT
BEGIN:VEVENT
DTSTART;TZID=Europe/London:20250401T100000
DTEND;TZID=Europe/London:20250401T120000
DTSTAMP:20260419T163031
CREATED:20250215T023418Z
LAST-MODIFIED:20250215T023418Z
UID:9724-1743501600-1743508800@sps.uk.com
SUMMARY:Table tennis
DESCRIPTION:
URL:https://sps.uk.com/event/table-tennis-115/
CATEGORIES:Other Groups and Clubs
END:VEVENT
BEGIN:VEVENT
DTSTART;TZID=Europe/London:20250408T100000
DTEND;TZID=Europe/London:20250408T120000
DTSTAMP:20260419T163031
CREATED:20250215T023436Z
LAST-MODIFIED:20250215T023436Z
UID:9726-1744106400-1744113600@sps.uk.com
SUMMARY:Table tennis
DESCRIPTION:
URL:https://sps.uk.com/event/table-tennis-116/
CATEGORIES:Other Groups and Clubs
END:VEVENT
BEGIN:VEVENT
DTSTART;TZID=Europe/London:20250414T103000
DTEND;TZID=Europe/London:20250414T103000
DTSTAMP:20260419T163031
CREATED:20250215T023637Z
LAST-MODIFIED:20250215T023637Z
UID:9734-1744626600-1744626600@sps.uk.com
SUMMARY:New Friends Group
DESCRIPTION:
URL:https://sps.uk.com/event/new-friends-group-38/
CATEGORIES:Social
END:VEVENT
BEGIN:VEVENT
DTSTART;TZID=Europe/London:20250415T100000
DTEND;TZID=Europe/London:20250415T120000
DTSTAMP:20260419T163031
CREATED:20250215T023457Z
LAST-MODIFIED:20250215T023457Z
UID:9728-1744711200-1744718400@sps.uk.com
SUMMARY:Table tennis
DESCRIPTION:
URL:https://sps.uk.com/event/table-tennis-117/
CATEGORIES:Other Groups and Clubs
END:VEVENT
BEGIN:VEVENT
DTSTART;TZID=Europe/London:20250422T100000
DTEND;TZID=Europe/London:20250422T120000
DTSTAMP:20260419T163031
CREATED:20250215T023515Z
LAST-MODIFIED:20250215T023515Z
UID:9730-1745316000-1745323200@sps.uk.com
SUMMARY:Table tennis
DESCRIPTION:
URL:https://sps.uk.com/event/table-tennis-118/
CATEGORIES:Other Groups and Clubs
END:VEVENT
BEGIN:VEVENT
DTSTART;TZID=Europe/London:20250429T100000
DTEND;TZID=Europe/London:20250429T120000
DTSTAMP:20260419T163031
CREATED:20250215T023532Z
LAST-MODIFIED:20250215T023532Z
UID:9732-1745920800-1745928000@sps.uk.com
SUMMARY:Table tennis
DESCRIPTION:
URL:https://sps.uk.com/event/table-tennis-119/
CATEGORIES:Other Groups and Clubs
END:VEVENT
BEGIN:VEVENT
DTSTART;TZID=Europe/London:20250506T100000
DTEND;TZID=Europe/London:20250506T120000
DTSTAMP:20260419T163031
CREATED:20250405T105639Z
LAST-MODIFIED:20250405T105639Z
UID:9863-1746525600-1746532800@sps.uk.com
SUMMARY:Table tennis
DESCRIPTION:
URL:https://sps.uk.com/event/table-tennis-120/
CATEGORIES:Other Groups and Clubs
END:VEVENT
BEGIN:VEVENT
DTSTART;TZID=Europe/London:20250512T103000
DTEND;TZID=Europe/London:20250512T103000
DTSTAMP:20260419T163031
CREATED:20250405T105829Z
LAST-MODIFIED:20250405T105829Z
UID:9871-1747045800-1747045800@sps.uk.com
SUMMARY:New Friends Group
DESCRIPTION:
URL:https://sps.uk.com/event/new-friends-group-39/
CATEGORIES:Social
END:VEVENT
BEGIN:VEVENT
DTSTART;TZID=Europe/London:20250512T103000
DTEND;TZID=Europe/London:20250512T103000
DTSTAMP:20260419T163031
CREATED:20250416T145046Z
LAST-MODIFIED:20250416T145046Z
UID:9904-1747045800-1747045800@sps.uk.com
SUMMARY:Book Club
DESCRIPTION:
URL:https://sps.uk.com/event/book-club-30/
CATEGORIES:Book Club
END:VEVENT
BEGIN:VEVENT
DTSTART;TZID=Europe/London:20250513T100000
DTEND;TZID=Europe/London:20250513T120000
DTSTAMP:20260419T163031
CREATED:20250405T105656Z
LAST-MODIFIED:20250405T105656Z
UID:9865-1747130400-1747137600@sps.uk.com
SUMMARY:Table tennis
DESCRIPTION:
URL:https://sps.uk.com/event/table-tennis-121/
CATEGORIES:Other Groups and Clubs
END:VEVENT
BEGIN:VEVENT
DTSTART;TZID=Europe/London:20250514T130000
DTEND;TZID=Europe/London:20250514T151500
DTSTAMP:20260419T163031
CREATED:20250514T104844Z
LAST-MODIFIED:20250514T105000Z
UID:10013-1747227600-1747235700@sps.uk.com
SUMMARY:JACS
DESCRIPTION:
URL:https://sps.uk.com/event/jacs-79/
CATEGORIES:Other Groups and Clubs
END:VEVENT
BEGIN:VEVENT
DTSTART;TZID=Europe/London:20250520T100000
DTEND;TZID=Europe/London:20250520T120000
DTSTAMP:20260419T163031
CREATED:20250405T105712Z
LAST-MODIFIED:20250405T105712Z
UID:9867-1747735200-1747742400@sps.uk.com
SUMMARY:Table tennis
DESCRIPTION:
URL:https://sps.uk.com/event/table-tennis-122/
CATEGORIES:Other Groups and Clubs
END:VEVENT
BEGIN:VEVENT
DTSTART;TZID=Europe/London:20250521T130000
DTEND;TZID=Europe/London:20250521T151500
DTSTAMP:20260419T163031
CREATED:20250514T104942Z
LAST-MODIFIED:20250514T104942Z
UID:10017-1747832400-1747840500@sps.uk.com
SUMMARY:JACS
DESCRIPTION:
URL:https://sps.uk.com/event/jacs-80/
CATEGORIES:Other Groups and Clubs
END:VEVENT
BEGIN:VEVENT
DTSTART;TZID=Europe/London:20250527T100000
DTEND;TZID=Europe/London:20250527T120000
DTSTAMP:20260419T163031
CREATED:20250405T105732Z
LAST-MODIFIED:20250405T105732Z
UID:9869-1748340000-1748347200@sps.uk.com
SUMMARY:Table tennis
DESCRIPTION:
URL:https://sps.uk.com/event/table-tennis-123/
CATEGORIES:Other Groups and Clubs
END:VEVENT
BEGIN:VEVENT
DTSTART;TZID=Europe/London:20250528T130000
DTEND;TZID=Europe/London:20250528T151500
DTSTAMP:20260419T163031
CREATED:20250514T105019Z
LAST-MODIFIED:20250514T105019Z
UID:10019-1748437200-1748445300@sps.uk.com
SUMMARY:JACS
DESCRIPTION:
URL:https://sps.uk.com/event/jacs-81/
CATEGORIES:Other Groups and Clubs
END:VEVENT
END:VCALENDAR