BEGIN:VCALENDAR
VERSION:2.0
PRODID:-//Southgate Progressive Synagogue - ECPv6.15.20//NONSGML v1.0//EN
CALSCALE:GREGORIAN
METHOD:PUBLISH
X-WR-CALNAME:Southgate Progressive Synagogue
X-ORIGINAL-URL:https://sps.uk.com
X-WR-CALDESC:Events for Southgate Progressive Synagogue
REFRESH-INTERVAL;VALUE=DURATION:PT1H
X-Robots-Tag:noindex
X-PUBLISHED-TTL:PT1H
BEGIN:VTIMEZONE
TZID:Europe/London
BEGIN:DAYLIGHT
TZOFFSETFROM:+0000
TZOFFSETTO:+0100
TZNAME:BST
DTSTART:20240331T010000
END:DAYLIGHT
BEGIN:STANDARD
TZOFFSETFROM:+0100
TZOFFSETTO:+0000
TZNAME:GMT
DTSTART:20241027T010000
END:STANDARD
BEGIN:DAYLIGHT
TZOFFSETFROM:+0000
TZOFFSETTO:+0100
TZNAME:BST
DTSTART:20250330T010000
END:DAYLIGHT
BEGIN:STANDARD
TZOFFSETFROM:+0100
TZOFFSETTO:+0000
TZNAME:GMT
DTSTART:20251026T010000
END:STANDARD
BEGIN:DAYLIGHT
TZOFFSETFROM:+0000
TZOFFSETTO:+0100
TZNAME:BST
DTSTART:20260329T010000
END:DAYLIGHT
BEGIN:STANDARD
TZOFFSETFROM:+0100
TZOFFSETTO:+0000
TZNAME:GMT
DTSTART:20261025T010000
END:STANDARD
END:VTIMEZONE
BEGIN:VEVENT
DTSTART;TZID=Europe/London:20250513T100000
DTEND;TZID=Europe/London:20250513T120000
DTSTAMP:20260419T200651
CREATED:20250405T105656Z
LAST-MODIFIED:20250405T105656Z
UID:9865-1747130400-1747137600@sps.uk.com
SUMMARY:Table tennis
DESCRIPTION:
URL:https://sps.uk.com/event/table-tennis-121/
CATEGORIES:Other Groups and Clubs
END:VEVENT
BEGIN:VEVENT
DTSTART;TZID=Europe/London:20250514T130000
DTEND;TZID=Europe/London:20250514T151500
DTSTAMP:20260419T200651
CREATED:20250514T104844Z
LAST-MODIFIED:20250514T105000Z
UID:10013-1747227600-1747235700@sps.uk.com
SUMMARY:JACS
DESCRIPTION:
URL:https://sps.uk.com/event/jacs-79/
CATEGORIES:Other Groups and Clubs
END:VEVENT
BEGIN:VEVENT
DTSTART;TZID=Europe/London:20250520T100000
DTEND;TZID=Europe/London:20250520T120000
DTSTAMP:20260419T200651
CREATED:20250405T105712Z
LAST-MODIFIED:20250405T105712Z
UID:9867-1747735200-1747742400@sps.uk.com
SUMMARY:Table tennis
DESCRIPTION:
URL:https://sps.uk.com/event/table-tennis-122/
CATEGORIES:Other Groups and Clubs
END:VEVENT
BEGIN:VEVENT
DTSTART;TZID=Europe/London:20250521T130000
DTEND;TZID=Europe/London:20250521T151500
DTSTAMP:20260419T200651
CREATED:20250514T104942Z
LAST-MODIFIED:20250514T104942Z
UID:10017-1747832400-1747840500@sps.uk.com
SUMMARY:JACS
DESCRIPTION:
URL:https://sps.uk.com/event/jacs-80/
CATEGORIES:Other Groups and Clubs
END:VEVENT
BEGIN:VEVENT
DTSTART;TZID=Europe/London:20250527T100000
DTEND;TZID=Europe/London:20250527T120000
DTSTAMP:20260419T200651
CREATED:20250405T105732Z
LAST-MODIFIED:20250405T105732Z
UID:9869-1748340000-1748347200@sps.uk.com
SUMMARY:Table tennis
DESCRIPTION:
URL:https://sps.uk.com/event/table-tennis-123/
CATEGORIES:Other Groups and Clubs
END:VEVENT
BEGIN:VEVENT
DTSTART;TZID=Europe/London:20250528T130000
DTEND;TZID=Europe/London:20250528T151500
DTSTAMP:20260419T200651
CREATED:20250514T105019Z
LAST-MODIFIED:20250514T105019Z
UID:10019-1748437200-1748445300@sps.uk.com
SUMMARY:JACS
DESCRIPTION:
URL:https://sps.uk.com/event/jacs-81/
CATEGORIES:Other Groups and Clubs
END:VEVENT
BEGIN:VEVENT
DTSTART;TZID=Europe/London:20250603T100000
DTEND;TZID=Europe/London:20250603T120000
DTSTAMP:20260419T200651
CREATED:20250430T000751Z
LAST-MODIFIED:20250430T000751Z
UID:9957-1748944800-1748952000@sps.uk.com
SUMMARY:Table tennis
DESCRIPTION:
URL:https://sps.uk.com/event/table-tennis-124/
CATEGORIES:Other Groups and Clubs
END:VEVENT
BEGIN:VEVENT
DTSTART;TZID=Europe/London:20250604T130000
DTEND;TZID=Europe/London:20250604T151500
DTSTAMP:20260419T200651
CREATED:20250514T105732Z
LAST-MODIFIED:20250514T110132Z
UID:10021-1749042000-1749050100@sps.uk.com
SUMMARY:JACS
DESCRIPTION:
URL:https://sps.uk.com/event/jacs-82/
CATEGORIES:Other Groups and Clubs
END:VEVENT
BEGIN:VEVENT
DTSTART;TZID=Europe/London:20250609T103000
DTEND;TZID=Europe/London:20250609T103000
DTSTAMP:20260419T200651
CREATED:20250430T000928Z
LAST-MODIFIED:20250430T000928Z
UID:9965-1749465000-1749465000@sps.uk.com
SUMMARY:New Friends Group
DESCRIPTION:
URL:https://sps.uk.com/event/new-friends-group-40/
CATEGORIES:Social
END:VEVENT
BEGIN:VEVENT
DTSTART;TZID=Europe/London:20250610T100000
DTEND;TZID=Europe/London:20250610T120000
DTSTAMP:20260419T200651
CREATED:20250430T000806Z
LAST-MODIFIED:20250430T000806Z
UID:9959-1749549600-1749556800@sps.uk.com
SUMMARY:Table tennis
DESCRIPTION:
URL:https://sps.uk.com/event/table-tennis-125/
CATEGORIES:Other Groups and Clubs
END:VEVENT
BEGIN:VEVENT
DTSTART;TZID=Europe/London:20250611T130000
DTEND;TZID=Europe/London:20250611T151500
DTSTAMP:20260419T200651
CREATED:20250514T110233Z
LAST-MODIFIED:20250514T110233Z
UID:10032-1749646800-1749654900@sps.uk.com
SUMMARY:JACS
DESCRIPTION:
URL:https://sps.uk.com/event/jacs-83/
CATEGORIES:Other Groups and Clubs
END:VEVENT
BEGIN:VEVENT
DTSTART;TZID=Europe/London:20250616T103000
DTEND;TZID=Europe/London:20250616T103000
DTSTAMP:20260419T200651
CREATED:20250430T001142Z
LAST-MODIFIED:20250514T095815Z
UID:9967-1750069800-1750069800@sps.uk.com
SUMMARY:Book Club
DESCRIPTION:
URL:https://sps.uk.com/event/book-club-31/
CATEGORIES:Book Club
END:VEVENT
BEGIN:VEVENT
DTSTART;TZID=Europe/London:20250617T100000
DTEND;TZID=Europe/London:20250617T120000
DTSTAMP:20260419T200651
CREATED:20250430T000823Z
LAST-MODIFIED:20250430T000823Z
UID:9961-1750154400-1750161600@sps.uk.com
SUMMARY:Table tennis
DESCRIPTION:
URL:https://sps.uk.com/event/table-tennis-126/
CATEGORIES:Other Groups and Clubs
END:VEVENT
BEGIN:VEVENT
DTSTART;TZID=Europe/London:20250618T130000
DTEND;TZID=Europe/London:20250618T151500
DTSTAMP:20260419T200651
CREATED:20250514T110250Z
LAST-MODIFIED:20250514T110250Z
UID:10034-1750251600-1750259700@sps.uk.com
SUMMARY:JACS
DESCRIPTION:
URL:https://sps.uk.com/event/jacs-84/
CATEGORIES:Other Groups and Clubs
END:VEVENT
BEGIN:VEVENT
DTSTART;TZID=Europe/London:20250624T100000
DTEND;TZID=Europe/London:20250624T120000
DTSTAMP:20260419T200651
CREATED:20250430T000838Z
LAST-MODIFIED:20250430T000838Z
UID:9963-1750759200-1750766400@sps.uk.com
SUMMARY:Table tennis
DESCRIPTION:
URL:https://sps.uk.com/event/table-tennis-127/
CATEGORIES:Other Groups and Clubs
END:VEVENT
BEGIN:VEVENT
DTSTART;TZID=Europe/London:20250625T130000
DTEND;TZID=Europe/London:20250625T151500
DTSTAMP:20260419T200651
CREATED:20250514T110308Z
LAST-MODIFIED:20250514T110308Z
UID:10036-1750856400-1750864500@sps.uk.com
SUMMARY:JACS
DESCRIPTION:
URL:https://sps.uk.com/event/jacs-85/
CATEGORIES:Other Groups and Clubs
END:VEVENT
BEGIN:VEVENT
DTSTART;TZID=Europe/London:20250701T100000
DTEND;TZID=Europe/London:20250701T120000
DTSTAMP:20260419T200651
CREATED:20250502T111723Z
LAST-MODIFIED:20250502T111723Z
UID:9987-1751364000-1751371200@sps.uk.com
SUMMARY:Table tennis
DESCRIPTION:
URL:https://sps.uk.com/event/table-tennis-128/
CATEGORIES:Other Groups and Clubs
END:VEVENT
BEGIN:VEVENT
DTSTART;TZID=Europe/London:20250702T130000
DTEND;TZID=Europe/London:20250702T151500
DTSTAMP:20260419T200651
CREATED:20250618T111509Z
LAST-MODIFIED:20250618T111513Z
UID:10137-1751461200-1751469300@sps.uk.com
SUMMARY:JACS
DESCRIPTION:
URL:https://sps.uk.com/event/jacs-86/
CATEGORIES:Other Groups and Clubs
END:VEVENT
BEGIN:VEVENT
DTSTART;TZID=Europe/London:20250708T100000
DTEND;TZID=Europe/London:20250708T120000
DTSTAMP:20260419T200651
CREATED:20250502T111739Z
LAST-MODIFIED:20250502T111739Z
UID:9989-1751968800-1751976000@sps.uk.com
SUMMARY:Table tennis
DESCRIPTION:
URL:https://sps.uk.com/event/table-tennis-129/
CATEGORIES:Other Groups and Clubs
END:VEVENT
BEGIN:VEVENT
DTSTART;TZID=Europe/London:20250709T130000
DTEND;TZID=Europe/London:20250709T151500
DTSTAMP:20260419T200651
CREATED:20250618T111558Z
LAST-MODIFIED:20250618T111558Z
UID:10139-1752066000-1752074100@sps.uk.com
SUMMARY:JACS
DESCRIPTION:
URL:https://sps.uk.com/event/jacs-87/
CATEGORIES:Other Groups and Clubs
END:VEVENT
BEGIN:VEVENT
DTSTART;TZID=Europe/London:20250714T103000
DTEND;TZID=Europe/London:20250714T103000
DTSTAMP:20260419T200651
CREATED:20250502T111906Z
LAST-MODIFIED:20250502T111906Z
UID:9997-1752489000-1752489000@sps.uk.com
SUMMARY:New Friends Group
DESCRIPTION:
URL:https://sps.uk.com/event/new-friends-group-41/
CATEGORIES:Social
END:VEVENT
BEGIN:VEVENT
DTSTART;TZID=Europe/London:20250715T100000
DTEND;TZID=Europe/London:20250715T120000
DTSTAMP:20260419T200651
CREATED:20250502T111757Z
LAST-MODIFIED:20250502T111757Z
UID:9991-1752573600-1752580800@sps.uk.com
SUMMARY:Table tennis
DESCRIPTION:
URL:https://sps.uk.com/event/table-tennis-130/
CATEGORIES:Other Groups and Clubs
END:VEVENT
BEGIN:VEVENT
DTSTART;TZID=Europe/London:20250716T130000
DTEND;TZID=Europe/London:20250716T151500
DTSTAMP:20260419T200651
CREATED:20250618T111635Z
LAST-MODIFIED:20250618T111635Z
UID:10141-1752670800-1752678900@sps.uk.com
SUMMARY:JACS
DESCRIPTION:
URL:https://sps.uk.com/event/jacs-88/
CATEGORIES:Other Groups and Clubs
END:VEVENT
BEGIN:VEVENT
DTSTART;TZID=Europe/London:20250719T193000
DTEND;TZID=Europe/London:20250719T193000
DTSTAMP:20260419T200651
CREATED:20250528T163257Z
LAST-MODIFIED:20250528T163453Z
UID:10048-1752953400-1752953400@sps.uk.com
SUMMARY:Back to 70's & 80's
DESCRIPTION:
URL:https://sps.uk.com/event/back-to-70s-80s/
CATEGORIES:Advance Notice,Homepage Public,Social
END:VEVENT
BEGIN:VEVENT
DTSTART;TZID=Europe/London:20250721T103000
DTEND;TZID=Europe/London:20250721T103000
DTSTAMP:20260419T200651
CREATED:20250602T002706Z
LAST-MODIFIED:20250623T190005Z
UID:10087-1753093800-1753093800@sps.uk.com
SUMMARY:Book Club
DESCRIPTION:
URL:https://sps.uk.com/event/book-club-33/
CATEGORIES:Book Club
END:VEVENT
BEGIN:VEVENT
DTSTART;TZID=Europe/London:20250722T100000
DTEND;TZID=Europe/London:20250722T120000
DTSTAMP:20260419T200651
CREATED:20250502T111813Z
LAST-MODIFIED:20250502T111813Z
UID:9993-1753178400-1753185600@sps.uk.com
SUMMARY:Table tennis
DESCRIPTION:
URL:https://sps.uk.com/event/table-tennis-131/
CATEGORIES:Other Groups and Clubs
END:VEVENT
BEGIN:VEVENT
DTSTART;TZID=Europe/London:20250723T130000
DTEND;TZID=Europe/London:20250723T151500
DTSTAMP:20260419T200651
CREATED:20250618T111653Z
LAST-MODIFIED:20250618T111653Z
UID:10143-1753275600-1753283700@sps.uk.com
SUMMARY:JACS
DESCRIPTION:
URL:https://sps.uk.com/event/jacs-89/
CATEGORIES:Other Groups and Clubs
END:VEVENT
BEGIN:VEVENT
DTSTART;TZID=Europe/London:20250729T100000
DTEND;TZID=Europe/London:20250729T120000
DTSTAMP:20260419T200651
CREATED:20250502T111828Z
LAST-MODIFIED:20250502T111828Z
UID:9995-1753783200-1753790400@sps.uk.com
SUMMARY:Table tennis
DESCRIPTION:
URL:https://sps.uk.com/event/table-tennis-132/
CATEGORIES:Other Groups and Clubs
END:VEVENT
BEGIN:VEVENT
DTSTART;TZID=Europe/London:20250730T130000
DTEND;TZID=Europe/London:20250730T151500
DTSTAMP:20260419T200651
CREATED:20250618T111719Z
LAST-MODIFIED:20250618T111719Z
UID:10145-1753880400-1753888500@sps.uk.com
SUMMARY:JACS
DESCRIPTION:
URL:https://sps.uk.com/event/jacs-90/
CATEGORIES:Other Groups and Clubs
END:VEVENT
BEGIN:VEVENT
DTSTART;TZID=Europe/London:20250805T100000
DTEND;TZID=Europe/London:20250805T120000
DTSTAMP:20260419T200651
CREATED:20250602T002256Z
LAST-MODIFIED:20250602T002256Z
UID:10077-1754388000-1754395200@sps.uk.com
SUMMARY:Table tennis
DESCRIPTION:
URL:https://sps.uk.com/event/table-tennis-133/
CATEGORIES:Other Groups and Clubs
END:VEVENT
END:VCALENDAR