BEGIN:VCALENDAR
VERSION:2.0
PRODID:-//Southgate Progressive Synagogue - ECPv6.15.20//NONSGML v1.0//EN
CALSCALE:GREGORIAN
METHOD:PUBLISH
X-ORIGINAL-URL:https://sps.uk.com
X-WR-CALDESC:Events for Southgate Progressive Synagogue
REFRESH-INTERVAL;VALUE=DURATION:PT1H
X-Robots-Tag:noindex
X-PUBLISHED-TTL:PT1H
BEGIN:VTIMEZONE
TZID:Europe/London
BEGIN:DAYLIGHT
TZOFFSETFROM:+0000
TZOFFSETTO:+0100
TZNAME:BST
DTSTART:20230326T010000
END:DAYLIGHT
BEGIN:STANDARD
TZOFFSETFROM:+0100
TZOFFSETTO:+0000
TZNAME:GMT
DTSTART:20231029T010000
END:STANDARD
BEGIN:DAYLIGHT
TZOFFSETFROM:+0000
TZOFFSETTO:+0100
TZNAME:BST
DTSTART:20240331T010000
END:DAYLIGHT
BEGIN:STANDARD
TZOFFSETFROM:+0100
TZOFFSETTO:+0000
TZNAME:GMT
DTSTART:20241027T010000
END:STANDARD
BEGIN:DAYLIGHT
TZOFFSETFROM:+0000
TZOFFSETTO:+0100
TZNAME:BST
DTSTART:20250330T010000
END:DAYLIGHT
BEGIN:STANDARD
TZOFFSETFROM:+0100
TZOFFSETTO:+0000
TZNAME:GMT
DTSTART:20251026T010000
END:STANDARD
END:VTIMEZONE
BEGIN:VEVENT
DTSTART;TZID=Europe/London:20240702T100000
DTEND;TZID=Europe/London:20240702T120000
DTSTAMP:20260419T204547
CREATED:20240512T083110Z
LAST-MODIFIED:20240512T083110Z
UID:8451-1719914400-1719921600@sps.uk.com
SUMMARY:Table tennis
DESCRIPTION:
URL:https://sps.uk.com/event/table-tennis-77/
CATEGORIES:Other Groups and Clubs
END:VEVENT
BEGIN:VEVENT
DTSTART;TZID=Europe/London:20240708T103000
DTEND;TZID=Europe/London:20240708T103000
DTSTAMP:20260419T204547
CREATED:20240528T144330Z
LAST-MODIFIED:20240528T144330Z
UID:8532-1720434600-1720434600@sps.uk.com
SUMMARY:New Friends Group
DESCRIPTION:
URL:https://sps.uk.com/event/new-friends-group-29/
CATEGORIES:Social
END:VEVENT
BEGIN:VEVENT
DTSTART;TZID=Europe/London:20240708T133000
DTEND;TZID=Europe/London:20240708T160000
DTSTAMP:20260419T204547
CREATED:20240512T083248Z
LAST-MODIFIED:20240512T083248Z
UID:8463-1720445400-1720454400@sps.uk.com
SUMMARY:Bridge Club
DESCRIPTION:
URL:https://sps.uk.com/event/bridge-club-119/
CATEGORIES:Other Groups and Clubs
END:VEVENT
BEGIN:VEVENT
DTSTART;TZID=Europe/London:20240709T100000
DTEND;TZID=Europe/London:20240709T120000
DTSTAMP:20260419T204547
CREATED:20240512T083123Z
LAST-MODIFIED:20240512T083123Z
UID:8453-1720519200-1720526400@sps.uk.com
SUMMARY:Table tennis
DESCRIPTION:
URL:https://sps.uk.com/event/table-tennis-78/
CATEGORIES:Other Groups and Clubs
END:VEVENT
BEGIN:VEVENT
DTSTART;TZID=Europe/London:20240715T133000
DTEND;TZID=Europe/London:20240715T160000
DTSTAMP:20260419T204547
CREATED:20240512T083300Z
LAST-MODIFIED:20240512T083300Z
UID:8465-1721050200-1721059200@sps.uk.com
SUMMARY:Bridge Club
DESCRIPTION:
URL:https://sps.uk.com/event/bridge-club-120/
CATEGORIES:Other Groups and Clubs
END:VEVENT
BEGIN:VEVENT
DTSTART;TZID=Europe/London:20240716T100000
DTEND;TZID=Europe/London:20240716T120000
DTSTAMP:20260419T204547
CREATED:20240512T083136Z
LAST-MODIFIED:20240512T083136Z
UID:8455-1721124000-1721131200@sps.uk.com
SUMMARY:Table tennis
DESCRIPTION:
URL:https://sps.uk.com/event/table-tennis-79/
CATEGORIES:Other Groups and Clubs
END:VEVENT
BEGIN:VEVENT
DTSTART;TZID=Europe/London:20240722T133000
DTEND;TZID=Europe/London:20240722T160000
DTSTAMP:20260419T204547
CREATED:20240512T083314Z
LAST-MODIFIED:20240512T083314Z
UID:8467-1721655000-1721664000@sps.uk.com
SUMMARY:Bridge Club
DESCRIPTION:
URL:https://sps.uk.com/event/bridge-club-121/
CATEGORIES:Other Groups and Clubs
END:VEVENT
BEGIN:VEVENT
DTSTART;TZID=Europe/London:20240723T100000
DTEND;TZID=Europe/London:20240723T120000
DTSTAMP:20260419T204547
CREATED:20240512T083150Z
LAST-MODIFIED:20240512T083150Z
UID:8457-1721728800-1721736000@sps.uk.com
SUMMARY:Table tennis
DESCRIPTION:
URL:https://sps.uk.com/event/table-tennis-80/
CATEGORIES:Other Groups and Clubs
END:VEVENT
BEGIN:VEVENT
DTSTART;TZID=Europe/London:20240729T133000
DTEND;TZID=Europe/London:20240729T160000
DTSTAMP:20260419T204547
CREATED:20240512T083327Z
LAST-MODIFIED:20240512T083327Z
UID:8469-1722259800-1722268800@sps.uk.com
SUMMARY:Bridge Club
DESCRIPTION:
URL:https://sps.uk.com/event/bridge-club-122/
CATEGORIES:Other Groups and Clubs
END:VEVENT
BEGIN:VEVENT
DTSTART;TZID=Europe/London:20240730T100000
DTEND;TZID=Europe/London:20240730T120000
DTSTAMP:20260419T204547
CREATED:20240512T083203Z
LAST-MODIFIED:20240512T083203Z
UID:8459-1722333600-1722340800@sps.uk.com
SUMMARY:Table tennis
DESCRIPTION:
URL:https://sps.uk.com/event/table-tennis-81/
CATEGORIES:Other Groups and Clubs
END:VEVENT
BEGIN:VEVENT
DTSTART;TZID=Europe/London:20240805T133000
DTEND;TZID=Europe/London:20240805T160000
DTSTAMP:20260419T204547
CREATED:20240609T091527Z
LAST-MODIFIED:20240609T091527Z
UID:8573-1722864600-1722873600@sps.uk.com
SUMMARY:Bridge Club
DESCRIPTION:
URL:https://sps.uk.com/event/bridge-club-123/
CATEGORIES:Other Groups and Clubs
END:VEVENT
BEGIN:VEVENT
DTSTART;TZID=Europe/London:20240806T100000
DTEND;TZID=Europe/London:20240806T120000
DTSTAMP:20260419T204547
CREATED:20240609T091635Z
LAST-MODIFIED:20240609T091635Z
UID:8581-1722938400-1722945600@sps.uk.com
SUMMARY:Table tennis
DESCRIPTION:
URL:https://sps.uk.com/event/table-tennis-82/
CATEGORIES:Other Groups and Clubs
END:VEVENT
BEGIN:VEVENT
DTSTART;TZID=Europe/London:20240812T103000
DTEND;TZID=Europe/London:20240812T103000
DTSTAMP:20260419T204547
CREATED:20240609T091746Z
LAST-MODIFIED:20240609T091746Z
UID:8589-1723458600-1723458600@sps.uk.com
SUMMARY:New Friends Group
DESCRIPTION:
URL:https://sps.uk.com/event/new-friends-group-30/
CATEGORIES:Social
END:VEVENT
BEGIN:VEVENT
DTSTART;TZID=Europe/London:20240812T133000
DTEND;TZID=Europe/London:20240812T160000
DTSTAMP:20260419T204547
CREATED:20240609T091541Z
LAST-MODIFIED:20240609T091541Z
UID:8575-1723469400-1723478400@sps.uk.com
SUMMARY:Bridge Club
DESCRIPTION:
URL:https://sps.uk.com/event/bridge-club-124/
CATEGORIES:Other Groups and Clubs
END:VEVENT
BEGIN:VEVENT
DTSTART;TZID=Europe/London:20240813T100000
DTEND;TZID=Europe/London:20240813T120000
DTSTAMP:20260419T204547
CREATED:20240609T091648Z
LAST-MODIFIED:20240609T091648Z
UID:8583-1723543200-1723550400@sps.uk.com
SUMMARY:Table tennis
DESCRIPTION:
URL:https://sps.uk.com/event/table-tennis-83/
CATEGORIES:Other Groups and Clubs
END:VEVENT
BEGIN:VEVENT
DTSTART;TZID=Europe/London:20240819T133000
DTEND;TZID=Europe/London:20240819T160000
DTSTAMP:20260419T204547
CREATED:20240609T091553Z
LAST-MODIFIED:20240609T091554Z
UID:8577-1724074200-1724083200@sps.uk.com
SUMMARY:Bridge Club
DESCRIPTION:
URL:https://sps.uk.com/event/bridge-club-125/
CATEGORIES:Other Groups and Clubs
END:VEVENT
BEGIN:VEVENT
DTSTART;TZID=Europe/London:20240820T100000
DTEND;TZID=Europe/London:20240820T120000
DTSTAMP:20260419T204547
CREATED:20240609T091700Z
LAST-MODIFIED:20240609T091700Z
UID:8585-1724148000-1724155200@sps.uk.com
SUMMARY:Table tennis
DESCRIPTION:
URL:https://sps.uk.com/event/table-tennis-84/
CATEGORIES:Other Groups and Clubs
END:VEVENT
BEGIN:VEVENT
DTSTART;TZID=Europe/London:20240827T100000
DTEND;TZID=Europe/London:20240827T120000
DTSTAMP:20260419T204547
CREATED:20240609T091714Z
LAST-MODIFIED:20240609T091714Z
UID:8587-1724752800-1724760000@sps.uk.com
SUMMARY:Table tennis
DESCRIPTION:
URL:https://sps.uk.com/event/table-tennis-85/
CATEGORIES:Other Groups and Clubs
END:VEVENT
BEGIN:VEVENT
DTSTART;TZID=Europe/London:20240902T133000
DTEND;TZID=Europe/London:20240902T160000
DTSTAMP:20260419T204547
CREATED:20240609T093457Z
LAST-MODIFIED:20240609T093457Z
UID:8631-1725283800-1725292800@sps.uk.com
SUMMARY:Bridge Club
DESCRIPTION:
URL:https://sps.uk.com/event/bridge-club-127/
CATEGORIES:Other Groups and Clubs
END:VEVENT
BEGIN:VEVENT
DTSTART;TZID=Europe/London:20240903T100000
DTEND;TZID=Europe/London:20240903T120000
DTSTAMP:20260419T204547
CREATED:20240609T093628Z
LAST-MODIFIED:20240609T093628Z
UID:8641-1725357600-1725364800@sps.uk.com
SUMMARY:Table tennis
DESCRIPTION:
URL:https://sps.uk.com/event/table-tennis-86/
CATEGORIES:Other Groups and Clubs
END:VEVENT
BEGIN:VEVENT
DTSTART;TZID=Europe/London:20240904T131500
DTEND;TZID=Europe/London:20240904T160000
DTSTAMP:20260419T204547
CREATED:20240819T160806Z
LAST-MODIFIED:20240819T162516Z
UID:8867-1725455700-1725465600@sps.uk.com
SUMMARY:JACS
DESCRIPTION:
URL:https://sps.uk.com/event/jacs-62/
CATEGORIES:Other Groups and Clubs
END:VEVENT
BEGIN:VEVENT
DTSTART;TZID=Europe/London:20240909T103000
DTEND;TZID=Europe/London:20240909T103000
DTSTAMP:20260419T204547
CREATED:20240609T093733Z
LAST-MODIFIED:20240609T093733Z
UID:8649-1725877800-1725877800@sps.uk.com
SUMMARY:New Friends Group
DESCRIPTION:
URL:https://sps.uk.com/event/new-friends-group-31/
CATEGORIES:Social
END:VEVENT
BEGIN:VEVENT
DTSTART;TZID=Europe/London:20240909T133000
DTEND;TZID=Europe/London:20240909T160000
DTSTAMP:20260419T204547
CREATED:20240609T093519Z
LAST-MODIFIED:20240609T093519Z
UID:8633-1725888600-1725897600@sps.uk.com
SUMMARY:Bridge Club
DESCRIPTION:
URL:https://sps.uk.com/event/bridge-club-128/
CATEGORIES:Other Groups and Clubs
END:VEVENT
BEGIN:VEVENT
DTSTART;TZID=Europe/London:20240910T100000
DTEND;TZID=Europe/London:20240910T120000
DTSTAMP:20260419T204547
CREATED:20240609T093641Z
LAST-MODIFIED:20240609T093641Z
UID:8643-1725962400-1725969600@sps.uk.com
SUMMARY:Table tennis
DESCRIPTION:
URL:https://sps.uk.com/event/table-tennis-87/
CATEGORIES:Other Groups and Clubs
END:VEVENT
BEGIN:VEVENT
DTSTART;TZID=Europe/London:20240911T131500
DTEND;TZID=Europe/London:20240911T160000
DTSTAMP:20260419T204547
CREATED:20240819T162608Z
LAST-MODIFIED:20240819T162608Z
UID:8875-1726060500-1726070400@sps.uk.com
SUMMARY:JACS
DESCRIPTION:
URL:https://sps.uk.com/event/jacs-63/
CATEGORIES:Other Groups and Clubs
END:VEVENT
BEGIN:VEVENT
DTSTART;TZID=Europe/London:20240916T110000
DTEND;TZID=Europe/London:20240916T110000
DTSTAMP:20260419T204547
CREATED:20240703T001008Z
LAST-MODIFIED:20240812T145603Z
UID:8723-1726484400-1726484400@sps.uk.com
SUMMARY:Book Club
DESCRIPTION:
URL:https://sps.uk.com/event/book-club-24/
CATEGORIES:Book Club
END:VEVENT
BEGIN:VEVENT
DTSTART;TZID=Europe/London:20240916T133000
DTEND;TZID=Europe/London:20240916T160000
DTSTAMP:20260419T204547
CREATED:20240609T093532Z
LAST-MODIFIED:20240609T093532Z
UID:8635-1726493400-1726502400@sps.uk.com
SUMMARY:Bridge Club
DESCRIPTION:
URL:https://sps.uk.com/event/bridge-club-129/
CATEGORIES:Other Groups and Clubs
END:VEVENT
BEGIN:VEVENT
DTSTART;TZID=Europe/London:20240917T100000
DTEND;TZID=Europe/London:20240917T120000
DTSTAMP:20260419T204547
CREATED:20240609T093654Z
LAST-MODIFIED:20240609T093654Z
UID:8645-1726567200-1726574400@sps.uk.com
SUMMARY:Table tennis
DESCRIPTION:
URL:https://sps.uk.com/event/table-tennis-88/
CATEGORIES:Other Groups and Clubs
END:VEVENT
BEGIN:VEVENT
DTSTART;TZID=Europe/London:20240918T131500
DTEND;TZID=Europe/London:20240918T160000
DTSTAMP:20260419T204547
CREATED:20240819T162650Z
LAST-MODIFIED:20240819T162650Z
UID:8877-1726665300-1726675200@sps.uk.com
SUMMARY:JACS
DESCRIPTION:
URL:https://sps.uk.com/event/jacs-64/
CATEGORIES:Other Groups and Clubs
END:VEVENT
BEGIN:VEVENT
DTSTART;TZID=Europe/London:20240923T133000
DTEND;TZID=Europe/London:20240923T160000
DTSTAMP:20260419T204547
CREATED:20240609T093546Z
LAST-MODIFIED:20240609T093546Z
UID:8637-1727098200-1727107200@sps.uk.com
SUMMARY:Bridge Club
DESCRIPTION:
URL:https://sps.uk.com/event/bridge-club-130/
CATEGORIES:Other Groups and Clubs
END:VEVENT
END:VCALENDAR