BEGIN:VCALENDAR
VERSION:2.0
PRODID:-//Southgate Progressive Synagogue - ECPv6.15.20//NONSGML v1.0//EN
CALSCALE:GREGORIAN
METHOD:PUBLISH
X-ORIGINAL-URL:https://sps.uk.com
X-WR-CALDESC:Events for Southgate Progressive Synagogue
REFRESH-INTERVAL;VALUE=DURATION:PT1H
X-Robots-Tag:noindex
X-PUBLISHED-TTL:PT1H
BEGIN:VTIMEZONE
TZID:Europe/London
BEGIN:DAYLIGHT
TZOFFSETFROM:+0000
TZOFFSETTO:+0100
TZNAME:BST
DTSTART:20240331T010000
END:DAYLIGHT
BEGIN:STANDARD
TZOFFSETFROM:+0100
TZOFFSETTO:+0000
TZNAME:GMT
DTSTART:20241027T010000
END:STANDARD
BEGIN:DAYLIGHT
TZOFFSETFROM:+0000
TZOFFSETTO:+0100
TZNAME:BST
DTSTART:20250330T010000
END:DAYLIGHT
BEGIN:STANDARD
TZOFFSETFROM:+0100
TZOFFSETTO:+0000
TZNAME:GMT
DTSTART:20251026T010000
END:STANDARD
BEGIN:DAYLIGHT
TZOFFSETFROM:+0000
TZOFFSETTO:+0100
TZNAME:BST
DTSTART:20260329T010000
END:DAYLIGHT
BEGIN:STANDARD
TZOFFSETFROM:+0100
TZOFFSETTO:+0000
TZNAME:GMT
DTSTART:20261025T010000
END:STANDARD
BEGIN:DAYLIGHT
TZOFFSETFROM:+0000
TZOFFSETTO:+0100
TZNAME:BST
DTSTART:20270328T010000
END:DAYLIGHT
BEGIN:STANDARD
TZOFFSETFROM:+0100
TZOFFSETTO:+0000
TZNAME:GMT
DTSTART:20271031T010000
END:STANDARD
END:VTIMEZONE
BEGIN:VEVENT
DTSTART;TZID=Europe/London:20250908T103000
DTEND;TZID=Europe/London:20250908T103000
DTSTAMP:20260420T015550
CREATED:20250721T235624Z
LAST-MODIFIED:20250721T235624Z
UID:10235-1757327400-1757327400@sps.uk.com
SUMMARY:New Friends Group
DESCRIPTION:
URL:https://sps.uk.com/event/new-friends-group-43/
CATEGORIES:Social
END:VEVENT
BEGIN:VEVENT
DTSTART;TZID=Europe/London:20250908T103000
DTEND;TZID=Europe/London:20250908T103000
DTSTAMP:20260420T015550
CREATED:20250730T143129Z
LAST-MODIFIED:20250730T143129Z
UID:10246-1757327400-1757327400@sps.uk.com
SUMMARY:Book Club
DESCRIPTION:
URL:https://sps.uk.com/event/book-club-32/
CATEGORIES:Book Club
END:VEVENT
BEGIN:VEVENT
DTSTART;TZID=Europe/London:20250909T100000
DTEND;TZID=Europe/London:20250909T120000
DTSTAMP:20260420T015550
CREATED:20250721T235505Z
LAST-MODIFIED:20250721T235505Z
UID:10230-1757412000-1757419200@sps.uk.com
SUMMARY:Table tennis
DESCRIPTION:
URL:https://sps.uk.com/event/table-tennis-138/
CATEGORIES:Other Groups and Clubs
END:VEVENT
BEGIN:VEVENT
DTSTART;TZID=Europe/London:20250910T130000
DTEND;TZID=Europe/London:20250910T150000
DTSTAMP:20260420T015550
CREATED:20250731T164740Z
LAST-MODIFIED:20250731T165905Z
UID:10267-1757509200-1757516400@sps.uk.com
SUMMARY:JACS
DESCRIPTION:
URL:https://sps.uk.com/event/jacs-92/
CATEGORIES:Other Groups and Clubs
END:VEVENT
BEGIN:VEVENT
DTSTART;TZID=Europe/London:20250913T123000
DTEND;TZID=Europe/London:20250913T153000
DTSTAMP:20260420T015550
CREATED:20250731T113920Z
LAST-MODIFIED:20250731T113920Z
UID:10257-1757766600-1757777400@sps.uk.com
SUMMARY:Picnic in the Park
DESCRIPTION:
URL:https://sps.uk.com/event/picnic-in-the-park-3/
CATEGORIES:Advance Notice,Homepage Public,Social
END:VEVENT
BEGIN:VEVENT
DTSTART;TZID=Europe/London:20250916T100000
DTEND;TZID=Europe/London:20250916T120000
DTSTAMP:20260420T015550
CREATED:20250721T235524Z
LAST-MODIFIED:20250721T235524Z
UID:10232-1758016800-1758024000@sps.uk.com
SUMMARY:Table tennis
DESCRIPTION:
URL:https://sps.uk.com/event/table-tennis-139/
CATEGORIES:Other Groups and Clubs
END:VEVENT
BEGIN:VEVENT
DTSTART;TZID=Europe/London:20251013T103000
DTEND;TZID=Europe/London:20251013T103000
DTSTAMP:20260420T015550
CREATED:20250919T101836Z
LAST-MODIFIED:20250919T101836Z
UID:10372-1760351400-1760351400@sps.uk.com
SUMMARY:New Friends Group
DESCRIPTION:
URL:https://sps.uk.com/event/new-friends-group-44/
CATEGORIES:Social
END:VEVENT
BEGIN:VEVENT
DTSTART;TZID=Europe/London:20251021T100000
DTEND;TZID=Europe/London:20251021T120000
DTSTAMP:20260420T015550
CREATED:20250919T101209Z
LAST-MODIFIED:20250919T101428Z
UID:10358-1761040800-1761048000@sps.uk.com
SUMMARY:Table tennis
DESCRIPTION:
URL:https://sps.uk.com/event/table-tennis-140/
CATEGORIES:Other Groups and Clubs
END:VEVENT
BEGIN:VEVENT
DTSTART;TZID=Europe/London:20251028T100000
DTEND;TZID=Europe/London:20251028T120000
DTSTAMP:20260420T015550
CREATED:20250919T101545Z
LAST-MODIFIED:20250919T101545Z
UID:10361-1761645600-1761652800@sps.uk.com
SUMMARY:Table tennis
DESCRIPTION:
URL:https://sps.uk.com/event/table-tennis-141/
CATEGORIES:Other Groups and Clubs
END:VEVENT
BEGIN:VEVENT
DTSTART;TZID=Europe/London:20251029T130000
DTEND;TZID=Europe/London:20251029T150000
DTSTAMP:20260420T015550
CREATED:20251016T140937Z
LAST-MODIFIED:20251016T140937Z
UID:10523-1761742800-1761750000@sps.uk.com
SUMMARY:JACS
DESCRIPTION:
URL:https://sps.uk.com/event/jacs-97/
CATEGORIES:Other Groups and Clubs
END:VEVENT
BEGIN:VEVENT
DTSTART;TZID=Europe/London:20251103T103000
DTEND;TZID=Europe/London:20251103T103000
DTSTAMP:20260420T015550
CREATED:20250914T235957Z
LAST-MODIFIED:20250917T234455Z
UID:10340-1762165800-1762165800@sps.uk.com
SUMMARY:Book Club
DESCRIPTION:
URL:https://sps.uk.com/event/book-club-34/
CATEGORIES:Book Club
END:VEVENT
BEGIN:VEVENT
DTSTART;TZID=Europe/London:20251104T100000
DTEND;TZID=Europe/London:20251104T120000
DTSTAMP:20260420T015550
CREATED:20250919T101612Z
LAST-MODIFIED:20250919T101612Z
UID:10363-1762250400-1762257600@sps.uk.com
SUMMARY:Table tennis
DESCRIPTION:
URL:https://sps.uk.com/event/table-tennis-142/
CATEGORIES:Other Groups and Clubs
END:VEVENT
BEGIN:VEVENT
DTSTART;TZID=Europe/London:20251105T130000
DTEND;TZID=Europe/London:20251105T150000
DTSTAMP:20260420T015550
CREATED:20251016T140409Z
LAST-MODIFIED:20251016T140409Z
UID:10511-1762347600-1762354800@sps.uk.com
SUMMARY:JACS
DESCRIPTION:
URL:https://sps.uk.com/event/jacs-93/
CATEGORIES:Other Groups and Clubs
END:VEVENT
BEGIN:VEVENT
DTSTART;TZID=Europe/London:20251108T193000
DTEND;TZID=Europe/London:20251108T220000
DTSTAMP:20260420T015550
CREATED:20251029T105637Z
LAST-MODIFIED:20251029T105637Z
UID:10571-1762630200-1762639200@sps.uk.com
SUMMARY:Flame Music Duo
DESCRIPTION:
URL:https://sps.uk.com/event/flame-music-duo/
CATEGORIES:Social
END:VEVENT
BEGIN:VEVENT
DTSTART;TZID=Europe/London:20251110T103000
DTEND;TZID=Europe/London:20251110T103000
DTSTAMP:20260420T015550
CREATED:20250919T101853Z
LAST-MODIFIED:20250919T101853Z
UID:10374-1762770600-1762770600@sps.uk.com
SUMMARY:New Friends Group
DESCRIPTION:
URL:https://sps.uk.com/event/new-friends-group-45/
CATEGORIES:Social
END:VEVENT
BEGIN:VEVENT
DTSTART;TZID=Europe/London:20251111T100000
DTEND;TZID=Europe/London:20251111T120000
DTSTAMP:20260420T015550
CREATED:20250919T101630Z
LAST-MODIFIED:20250919T101630Z
UID:10365-1762855200-1762862400@sps.uk.com
SUMMARY:Table tennis
DESCRIPTION:
URL:https://sps.uk.com/event/table-tennis-143/
CATEGORIES:Other Groups and Clubs
END:VEVENT
BEGIN:VEVENT
DTSTART;TZID=Europe/London:20251112T130000
DTEND;TZID=Europe/London:20251112T150000
DTSTAMP:20260420T015550
CREATED:20251016T140453Z
LAST-MODIFIED:20251016T140453Z
UID:10517-1762952400-1762959600@sps.uk.com
SUMMARY:JACS
DESCRIPTION:
URL:https://sps.uk.com/event/jacs-94/
CATEGORIES:Other Groups and Clubs
END:VEVENT
BEGIN:VEVENT
DTSTART;TZID=Europe/London:20251118T100000
DTEND;TZID=Europe/London:20251118T120000
DTSTAMP:20260420T015550
CREATED:20250919T101648Z
LAST-MODIFIED:20250919T101648Z
UID:10367-1763460000-1763467200@sps.uk.com
SUMMARY:Table tennis
DESCRIPTION:
URL:https://sps.uk.com/event/table-tennis-144/
CATEGORIES:Other Groups and Clubs
END:VEVENT
BEGIN:VEVENT
DTSTART;TZID=Europe/London:20251119T130000
DTEND;TZID=Europe/London:20251119T150000
DTSTAMP:20260420T015550
CREATED:20251016T140535Z
LAST-MODIFIED:20251016T140535Z
UID:10519-1763557200-1763564400@sps.uk.com
SUMMARY:JACS
DESCRIPTION:
URL:https://sps.uk.com/event/jacs-95/
CATEGORIES:Other Groups and Clubs
END:VEVENT
BEGIN:VEVENT
DTSTART;TZID=Europe/London:20251125T100000
DTEND;TZID=Europe/London:20251125T120000
DTSTAMP:20260420T015550
CREATED:20250919T101707Z
LAST-MODIFIED:20250919T101707Z
UID:10369-1764064800-1764072000@sps.uk.com
SUMMARY:Table tennis
DESCRIPTION:
URL:https://sps.uk.com/event/table-tennis-145/
CATEGORIES:Other Groups and Clubs
END:VEVENT
BEGIN:VEVENT
DTSTART;TZID=Europe/London:20251126T130000
DTEND;TZID=Europe/London:20251126T150000
DTSTAMP:20260420T015550
CREATED:20251016T140614Z
LAST-MODIFIED:20251016T140614Z
UID:10521-1764162000-1764169200@sps.uk.com
SUMMARY:JACS
DESCRIPTION:
URL:https://sps.uk.com/event/jacs-96/
CATEGORIES:Other Groups and Clubs
END:VEVENT
BEGIN:VEVENT
DTSTART;TZID=Europe/London:20251202T100000
DTEND;TZID=Europe/London:20251202T120000
DTSTAMP:20260420T015550
CREATED:20250919T102952Z
LAST-MODIFIED:20250919T102952Z
UID:10416-1764669600-1764676800@sps.uk.com
SUMMARY:Table tennis
DESCRIPTION:
URL:https://sps.uk.com/event/table-tennis-146/
CATEGORIES:Other Groups and Clubs
END:VEVENT
BEGIN:VEVENT
DTSTART;TZID=Europe/London:20251203T130000
DTEND;TZID=Europe/London:20251203T150000
DTSTAMP:20260420T015550
CREATED:20251120T195717Z
LAST-MODIFIED:20251120T195717Z
UID:10641-1764766800-1764774000@sps.uk.com
SUMMARY:JACS
DESCRIPTION:
URL:https://sps.uk.com/event/jacs-98/
CATEGORIES:Other Groups and Clubs
END:VEVENT
BEGIN:VEVENT
DTSTART;TZID=Europe/London:20251208T103000
DTEND;TZID=Europe/London:20251208T103000
DTSTAMP:20260420T015550
CREATED:20250915T000609Z
LAST-MODIFIED:20251113T115340Z
UID:10343-1765189800-1765189800@sps.uk.com
SUMMARY:Book Club
DESCRIPTION:
URL:https://sps.uk.com/event/book-club-35/
CATEGORIES:Book Club
END:VEVENT
BEGIN:VEVENT
DTSTART;TZID=Europe/London:20251208T103000
DTEND;TZID=Europe/London:20251208T103000
DTSTAMP:20260420T015550
CREATED:20251017T001123Z
LAST-MODIFIED:20251017T001123Z
UID:10553-1765189800-1765189800@sps.uk.com
SUMMARY:New Friends Group
DESCRIPTION:
URL:https://sps.uk.com/event/new-friends-group-46/
CATEGORIES:Social
END:VEVENT
BEGIN:VEVENT
DTSTART;TZID=Europe/London:20251209T100000
DTEND;TZID=Europe/London:20251209T120000
DTSTAMP:20260420T015550
CREATED:20251017T001038Z
LAST-MODIFIED:20251017T001038Z
UID:10551-1765274400-1765281600@sps.uk.com
SUMMARY:Table tennis
DESCRIPTION:
URL:https://sps.uk.com/event/table-tennis-147/
CATEGORIES:Other Groups and Clubs
END:VEVENT
BEGIN:VEVENT
DTSTART;TZID=Europe/London:20251210T130000
DTEND;TZID=Europe/London:20251210T150000
DTSTAMP:20260420T015550
CREATED:20251120T195802Z
LAST-MODIFIED:20251120T195802Z
UID:10643-1765371600-1765378800@sps.uk.com
SUMMARY:JACS
DESCRIPTION:
URL:https://sps.uk.com/event/jacs-99/
CATEGORIES:Other Groups and Clubs
END:VEVENT
BEGIN:VEVENT
DTSTART;TZID=Europe/London:20251216T100000
DTEND;TZID=Europe/London:20251216T120000
DTSTAMP:20260420T015550
CREATED:20251121T145201Z
LAST-MODIFIED:20251121T145201Z
UID:10681-1765879200-1765886400@sps.uk.com
SUMMARY:Table tennis
DESCRIPTION:
URL:https://sps.uk.com/event/table-tennis-148/
CATEGORIES:Other Groups and Clubs
END:VEVENT
BEGIN:VEVENT
DTSTART;TZID=Europe/London:20251217T123000
DTEND;TZID=Europe/London:20251217T150000
DTSTAMP:20260420T015550
CREATED:20251120T195852Z
LAST-MODIFIED:20251120T195852Z
UID:10645-1765974600-1765983600@sps.uk.com
SUMMARY:JACS
DESCRIPTION:
URL:https://sps.uk.com/event/jacs-100/
CATEGORIES:Other Groups and Clubs
END:VEVENT
BEGIN:VEVENT
DTSTART;TZID=Europe/London:20260106T100000
DTEND;TZID=Europe/London:20260106T120000
DTSTAMP:20260420T015550
CREATED:20251121T171738Z
LAST-MODIFIED:20251121T171738Z
UID:10685-1767693600-1767700800@sps.uk.com
SUMMARY:Table tennis
DESCRIPTION:
URL:https://sps.uk.com/event/table-tennis-149/
CATEGORIES:Other Groups and Clubs
END:VEVENT
END:VCALENDAR