BEGIN:VCALENDAR
VERSION:2.0
PRODID:-//Southgate Progressive Synagogue - ECPv6.15.20//NONSGML v1.0//EN
CALSCALE:GREGORIAN
METHOD:PUBLISH
X-WR-CALNAME:Southgate Progressive Synagogue
X-ORIGINAL-URL:https://sps.uk.com
X-WR-CALDESC:Events for Southgate Progressive Synagogue
REFRESH-INTERVAL;VALUE=DURATION:PT1H
X-Robots-Tag:noindex
X-PUBLISHED-TTL:PT1H
BEGIN:VTIMEZONE
TZID:Europe/London
BEGIN:DAYLIGHT
TZOFFSETFROM:+0000
TZOFFSETTO:+0100
TZNAME:BST
DTSTART:20230326T010000
END:DAYLIGHT
BEGIN:STANDARD
TZOFFSETFROM:+0100
TZOFFSETTO:+0000
TZNAME:GMT
DTSTART:20231029T010000
END:STANDARD
BEGIN:DAYLIGHT
TZOFFSETFROM:+0000
TZOFFSETTO:+0100
TZNAME:BST
DTSTART:20240331T010000
END:DAYLIGHT
BEGIN:STANDARD
TZOFFSETFROM:+0100
TZOFFSETTO:+0000
TZNAME:GMT
DTSTART:20241027T010000
END:STANDARD
BEGIN:DAYLIGHT
TZOFFSETFROM:+0000
TZOFFSETTO:+0100
TZNAME:BST
DTSTART:20250330T010000
END:DAYLIGHT
BEGIN:STANDARD
TZOFFSETFROM:+0100
TZOFFSETTO:+0000
TZNAME:GMT
DTSTART:20251026T010000
END:STANDARD
END:VTIMEZONE
BEGIN:VEVENT
DTSTART;TZID=Europe/London:20240911T131500
DTEND;TZID=Europe/London:20240911T160000
DTSTAMP:20260423T105443
CREATED:20240819T162608Z
LAST-MODIFIED:20240819T162608Z
UID:8875-1726060500-1726070400@sps.uk.com
SUMMARY:JACS
DESCRIPTION:
URL:https://sps.uk.com/event/jacs-63/
CATEGORIES:Other Groups and Clubs
END:VEVENT
BEGIN:VEVENT
DTSTART;TZID=Europe/London:20240916T110000
DTEND;TZID=Europe/London:20240916T110000
DTSTAMP:20260423T105443
CREATED:20240703T001008Z
LAST-MODIFIED:20240812T145603Z
UID:8723-1726484400-1726484400@sps.uk.com
SUMMARY:Book Club
DESCRIPTION:
URL:https://sps.uk.com/event/book-club-24/
CATEGORIES:Book Club
END:VEVENT
BEGIN:VEVENT
DTSTART;TZID=Europe/London:20240916T133000
DTEND;TZID=Europe/London:20240916T160000
DTSTAMP:20260423T105443
CREATED:20240609T093532Z
LAST-MODIFIED:20240609T093532Z
UID:8635-1726493400-1726502400@sps.uk.com
SUMMARY:Bridge Club
DESCRIPTION:
URL:https://sps.uk.com/event/bridge-club-129/
CATEGORIES:Other Groups and Clubs
END:VEVENT
BEGIN:VEVENT
DTSTART;TZID=Europe/London:20240917T100000
DTEND;TZID=Europe/London:20240917T120000
DTSTAMP:20260423T105443
CREATED:20240609T093654Z
LAST-MODIFIED:20240609T093654Z
UID:8645-1726567200-1726574400@sps.uk.com
SUMMARY:Table tennis
DESCRIPTION:
URL:https://sps.uk.com/event/table-tennis-88/
CATEGORIES:Other Groups and Clubs
END:VEVENT
BEGIN:VEVENT
DTSTART;TZID=Europe/London:20240918T131500
DTEND;TZID=Europe/London:20240918T160000
DTSTAMP:20260423T105443
CREATED:20240819T162650Z
LAST-MODIFIED:20240819T162650Z
UID:8877-1726665300-1726675200@sps.uk.com
SUMMARY:JACS
DESCRIPTION:
URL:https://sps.uk.com/event/jacs-64/
CATEGORIES:Other Groups and Clubs
END:VEVENT
BEGIN:VEVENT
DTSTART;TZID=Europe/London:20240923T133000
DTEND;TZID=Europe/London:20240923T160000
DTSTAMP:20260423T105443
CREATED:20240609T093546Z
LAST-MODIFIED:20240609T093546Z
UID:8637-1727098200-1727107200@sps.uk.com
SUMMARY:Bridge Club
DESCRIPTION:
URL:https://sps.uk.com/event/bridge-club-130/
CATEGORIES:Other Groups and Clubs
END:VEVENT
BEGIN:VEVENT
DTSTART;TZID=Europe/London:20240924T100000
DTEND;TZID=Europe/London:20240924T120000
DTSTAMP:20260423T105443
CREATED:20240609T093707Z
LAST-MODIFIED:20240609T093707Z
UID:8647-1727172000-1727179200@sps.uk.com
SUMMARY:Table tennis
DESCRIPTION:
URL:https://sps.uk.com/event/table-tennis-89/
CATEGORIES:Other Groups and Clubs
END:VEVENT
BEGIN:VEVENT
DTSTART;TZID=Europe/London:20240925T131500
DTEND;TZID=Europe/London:20240925T160000
DTSTAMP:20260423T105443
CREATED:20240819T162749Z
LAST-MODIFIED:20240819T162749Z
UID:8879-1727270100-1727280000@sps.uk.com
SUMMARY:JACS
DESCRIPTION:
URL:https://sps.uk.com/event/jacs-65/
CATEGORIES:Other Groups and Clubs
END:VEVENT
BEGIN:VEVENT
DTSTART;TZID=Europe/London:20240930T133000
DTEND;TZID=Europe/London:20240930T160000
DTSTAMP:20260423T105443
CREATED:20240609T093559Z
LAST-MODIFIED:20240609T093559Z
UID:8639-1727703000-1727712000@sps.uk.com
SUMMARY:Bridge Club
DESCRIPTION:
URL:https://sps.uk.com/event/bridge-club-131/
CATEGORIES:Other Groups and Clubs
END:VEVENT
BEGIN:VEVENT
DTSTART;TZID=Europe/London:20241001T100000
DTEND;TZID=Europe/London:20241001T120000
DTSTAMP:20260423T105443
CREATED:20240816T214455Z
LAST-MODIFIED:20240816T214455Z
UID:8806-1727776800-1727784000@sps.uk.com
SUMMARY:Table tennis
DESCRIPTION:
URL:https://sps.uk.com/event/table-tennis-90/
CATEGORIES:Other Groups and Clubs
END:VEVENT
BEGIN:VEVENT
DTSTART;TZID=Europe/London:20241014T103000
DTEND;TZID=Europe/London:20241014T103000
DTSTAMP:20260423T105443
CREATED:20240816T214824Z
LAST-MODIFIED:20240816T214824Z
UID:8825-1728901800-1728901800@sps.uk.com
SUMMARY:New Friends Group
DESCRIPTION:
URL:https://sps.uk.com/event/new-friends-group-32/
CATEGORIES:Social
END:VEVENT
BEGIN:VEVENT
DTSTART;TZID=Europe/London:20241014T133000
DTEND;TZID=Europe/London:20241014T160000
DTSTAMP:20260423T105443
CREATED:20240816T214714Z
LAST-MODIFIED:20240816T214714Z
UID:8819-1728912600-1728921600@sps.uk.com
SUMMARY:Bridge Club
DESCRIPTION:
URL:https://sps.uk.com/event/bridge-club-132/
CATEGORIES:Other Groups and Clubs
END:VEVENT
BEGIN:VEVENT
DTSTART;TZID=Europe/London:20241015T100000
DTEND;TZID=Europe/London:20241015T120000
DTSTAMP:20260423T105443
CREATED:20240816T214549Z
LAST-MODIFIED:20240816T214549Z
UID:8810-1728986400-1728993600@sps.uk.com
SUMMARY:Table tennis
DESCRIPTION:
URL:https://sps.uk.com/event/table-tennis-92/
CATEGORIES:Other Groups and Clubs
END:VEVENT
BEGIN:VEVENT
DTSTART;TZID=Europe/London:20241021T133000
DTEND;TZID=Europe/London:20241021T160000
DTSTAMP:20260423T105443
CREATED:20240816T214726Z
LAST-MODIFIED:20240816T214726Z
UID:8821-1729517400-1729526400@sps.uk.com
SUMMARY:Bridge Club
DESCRIPTION:
URL:https://sps.uk.com/event/bridge-club-133/
CATEGORIES:Other Groups and Clubs
END:VEVENT
BEGIN:VEVENT
DTSTART;TZID=Europe/London:20241022T100000
DTEND;TZID=Europe/London:20241022T120000
DTSTAMP:20260423T105443
CREATED:20240816T214604Z
LAST-MODIFIED:20240816T214604Z
UID:8812-1729591200-1729598400@sps.uk.com
SUMMARY:Table tennis
DESCRIPTION:
URL:https://sps.uk.com/event/table-tennis-93/
CATEGORIES:Other Groups and Clubs
END:VEVENT
BEGIN:VEVENT
DTSTART;TZID=Europe/London:20241026T193000
DTEND;TZID=Europe/London:20241026T220000
DTSTAMP:20260423T105444
CREATED:20240815T113509Z
LAST-MODIFIED:20241007T180707Z
UID:8793-1729971000-1729980000@sps.uk.com
SUMMARY:Music Duo FLAME
DESCRIPTION:
URL:https://sps.uk.com/event/music-duo-flame/
CATEGORIES:Homepage Public,Social
END:VEVENT
BEGIN:VEVENT
DTSTART;TZID=Europe/London:20241029T100000
DTEND;TZID=Europe/London:20241029T120000
DTSTAMP:20260423T105444
CREATED:20240816T214620Z
LAST-MODIFIED:20240816T214620Z
UID:8814-1730196000-1730203200@sps.uk.com
SUMMARY:Table tennis
DESCRIPTION:
URL:https://sps.uk.com/event/table-tennis-94/
CATEGORIES:Other Groups and Clubs
END:VEVENT
BEGIN:VEVENT
DTSTART;TZID=Europe/London:20241030T131500
DTEND;TZID=Europe/London:20241030T151500
DTSTAMP:20260423T105444
CREATED:20240819T162827Z
LAST-MODIFIED:20241017T095733Z
UID:8881-1730294100-1730301300@sps.uk.com
SUMMARY:JACS
DESCRIPTION:
URL:https://sps.uk.com/event/jacs-66/
CATEGORIES:Other Groups and Clubs
END:VEVENT
BEGIN:VEVENT
DTSTART;TZID=Europe/London:20241104T103000
DTEND;TZID=Europe/London:20241104T103000
DTSTAMP:20260423T105444
CREATED:20240805T163125Z
LAST-MODIFIED:20240917T140834Z
UID:8756-1730716200-1730716200@sps.uk.com
SUMMARY:Book Club
DESCRIPTION:
URL:https://sps.uk.com/event/book-club-25/
CATEGORIES:Book Club
END:VEVENT
BEGIN:VEVENT
DTSTART;TZID=Europe/London:20241105T100000
DTEND;TZID=Europe/London:20241105T120000
DTSTAMP:20260423T105444
CREATED:20240817T002821Z
LAST-MODIFIED:20240817T002821Z
UID:8839-1730800800-1730808000@sps.uk.com
SUMMARY:Table tennis
DESCRIPTION:
URL:https://sps.uk.com/event/table-tennis-95/
CATEGORIES:Other Groups and Clubs
END:VEVENT
BEGIN:VEVENT
DTSTART;TZID=Europe/London:20241106T131500
DTEND;TZID=Europe/London:20241106T151500
DTSTAMP:20260423T105444
CREATED:20241017T094337Z
LAST-MODIFIED:20241017T095631Z
UID:9179-1730898900-1730906100@sps.uk.com
SUMMARY:JACS
DESCRIPTION:
URL:https://sps.uk.com/event/jacs-67/
CATEGORIES:Other Groups and Clubs
END:VEVENT
BEGIN:VEVENT
DTSTART;TZID=Europe/London:20241111T103000
DTEND;TZID=Europe/London:20241111T103000
DTSTAMP:20260423T105444
CREATED:20240817T002939Z
LAST-MODIFIED:20240817T002939Z
UID:8847-1731321000-1731321000@sps.uk.com
SUMMARY:New Friends Group
DESCRIPTION:
URL:https://sps.uk.com/event/new-friends-group-33/
CATEGORIES:Social
END:VEVENT
BEGIN:VEVENT
DTSTART;TZID=Europe/London:20241112T100000
DTEND;TZID=Europe/London:20241112T120000
DTSTAMP:20260423T105444
CREATED:20240817T002835Z
LAST-MODIFIED:20240817T002835Z
UID:8841-1731405600-1731412800@sps.uk.com
SUMMARY:Table tennis
DESCRIPTION:
URL:https://sps.uk.com/event/table-tennis-96/
CATEGORIES:Other Groups and Clubs
END:VEVENT
BEGIN:VEVENT
DTSTART;TZID=Europe/London:20241113T131500
DTEND;TZID=Europe/London:20241113T151500
DTSTAMP:20260423T105444
CREATED:20241017T095825Z
LAST-MODIFIED:20241017T095926Z
UID:9189-1731503700-1731510900@sps.uk.com
SUMMARY:JACS
DESCRIPTION:
URL:https://sps.uk.com/event/jacs-68/
CATEGORIES:Other Groups and Clubs
END:VEVENT
BEGIN:VEVENT
DTSTART;TZID=Europe/London:20241119T100000
DTEND;TZID=Europe/London:20241119T120000
DTSTAMP:20260423T105444
CREATED:20240817T002849Z
LAST-MODIFIED:20240817T002849Z
UID:8843-1732010400-1732017600@sps.uk.com
SUMMARY:Table tennis
DESCRIPTION:
URL:https://sps.uk.com/event/table-tennis-97/
CATEGORIES:Other Groups and Clubs
END:VEVENT
BEGIN:VEVENT
DTSTART;TZID=Europe/London:20241120T131500
DTEND;TZID=Europe/London:20241120T151500
DTSTAMP:20260423T105444
CREATED:20241017T095854Z
LAST-MODIFIED:20241017T095946Z
UID:9191-1732108500-1732115700@sps.uk.com
SUMMARY:JACS
DESCRIPTION:
URL:https://sps.uk.com/event/jacs-69/
CATEGORIES:Other Groups and Clubs
END:VEVENT
BEGIN:VEVENT
DTSTART;TZID=Europe/London:20241126T100000
DTEND;TZID=Europe/London:20241126T120000
DTSTAMP:20260423T105444
CREATED:20240817T002904Z
LAST-MODIFIED:20240817T002904Z
UID:8845-1732615200-1732622400@sps.uk.com
SUMMARY:Table tennis
DESCRIPTION:
URL:https://sps.uk.com/event/table-tennis-98/
CATEGORIES:Other Groups and Clubs
END:VEVENT
BEGIN:VEVENT
DTSTART;TZID=Europe/London:20241127T131500
DTEND;TZID=Europe/London:20241127T151500
DTSTAMP:20260423T105444
CREATED:20241017T100039Z
LAST-MODIFIED:20241017T100039Z
UID:9193-1732713300-1732720500@sps.uk.com
SUMMARY:JACS
DESCRIPTION:
URL:https://sps.uk.com/event/jacs-70/
CATEGORIES:Other Groups and Clubs
END:VEVENT
BEGIN:VEVENT
DTSTART;TZID=Europe/London:20241202T103000
DTEND;TZID=Europe/London:20241202T103000
DTSTAMP:20260423T105444
CREATED:20240805T163147Z
LAST-MODIFIED:20240917T141441Z
UID:8758-1733135400-1733135400@sps.uk.com
SUMMARY:Book Club
DESCRIPTION:
URL:https://sps.uk.com/event/book-club-26/
CATEGORIES:Book Club
END:VEVENT
BEGIN:VEVENT
DTSTART;TZID=Europe/London:20241203T100000
DTEND;TZID=Europe/London:20241203T120000
DTSTAMP:20260423T105444
CREATED:20241006T185034Z
LAST-MODIFIED:20241006T185034Z
UID:9139-1733220000-1733227200@sps.uk.com
SUMMARY:Table tennis
DESCRIPTION:
URL:https://sps.uk.com/event/table-tennis-91/
CATEGORIES:Other Groups and Clubs
END:VEVENT
END:VCALENDAR