BEGIN:VCALENDAR
VERSION:2.0
PRODID:-//Southgate Progressive Synagogue - ECPv6.15.20//NONSGML v1.0//EN
CALSCALE:GREGORIAN
METHOD:PUBLISH
X-WR-CALNAME:Southgate Progressive Synagogue
X-ORIGINAL-URL:https://sps.uk.com
X-WR-CALDESC:Events for Southgate Progressive Synagogue
REFRESH-INTERVAL;VALUE=DURATION:PT1H
X-Robots-Tag:noindex
X-PUBLISHED-TTL:PT1H
BEGIN:VTIMEZONE
TZID:Europe/London
BEGIN:DAYLIGHT
TZOFFSETFROM:+0000
TZOFFSETTO:+0100
TZNAME:BST
DTSTART:20210328T010000
END:DAYLIGHT
BEGIN:STANDARD
TZOFFSETFROM:+0100
TZOFFSETTO:+0000
TZNAME:GMT
DTSTART:20211031T010000
END:STANDARD
BEGIN:DAYLIGHT
TZOFFSETFROM:+0000
TZOFFSETTO:+0100
TZNAME:BST
DTSTART:20220327T010000
END:DAYLIGHT
BEGIN:STANDARD
TZOFFSETFROM:+0100
TZOFFSETTO:+0000
TZNAME:GMT
DTSTART:20221030T010000
END:STANDARD
BEGIN:DAYLIGHT
TZOFFSETFROM:+0000
TZOFFSETTO:+0100
TZNAME:BST
DTSTART:20230326T010000
END:DAYLIGHT
BEGIN:STANDARD
TZOFFSETFROM:+0100
TZOFFSETTO:+0000
TZNAME:GMT
DTSTART:20231029T010000
END:STANDARD
END:VTIMEZONE
BEGIN:VEVENT
DTSTART;TZID=Europe/London:20220620T133000
DTEND;TZID=Europe/London:20220620T160000
DTSTAMP:20260420T014315
CREATED:20220522T115532Z
LAST-MODIFIED:20220522T115532Z
UID:3999-1655731800-1655740800@sps.uk.com
SUMMARY:Bridge Club
DESCRIPTION:
URL:https://sps.uk.com/event/bridge-club-20/
CATEGORIES:Other Groups and Clubs
END:VEVENT
BEGIN:VEVENT
DTSTART;TZID=Europe/London:20220619T143000
DTEND;TZID=Europe/London:20220619T163000
DTSTAMP:20260420T014315
CREATED:20220614T131843Z
LAST-MODIFIED:20220619T143901Z
UID:4147-1655649000-1655656200@sps.uk.com
SUMMARY:Inclusivity Workshop
DESCRIPTION:
URL:https://sps.uk.com/event/inclusivity-workshop-2/
CATEGORIES:Special
END:VEVENT
BEGIN:VEVENT
DTSTART;TZID=Europe/London:20220618T110000
DTEND;TZID=Europe/London:20220618T110000
DTSTAMP:20260420T014315
CREATED:20220222T193903Z
LAST-MODIFIED:20220222T193903Z
UID:3468-1655550000-1655550000@sps.uk.com
SUMMARY:Shabbat Service 3
DESCRIPTION:Led by Rabbi Yuval \nClick here for Service 3 page 117 \nClick here for this week's readings \nThe concluding hymn is Ein Keloheinu on Page 528 \nIf you have a Yahrzeit and would like to have a mitzvah either on Zoom or at the Synagogue\, please email Lynda and we will allocate the reading of your choice\, if available. If attending in person\, you will be given priority when booking your place. \nOur prayer for those who are sick is recited at the Shabbat morning service so please let Lynda know if there is anyone you would like added to that list.
URL:https://sps.uk.com/event/shabbat-service-3-2/
CATEGORIES:Shabbat Services
END:VEVENT
BEGIN:VEVENT
DTSTART;TZID=Europe/London:20220618T100000
DTEND;TZID=Europe/London:20220618T104500
DTSTAMP:20260420T014315
CREATED:20220412T113709Z
LAST-MODIFIED:20220412T162017Z
UID:3859-1655546400-1655549100@sps.uk.com
SUMMARY:Saturday Morning Shiur
DESCRIPTION:
URL:https://sps.uk.com/event/saturday-morning-shiur/
CATEGORIES:Services
END:VEVENT
BEGIN:VEVENT
DTSTART;TZID=Europe/London:20220617T200000
DTEND;TZID=Europe/London:20220617T200000
DTSTAMP:20260420T014315
CREATED:20220222T193330Z
LAST-MODIFIED:20220615T164758Z
UID:3456-1655496000-1655496000@sps.uk.com
SUMMARY:Erev Shabbat Service 3
DESCRIPTION:Led by Rabbi Yuval \nClick here for Service 3 page 79 \nClick here for this week's reading \nMusic by Mich Sampson \n 
URL:https://sps.uk.com/event/erev-shabbat-service-3-2/
CATEGORIES:Shabbat Services
END:VEVENT
BEGIN:VEVENT
DTSTART;TZID=Europe/London:20220616T100000
DTEND;TZID=Europe/London:20220616T110000
DTSTAMP:20260420T014315
CREATED:20220329T191428Z
LAST-MODIFIED:20220329T192352Z
UID:3721-1655373600-1655377200@sps.uk.com
SUMMARY:Coffee and Learn
DESCRIPTION:Coffee & Learn with Rabbi Yuval \nThursday Mornings from 10.00am - 11.00am on Zoom \n  \nCain and Able\, Crime Drama\n  \nPlease contact Rabbi Yuval for more information \nTel: 020 8886 0050 / email: rabbi@sps.uk.com
URL:https://sps.uk.com/event/coffee-and-learn-9/
CATEGORIES:Adult Learners
END:VEVENT
BEGIN:VEVENT
DTSTART;TZID=Europe/London:20220615T130000
DTEND;TZID=Europe/London:20220615T150000
DTSTAMP:20260420T014315
CREATED:20220522T120610Z
LAST-MODIFIED:20220522T120610Z
UID:4008-1655298000-1655305200@sps.uk.com
SUMMARY:JACS
DESCRIPTION:  \n  \n  \n  \n  \n 
URL:https://sps.uk.com/event/jacs-8/
CATEGORIES:Social
END:VEVENT
BEGIN:VEVENT
DTSTART;TZID=Europe/London:20220614T200000
DTEND;TZID=Europe/London:20220614T211500
DTSTAMP:20260420T014315
CREATED:20220601T161928Z
LAST-MODIFIED:20220601T161928Z
UID:4082-1655236800-1655241300@sps.uk.com
SUMMARY:Kabbalah
DESCRIPTION:
URL:https://sps.uk.com/event/kabbalah-4/
CATEGORIES:Adult Learners
END:VEVENT
BEGIN:VEVENT
DTSTART;TZID=Europe/London:20220614T190000
DTEND;TZID=Europe/London:20220614T190000
DTSTAMP:20260420T014315
CREATED:20220325T203432Z
LAST-MODIFIED:20220325T203432Z
UID:3684-1655233200-1655233200@sps.uk.com
SUMMARY:Access to Judaism with Rabbi Yuval
DESCRIPTION:We meet every Tuesday evening during term time on Zoom\, beginning at 7pm. \nJewish history - Biblical times \nFor further details please contact Rabbi Yuval at rabbi@sps.uk.com or call him on 020 8866 0050
URL:https://sps.uk.com/event/access-to-judaism-with-rabbi-yuval-14/
CATEGORIES:Adult Learners
END:VEVENT
BEGIN:VEVENT
DTSTART;TZID=Europe/London:20220613T133000
DTEND;TZID=Europe/London:20220613T160000
DTSTAMP:20260420T014315
CREATED:20220522T115448Z
LAST-MODIFIED:20220522T115448Z
UID:3997-1655127000-1655136000@sps.uk.com
SUMMARY:Bridge Club
DESCRIPTION:
URL:https://sps.uk.com/event/bridge-club-19/
CATEGORIES:Other Groups and Clubs
END:VEVENT
BEGIN:VEVENT
DTSTART;TZID=Europe/London:20220613T103000
DTEND;TZID=Europe/London:20220613T103000
DTSTAMP:20260420T014315
CREATED:20220426T204125Z
LAST-MODIFIED:20220426T204125Z
UID:3913-1655116200-1655116200@sps.uk.com
SUMMARY:New Friends Group
DESCRIPTION:
URL:https://sps.uk.com/event/new-friends-group-5/
CATEGORIES:Social
END:VEVENT
BEGIN:VEVENT
DTSTART;TZID=Europe/London:20220611T110000
DTEND;TZID=Europe/London:20220611T110000
DTSTAMP:20260420T014315
CREATED:20220222T192533Z
LAST-MODIFIED:20220222T192533Z
UID:3446-1654945200-1654945200@sps.uk.com
SUMMARY:Shabbat Service 2
DESCRIPTION:Led by Rabbi Yuval \nClick here for Service 2 page 112 \nClick here for this week's readings \nThe concluding hymn is Yom Zeh on Page 644 \nIf you have a Yahrzeit and would like to have a mitzvah either on Zoom or at the Synagogue\, please email Lynda and we will allocate the reading of your choice\, if available. If attending in person\, you will be given priority when booking your place. \nOur prayer for those who are sick is recited at the Shabbat morning service so please let Lynda know if there is anyone you would like added to that list.
URL:https://sps.uk.com/event/shabbat-service-2-2/
CATEGORIES:Shabbat Services
END:VEVENT
BEGIN:VEVENT
DTSTART;TZID=Europe/London:20220610T200000
DTEND;TZID=Europe/London:20220610T200000
DTSTAMP:20260420T014315
CREATED:20220222T192229Z
LAST-MODIFIED:20220222T192229Z
UID:3436-1654891200-1654891200@sps.uk.com
SUMMARY:Erev Shabbat Service 2
DESCRIPTION:Led by Rabbi Yuval \nClick here for Service 2 page 75 \nClick here for this week's reading \nThe concluding hymn is Erev shel shoshanim on Page 651
URL:https://sps.uk.com/event/erev-shabbat-service-2-2/
CATEGORIES:Shabbat Services
END:VEVENT
BEGIN:VEVENT
DTSTART;TZID=Europe/London:20220609T100000
DTEND;TZID=Europe/London:20220609T110000
DTSTAMP:20260420T014315
CREATED:20220329T191336Z
LAST-MODIFIED:20220329T192305Z
UID:3719-1654768800-1654772400@sps.uk.com
SUMMARY:Coffee and Learn
DESCRIPTION:Coffee & Learn with Rabbi Yuval \nThursday Mornings from 10.00am - 11.00am on Zoom \n  \nAdam and Eve\, Love Story\n  \nPlease contact Rabbi Yuval for more information \nTel: 020 8886 0050 / email: rabbi@sps.uk.com
URL:https://sps.uk.com/event/coffee-and-learn-4/
CATEGORIES:Adult Learners
END:VEVENT
BEGIN:VEVENT
DTSTART;TZID=Europe/London:20220608T130000
DTEND;TZID=Europe/London:20220608T150000
DTSTAMP:20260420T014315
CREATED:20220522T120544Z
LAST-MODIFIED:20220522T120544Z
UID:4006-1654693200-1654700400@sps.uk.com
SUMMARY:JACS
DESCRIPTION:  \n  \n  \n  \n  \n 
URL:https://sps.uk.com/event/jacs-7/
CATEGORIES:Social
END:VEVENT
BEGIN:VEVENT
DTSTART;TZID=Europe/London:20220607T200000
DTEND;TZID=Europe/London:20220607T211500
DTSTAMP:20260420T014315
CREATED:20220601T161909Z
LAST-MODIFIED:20220601T161909Z
UID:4079-1654632000-1654636500@sps.uk.com
SUMMARY:Kabbalah
DESCRIPTION:
URL:https://sps.uk.com/event/kabbalah-3/
CATEGORIES:Adult Learners
END:VEVENT
BEGIN:VEVENT
DTSTART;TZID=Europe/London:20220607T190000
DTEND;TZID=Europe/London:20220607T190000
DTSTAMP:20260420T014315
CREATED:20220325T203014Z
LAST-MODIFIED:20220325T203014Z
UID:3682-1654628400-1654628400@sps.uk.com
SUMMARY:Access to Judaism with Rabbi Yuval
DESCRIPTION:We meet every Tuesday evening during term time on Zoom\, beginning at 7pm. \nTzedakah and Gemilut Chassadim (acts of loving-kindness) \nFor further details please contact Rabbi Yuval at rabbi@sps.uk.com or call him on 020 8866 0050
URL:https://sps.uk.com/event/access-to-judaism-with-rabbi-yuval-13/
CATEGORIES:Adult Learners
END:VEVENT
BEGIN:VEVENT
DTSTART;TZID=Europe/London:20220606T133000
DTEND;TZID=Europe/London:20220606T160000
DTSTAMP:20260420T014315
CREATED:20220522T115415Z
LAST-MODIFIED:20220522T115415Z
UID:3994-1654522200-1654531200@sps.uk.com
SUMMARY:Bridge Club
DESCRIPTION:
URL:https://sps.uk.com/event/bridge-club-18/
CATEGORIES:Other Groups and Clubs
END:VEVENT
BEGIN:VEVENT
DTSTART;TZID=Europe/London:20220605T110000
DTEND;TZID=Europe/London:20220605T110000
DTSTAMP:20260420T014315
CREATED:20220601T160855Z
LAST-MODIFIED:20220601T161115Z
UID:4076-1654426800-1654426800@sps.uk.com
SUMMARY:Shavuot Morning Service
DESCRIPTION:
URL:https://sps.uk.com/event/shavuot-morning-service/
CATEGORIES:Festival Services,Services,Shabbat Services
END:VEVENT
BEGIN:VEVENT
DTSTART;TZID=Europe/London:20220604T193000
DTEND;TZID=Europe/London:20220604T193000
DTSTAMP:20260420T014315
CREATED:20220427T154009Z
LAST-MODIFIED:20220601T155828Z
UID:3919-1654371000-1654371000@sps.uk.com
SUMMARY:Shavuot
DESCRIPTION:
URL:https://sps.uk.com/event/shavuot-2/
CATEGORIES:Festival Services
END:VEVENT
BEGIN:VEVENT
DTSTART;TZID=Europe/London:20220604T110000
DTEND;TZID=Europe/London:20220604T110000
DTSTAMP:20260420T014315
CREATED:20220222T191809Z
LAST-MODIFIED:20220222T191809Z
UID:3426-1654340400-1654340400@sps.uk.com
SUMMARY:Shabbat Service 1
DESCRIPTION:Led by Rabbi Yuval \nClick here for Service 1 page 105 \nClick here for this week's readings\, which are Numbers 6:1-12 and Judges 16:1-31 \nThe concluding hymn is Ein Keloheinu on Page 528 \nIf you have a Yahrzeit and would like to have a mitzvah either on Zoom or at the Synagogue\, please email Lynda and we will allocate the reading of your choice\, if available. If attending in person\, you will be given priority when booking your place. \nOur prayer for those who are sick is recited at the Shabbat morning service so please let Lynda know if there is anyone you would like added to that list.
URL:https://sps.uk.com/event/shabbat-service-1-2/
CATEGORIES:Shabbat Services
END:VEVENT
BEGIN:VEVENT
DTSTART;TZID=Europe/London:20220604T100000
DTEND;TZID=Europe/London:20220604T100000
DTSTAMP:20260420T014315
CREATED:20220601T163453Z
LAST-MODIFIED:20220601T163453Z
UID:4093-1654336800-1654336800@sps.uk.com
SUMMARY:Coffee & Schmooze
DESCRIPTION:
URL:https://sps.uk.com/event/coffee-schmooze-4/
CATEGORIES:Other Groups and Clubs
END:VEVENT
BEGIN:VEVENT
DTSTART;TZID=Europe/London:20220603T200000
DTEND;TZID=Europe/London:20220603T200000
DTSTAMP:20260420T014315
CREATED:20220222T191330Z
LAST-MODIFIED:20220222T191330Z
UID:3416-1654286400-1654286400@sps.uk.com
SUMMARY:Erev Shabbat Service 1
DESCRIPTION:Led by Rabbi Yuval \nClick here for Service 1 page 69 \nClick here for this week's reading \nThe concluding hymn is Sachki sachki on Page 197 \n  \n 
URL:https://sps.uk.com/event/erev-shabbat-service-1-2/
CATEGORIES:Shabbat Services
END:VEVENT
BEGIN:VEVENT
DTSTART;TZID=Europe/London:20220602T100000
DTEND;TZID=Europe/London:20220602T110000
DTSTAMP:20260420T014315
CREATED:20220329T191247Z
LAST-MODIFIED:20220329T192207Z
UID:3717-1654164000-1654167600@sps.uk.com
SUMMARY:Coffee and Learn
DESCRIPTION:Coffee & Learn with Rabbi Yuval \nThursday Mornings from 10.00am - 11.00am on Zoom \n\nJonah - the man and his fish\n  \nPlease contact Rabbi Yuval for more information \nTel: 020 8886 0050 / email: rabbi@sps.uk.com
URL:https://sps.uk.com/event/coffee-and-learn-3/
CATEGORIES:Adult Learners
END:VEVENT
BEGIN:VEVENT
DTSTART;TZID=Europe/London:20220601T130000
DTEND;TZID=Europe/London:20220601T150000
DTSTAMP:20260420T014315
CREATED:20220522T120516Z
LAST-MODIFIED:20220522T120516Z
UID:4003-1654088400-1654095600@sps.uk.com
SUMMARY:JACS
DESCRIPTION:  \n  \n  \n  \n  \n 
URL:https://sps.uk.com/event/jacs-6/
CATEGORIES:Social
END:VEVENT
BEGIN:VEVENT
DTSTART;TZID=Europe/London:20220531T190000
DTEND;TZID=Europe/London:20220531T190000
DTSTAMP:20260420T014315
CREATED:20220325T202904Z
LAST-MODIFIED:20220325T202904Z
UID:3680-1654023600-1654023600@sps.uk.com
SUMMARY:Access to Judaism with Rabbi Yuval
DESCRIPTION:We meet every Tuesday evening during term time on Zoom\, beginning at 7pm. \nShavuot: Sinai and giving of the Torah (Onsite) \nFor further details please contact Rabbi Yuval at rabbi@sps.uk.com or call him on 020 8866 0050
URL:https://sps.uk.com/event/access-to-judaism-with-rabbi-yuval-12/
CATEGORIES:Adult Learners
END:VEVENT
BEGIN:VEVENT
DTSTART;TZID=Europe/London:20220530T133000
DTEND;TZID=Europe/London:20220530T163000
DTSTAMP:20260420T014315
CREATED:20220331T203003Z
LAST-MODIFIED:20220505T170726Z
UID:3767-1653917400-1653928200@sps.uk.com
SUMMARY:Bridge Club
DESCRIPTION:Bridge Club\nEvery Monday\, from 1.30pm - 4.30pm\, in the Schindler Hall\nFor those who are not familiar with our Club\, Bridge is social rather competitive and there is no requirement to bring a partner. \nWe play the Chicago system\, which means if we have an odd number of players\, they will rotate in/out every four hands. \nThe donation per session is £2.50 and refreshments are provided. \nLooking forward to seeing you. \nFor further information please call Alex Kennedy on 07947 884239 or email kennedya180@gmail.com
URL:https://sps.uk.com/event/bridge-club-17/
CATEGORIES:Other Groups and Clubs
END:VEVENT
BEGIN:VEVENT
DTSTART;TZID=Europe/London:20220528T123000
DTEND;TZID=Europe/London:20220528T123000
DTSTAMP:20260420T014315
CREATED:20220406T145750Z
LAST-MODIFIED:20220408T102414Z
UID:3826-1653741000-1653741000@sps.uk.com
SUMMARY:SPS Social Committee Presents
DESCRIPTION:
URL:https://sps.uk.com/event/sps-social-committee-presents/
CATEGORIES:Advance Notice,Social
END:VEVENT
BEGIN:VEVENT
DTSTART;TZID=Europe/London:20220528T110000
DTEND;TZID=Europe/London:20220528T110000
DTSTAMP:20260420T014315
CREATED:20220222T194921Z
LAST-MODIFIED:20220222T194921Z
UID:3490-1653735600-1653735600@sps.uk.com
SUMMARY:Shabbat Service 4
DESCRIPTION:Led by Rabbi Yuval \nClick here for Service 4 page 122 \nClick here for this week's readings \nThe concluding hymn is Yah Ribbon on Page 647 \n  \nIf you have a Yahrzeit and would like to have a mitzvah either on Zoom or at the Synagogue\, please email Lynda and we will allocate the reading of your choice\, if available. If attending in person\, you will be given priority when booking your place. \nOur prayer for those who are sick is recited at the Shabbat morning service so please let Lynda know if there is anyone you would like added to that list.
URL:https://sps.uk.com/event/shabbat-service-4-2/
CATEGORIES:Shabbat Services
END:VEVENT
BEGIN:VEVENT
DTSTART;TZID=Europe/London:20220527T200000
DTEND;TZID=Europe/London:20220527T200000
DTSTAMP:20260420T014315
CREATED:20220222T194225Z
LAST-MODIFIED:20220222T201437Z
UID:3476-1653681600-1653681600@sps.uk.com
SUMMARY:Erev Shabbat Service 4
DESCRIPTION:Led by Barbara Martin and Bob Dulin \nClick here for Service 4 page 84 \nClick here for this week's reading \nThe concluding hymn is Ein Keloheinu on Page 528 \n \n  \nMich Sampson \n  \n 
URL:https://sps.uk.com/event/erev-shabbat-service-4/
CATEGORIES:Shabbat Services
END:VEVENT
END:VCALENDAR